BEGIN:VCALENDAR
VERSION:2.0
PRODID:-//Coordinación para la Igualdad de Género UNAM - ECPv6.15.20//NONSGML v1.0//EN
CALSCALE:GREGORIAN
METHOD:PUBLISH
X-WR-CALNAME:Coordinación para la Igualdad de Género UNAM
X-ORIGINAL-URL:https://coordinaciongenero.unam.mx
X-WR-CALDESC:Eventos para Coordinación para la Igualdad de Género UNAM
REFRESH-INTERVAL;VALUE=DURATION:PT1H
X-Robots-Tag:noindex
X-PUBLISHED-TTL:PT1H
BEGIN:VTIMEZONE
TZID:America/Chicago
BEGIN:DAYLIGHT
TZOFFSETFROM:-0600
TZOFFSETTO:-0500
TZNAME:CDT
DTSTART:20250309T080000
END:DAYLIGHT
BEGIN:STANDARD
TZOFFSETFROM:-0500
TZOFFSETTO:-0600
TZNAME:CST
DTSTART:20251102T070000
END:STANDARD
BEGIN:DAYLIGHT
TZOFFSETFROM:-0600
TZOFFSETTO:-0500
TZNAME:CDT
DTSTART:20260308T080000
END:DAYLIGHT
BEGIN:STANDARD
TZOFFSETFROM:-0500
TZOFFSETTO:-0600
TZNAME:CST
DTSTART:20261101T070000
END:STANDARD
BEGIN:DAYLIGHT
TZOFFSETFROM:-0600
TZOFFSETTO:-0500
TZNAME:CDT
DTSTART:20270314T080000
END:DAYLIGHT
BEGIN:STANDARD
TZOFFSETFROM:-0500
TZOFFSETTO:-0600
TZNAME:CST
DTSTART:20271107T070000
END:STANDARD
END:VTIMEZONE
BEGIN:VEVENT
DTSTART;TZID=America/Chicago:20260304T110000
DTEND;TZID=America/Chicago:20260708T170000
DTSTAMP:20260425T175116
CREATED:20260114T205651Z
LAST-MODIFIED:20260226T001013Z
UID:71220-1772622000-1783530000@coordinaciongenero.unam.mx
SUMMARY:Ciclo de conferencias: «Desde las periferias: represiones\, representaciones y resistencias de las mujeres afrolatinas\, afrocaribeñas y de la diáspora»
DESCRIPTION:14 de enero a 20 de mayo de 2026 | 11:00 h\nCiclo de conferencias: «Desde las periferias: represiones\, representaciones y resistencias de las mujeres afrolatinas\, afrocaribeñas y de la diáspora»\nOrganizada por: Museo de la Mujer.\nEste ciclo de conferencias se enmarca en el proyecto «Pensamiento crítico de Mujeres en América Latina y el Caribe. Orígenes\, diálogos e institucionalización 1870-1970». A las 11 horas (hora de la Ciudad de México).\nParticipante(s): Coordina Dr. Manuel Ramírez Chicharro (CSIC).\nDirigida a: Todo público.\nActividad en línea.\nPara recibir la liga de zoom se debe realizar un registro en: https://docs.google.com/forms/d/e/1FAIpQLSehpRgyZ1CDZaBBlBAPndetf8n4_DxtPqVOIix9jMPg3wA1Sw/viewform \nConsulta el programa completo: https://drive.google.com/file/d/1x9gDQYsG–PIHZyDT-7jrI-oNPiZJKm-/view?usp=drivesdk
URL:https://coordinaciongenero.unam.mx/evento/ciclo-de-conferencias-desde-las-periferias-represiones-representaciones-y-resistencias-de-las-mujeres-afrolatinas-afrocaribenas-y-de-la-diaspora/
LOCATION:Aula ZOOM
CATEGORIES:Feminismos
ATTACH;FMTTYPE=image/png:https://coordinaciongenero.unam.mx/wp-content/uploads/2021/01/unam-cigu-personas-orientadoras-textura.png
END:VEVENT
BEGIN:VEVENT
DTSTART;TZID=America/Chicago:20260415T110000
DTEND;TZID=America/Chicago:20260415T130000
DTSTAMP:20260425T175116
CREATED:20260114T220536Z
LAST-MODIFIED:20260114T220536Z
UID:71244-1776250800-1776258000@coordinaciongenero.unam.mx
SUMMARY:Conferencia: «Voces invisibilizadas: El feminismo negro en México y su lucha por el reconocimiento interseccional»
DESCRIPTION:15 de abril de 2026 | 11:00 h\nConferencia: «Voces invisibilizadas: El feminismo negro en México y su lucha por el reconocimiento interseccional»\nOrganizada por: Museo de la Mujer.\nEste ciclo de conferencias se enmarca en el proyecto «Pensamiento crítico de Mujeres en América Latina y el Caribe. Orígenes\, diálogos e institucionalización 1870-1970». A las 11 horas (hora de la Ciudad de México).\nParticipante(s): Ivette Salinas Carranza (Universidad Autónoma de Guerrero).\nDirigida a: Todo público.\nActividad en línea.\nPara recibir la liga de zoom se debe realizar un registro en: https://docs.google.com/forms/d/e/1FAIpQLSehpRgyZ1CDZaBBlBAPndetf8n4_DxtPqVOIix9jMPg3wA1Sw/viewform \nConsulta el programa completo: https://drive.google.com/file/d/1x9gDQYsG–PIHZyDT-7jrI-oNPiZJKm-/view?usp=drivesdk
URL:https://coordinaciongenero.unam.mx/evento/conferencia-voces-invisibilizadas-el-feminismo-negro-en-mexico-y-su-lucha-por-el-reconocimiento-interseccional/
LOCATION:Aula ZOOM
CATEGORIES:Feminismos
ATTACH;FMTTYPE=image/jpeg:https://coordinaciongenero.unam.mx/wp-content/uploads/2021/03/TEXTURA-1AÑO_ytthumbnail.jpg
END:VEVENT
BEGIN:VEVENT
DTSTART;TZID=America/Chicago:20260415T110000
DTEND;TZID=America/Chicago:20260415T170000
DTSTAMP:20260425T175116
CREATED:20260114T220729Z
LAST-MODIFIED:20260114T220729Z
UID:71246-1776250800-1776272400@coordinaciongenero.unam.mx
SUMMARY:Conferencia: «Encrucijada de horizontes y conocimientos: en busca de la construcción de un contexto interseccional para el movimiento feminista mexicano»
DESCRIPTION:15 de abril de 2026 | 11:00 h\nConferencia: «Encrucijada de horizontes y conocimientos: en busca de la construcción de un contexto interseccional para el movimiento feminista mexicano»\nOrganizada por: Museo de la Mujer.\nEste ciclo de conferencias se enmarca en el proyecto «Pensamiento crítico de Mujeres en América Latina y el Caribe. Orígenes\, diálogos e institucionalización 1870-1970». A las 11 horas (hora de la Ciudad de México).\nParticipante(s): Andréia Sousa da Silva (Universidade Federal de Santa Catarina).\nDirigida a: Todo público.\nActividad en línea.\nPara recibir la liga de zoom se debe realizar un registro en: https://docs.google.com/forms/d/e/1FAIpQLSehpRgyZ1CDZaBBlBAPndetf8n4_DxtPqVOIix9jMPg3wA1Sw/viewform \nConsulta el programa completo: https://drive.google.com/file/d/1x9gDQYsG–PIHZyDT-7jrI-oNPiZJKm-/view?usp=drivesdk
URL:https://coordinaciongenero.unam.mx/evento/conferencia-encrucijada-de-horizontes-y-conocimientos-en-busca-de-la-construccion-de-un-contexto-interseccional-para-el-movimiento-feminista-mexicano/
LOCATION:Aula ZOOM
CATEGORIES:Feminismos
ATTACH;FMTTYPE=image/png:https://coordinaciongenero.unam.mx/wp-content/uploads/2024/05/unam-cigu-texturas-eventos-3.png
END:VEVENT
BEGIN:VEVENT
DTSTART;TZID=America/Chicago:20260415T120000
DTEND;TZID=America/Chicago:20260415T140000
DTSTAMP:20260425T175116
CREATED:20260423T173302Z
LAST-MODIFIED:20260423T173302Z
UID:73406-1776254400-1776261600@coordinaciongenero.unam.mx
SUMMARY:Ponencia: «De la movilidad social precarizada a los nuevos malestares varoniles: desigualdades de género en tres actos»
DESCRIPTION:15 de abril de 2026 | 12:00 h\nPonencia: «De la movilidad social precarizada a los nuevos malestares varoniles: desigualdades de género en tres actos»\nOrganizada por: Seminario de Estudios de Género\, Centro de Investigaciones y Estudios de Género (CIEG)\, UNAM.\nLa actividad propone analizar las transformaciones en la movilidad social y su relación con los malestares contemporáneos de las masculinidades\, abordando las desigualdades de género desde una perspectiva crítica y estructural.\nParticipante(s): Dra. Fiorella Mancini.\nDirigida a: Todo público.\nActividad presencial.\nLugar: Aula 1 del CIEG de la Torre II de Humanidades\, ubicada en Circuito Interior Coyoacán Piso 7\, C.U.\, Coyoacán\, 04510\, Ciudad de México.
URL:https://coordinaciongenero.unam.mx/evento/ponencia-de-la-movilidad-social-precarizada-a-los-nuevos-malestares-varoniles-desigualdades-de-genero-en-tres-actos/
LOCATION:Aula 1 y 2 Del CIEG\, Piso 7\, Torre II De Humanidades C.U.
CATEGORIES:Masculinidades
ATTACH;FMTTYPE=image/jpeg:https://coordinaciongenero.unam.mx/wp-content/uploads/2020/11/fodo-textura.jpg
END:VEVENT
BEGIN:VEVENT
DTSTART;TZID=America/Chicago:20260415T120000
DTEND;TZID=America/Chicago:20260415T140000
DTSTAMP:20260425T175116
CREATED:20260424T215046Z
LAST-MODIFIED:20260424T215046Z
UID:73443-1776254400-1776261600@coordinaciongenero.unam.mx
SUMMARY:Conferencia: «Cine y género. 10 años después»
DESCRIPTION:15 de abril de 2026 | 12:00 h\nConferencia: «Cine y género. 10 años después»\nOrganizada por: Seminario Permanente de Cine y Género\, Filmoteca UNAM y Escuela Nacional de Artes Cinematográficas (ENAC)\, UNAM.\nLa actividad propone un balance\, diagnóstico y reflexión sobre los logros y desafíos que han enfrentado las realizadoras de cine en la última década (2015–2025)\, analizando avances y pendientes desde una perspectiva de género en la industria cinematográfica.\nParticipante(s): Maricarmen de Lara (ponente)\, Claudia Loredo (ponente)\, Guadalupe Ferrer (ponente)\, Ángeles Castro (ponente) y Montserrat Algarabel (moderadora).\nDirigida a: Todo público.\nActividad presencial.\nLugar: Sala Manuel González Casanova de la Escuela Nacional de Artes Cinematográficas (ENAC)\, ubicadas en Circuito Escolar s/n\, Ciudad Universitaria\, Coyoacán\, 04510\, Ciudad de México.
URL:https://coordinaciongenero.unam.mx/evento/conferencia-cine-y-genero-10-anos-despues/
LOCATION:Escuela Nacional de Artes Cinematográficas (ENAC)
CATEGORIES:Arte y género,Cine con perspectiva de género
ATTACH;FMTTYPE=image/png:https://coordinaciongenero.unam.mx/wp-content/uploads/2025/10/simposio-textura.png
END:VEVENT
END:VCALENDAR