BEGIN:VCALENDAR
VERSION:2.0
PRODID:-//Coordinación para la Igualdad de Género UNAM - ECPv6.15.20//NONSGML v1.0//EN
CALSCALE:GREGORIAN
METHOD:PUBLISH
X-WR-CALNAME:Coordinación para la Igualdad de Género UNAM
X-ORIGINAL-URL:https://coordinaciongenero.unam.mx
X-WR-CALDESC:Eventos para Coordinación para la Igualdad de Género UNAM
REFRESH-INTERVAL;VALUE=DURATION:PT1H
X-Robots-Tag:noindex
X-PUBLISHED-TTL:PT1H
BEGIN:VTIMEZONE
TZID:America/Chicago
BEGIN:DAYLIGHT
TZOFFSETFROM:-0600
TZOFFSETTO:-0500
TZNAME:CDT
DTSTART:20250309T080000
END:DAYLIGHT
BEGIN:STANDARD
TZOFFSETFROM:-0500
TZOFFSETTO:-0600
TZNAME:CST
DTSTART:20251102T070000
END:STANDARD
BEGIN:DAYLIGHT
TZOFFSETFROM:-0600
TZOFFSETTO:-0500
TZNAME:CDT
DTSTART:20260308T080000
END:DAYLIGHT
BEGIN:STANDARD
TZOFFSETFROM:-0500
TZOFFSETTO:-0600
TZNAME:CST
DTSTART:20261101T070000
END:STANDARD
BEGIN:DAYLIGHT
TZOFFSETFROM:-0600
TZOFFSETTO:-0500
TZNAME:CDT
DTSTART:20270314T080000
END:DAYLIGHT
BEGIN:STANDARD
TZOFFSETFROM:-0500
TZOFFSETTO:-0600
TZNAME:CST
DTSTART:20271107T070000
END:STANDARD
END:VTIMEZONE
BEGIN:VTIMEZONE
TZID:UTC
BEGIN:STANDARD
TZOFFSETFROM:+0000
TZOFFSETTO:+0000
TZNAME:UTC
DTSTART:20250101T000000
END:STANDARD
END:VTIMEZONE
BEGIN:VEVENT
DTSTART;TZID=America/Chicago:20260304T110000
DTEND;TZID=America/Chicago:20260708T170000
DTSTAMP:20260424T085151
CREATED:20260114T205651Z
LAST-MODIFIED:20260226T001013Z
UID:71220-1772622000-1783530000@coordinaciongenero.unam.mx
SUMMARY:Ciclo de conferencias: «Desde las periferias: represiones\, representaciones y resistencias de las mujeres afrolatinas\, afrocaribeñas y de la diáspora»
DESCRIPTION:14 de enero a 20 de mayo de 2026 | 11:00 h\nCiclo de conferencias: «Desde las periferias: represiones\, representaciones y resistencias de las mujeres afrolatinas\, afrocaribeñas y de la diáspora»\nOrganizada por: Museo de la Mujer.\nEste ciclo de conferencias se enmarca en el proyecto «Pensamiento crítico de Mujeres en América Latina y el Caribe. Orígenes\, diálogos e institucionalización 1870-1970». A las 11 horas (hora de la Ciudad de México).\nParticipante(s): Coordina Dr. Manuel Ramírez Chicharro (CSIC).\nDirigida a: Todo público.\nActividad en línea.\nPara recibir la liga de zoom se debe realizar un registro en: https://docs.google.com/forms/d/e/1FAIpQLSehpRgyZ1CDZaBBlBAPndetf8n4_DxtPqVOIix9jMPg3wA1Sw/viewform \nConsulta el programa completo: https://drive.google.com/file/d/1x9gDQYsG–PIHZyDT-7jrI-oNPiZJKm-/view?usp=drivesdk
URL:https://coordinaciongenero.unam.mx/evento/ciclo-de-conferencias-desde-las-periferias-represiones-representaciones-y-resistencias-de-las-mujeres-afrolatinas-afrocaribenas-y-de-la-diaspora/
LOCATION:Aula ZOOM
CATEGORIES:Feminismos
ATTACH;FMTTYPE=image/png:https://coordinaciongenero.unam.mx/wp-content/uploads/2021/01/unam-cigu-personas-orientadoras-textura.png
END:VEVENT
BEGIN:VEVENT
DTSTART;VALUE=DATE:20260309
DTEND;VALUE=DATE:20260401
DTSTAMP:20260424T085151
CREATED:20260305T222640Z
LAST-MODIFIED:20260306T004225Z
UID:72730-1773014400-1775001599@coordinaciongenero.unam.mx
SUMMARY:Cursos para personal académico de la UNAM (CIGU-PASD-Licenciatura) marzo 2026
DESCRIPTION:La Coordinación para la Igualdad de Género y el Programa de Actualización y Superación Docente (DGAPA-PASD-Licenciatura) invitan al personal académico de la UNAM a los cursos:  \n\nDocencia y perspectiva de género\nFacilita: Dra. Viridiana Becerril Fernández.\nID: 15346\nFechas y horarios: Martes y jueves del 10 al 26 de marzo de 2026\, en un horario de 16:00 a 18:30 h\nCurso a distancia por plataforma Zoom (trabajo asincrónico). \n \n\nFeminismo(s)\, sexo-género y violencia: relaciones con la docencia y la producción del conocimiento científico\nFacilita: Mtra. Laura Rosales Ponce de León.\nID: 15347\nFechas y horarios: Lunes a viernes del 23 al 27 de marzo de 2026\, en un horario de 16:00 a 20:00 h\nCurso a distancia por plataforma Zoom (trabajo asincrónico). \n\n\n¿Quiénes se puede inscribir a estos cursos?\nTe comentamos que los cursos del Programa de Actualización y Superación Docente contemplan únicamente al personal académico de la UNAM\, adscrito con número de trabajador(a/e) y que esté en la nómina. \nSin embargo\, existen otros casos que también se toman en cuenta y estos tienen sus propios requisitos: \nCASO 1: Persona académica en proceso de adscripción o docente en la UNAM\nSi existe una adscripción como Académico o Académica en proceso\, o bien\, que la persona postulante ha sido docente\, al menos en el semestre anterior inmediato en la Universidad. \nPara poder comprobar dicho proceso es necesario: \n\nContar con un documento oficial firmado y sellado por la autoridad competente (puede ser: copia de la hoja única de contratación\, credencial resellada\, talón de pago\, constancia de asignación de grupos vigente firmada y sellada por la entidad de adscripción). Esto aplicaría\, en todo caso\, para las\, los y les docentes o académicos que no se encuentren vigentes en nómina (pero que hayan tenido adscripción en el semestre inmediato anterior)\, los profesores cuya adscripción se encuentra en trámite y personas docentes jubiladas.\nPara efectuar este tipo de inscripción será necesario escribir a los correos electrónicos: actlic@dgapa.unam.mx y pasd@dgapa.unam.mx\, con la documentación anteriormente mencionada\, más los siguientes datos:\n\nel nombre del curso al que se desea inscribir\nnombre\nRFC\nCURP\ncorreo electrónico\nnúmero telefónico de contacto\n\n\n\nNota: Para que se les considere como personal académico de la UNAM\, la inscripción se llevará a cabo siempre y cuando la solicitud cumpla con lo antes descrito\, el curso tenga cupo y se realice dentro de los tiempos establecidos (a más tardar el día del inicio del curso). \nCASO 2: “Persona académica externa” adscrita o no a la UNAM\nEn el caso de que no se cuente con algún documento de esta índole\, debes registrarte bajo el procedimiento de “Persona académica externa”. Las personas docentes externas pueden ser académicas en otra institución adscrita a la UNAM (Medio Superior o Licenciatura)\, o bien\, de otra entidad educativa no adscrita a la Universidad. \nEn este caso\, los cursos tendrán costo. \n\nSi es por parte de una escuela incorporada el costo del curso es de 35 pesos por hora.\nPara escuelas no incorporadas el costo es de 50 por hora.\n\nImportante: El pago es único y no hay devolución. \nMayor información: \nCorreo de los cursos PASD: pasd@dgapa.unam.mx \n  \nINSCRIPCIONES Y PROGRAMAS AQUÍ\n  \nGuia de inscripción\n  \nPodría interesarte
URL:https://coordinaciongenero.unam.mx/evento/cursos-para-personal-academico-de-la-unam-cigu-pasd-marzo-2026/
LOCATION:Aula ZOOM
CATEGORIES:Curso,Educación para la igualdad,Prevención de la Violencia de Género,Violencia de Género
ATTACH;FMTTYPE=image/png:https://coordinaciongenero.unam.mx/wp-content/uploads/2022/04/cursosdocentes-imagenweb-04.png
END:VEVENT
BEGIN:VEVENT
DTSTART;VALUE=DATE:20260309
DTEND;VALUE=DATE:20260401
DTSTAMP:20260424T085151
CREATED:20260406T174256Z
LAST-MODIFIED:20260406T175951Z
UID:73148-1773014400-1775001599@coordinaciongenero.unam.mx
SUMMARY:Cursos para personal académico de la UNAM (CIGU-PASD-Licenciatura) abril 2026
DESCRIPTION:La Coordinación para la Igualdad de Género y el Programa de Actualización y Superación Docente (DGAPA-PASD-Licenciatura) invitan al personal académico de la UNAM a los cursos:  \n\nPerspectiva de género y docencia\nFacilita: Mtro. Marco Antonio Osorio Orozco.\nID: 15348\nFechas y horarios: Lunes\, miércoles y viernes del 06 al 22 de abril de 2026\, en un horario de 10:00 a 12:30 h\nCurso a distancia por plataforma Zoom (trabajo asincrónico). \n \n\nHerramientas digitales para docentes con perspectiva de género\nFacilitan: Mtra. Yareni Annalie Domínguez Delgado y Mtra. Karla Fabiola García Vega.\nID: 15349\nFechas y horarios: Martes y jueves del 07 al 23 de abril de 2026\, en un horario de 13:00 a 15:30 h\nCurso a distancia por plataforma Zoom (trabajo asincrónico). \n\n\n¿Quiénes se puede inscribir a estos cursos?\nTe comentamos que los cursos del Programa de Actualización y Superación Docente contemplan únicamente al personal académico de la UNAM\, adscrito con número de trabajador(a/e) y que esté en la nómina. \nSin embargo\, existen otros casos que también se toman en cuenta y estos tienen sus propios requisitos: \nCASO 1: Persona académica en proceso de adscripción o docente en la UNAM\nSi existe una adscripción como Académico o Académica en proceso\, o bien\, que la persona postulante ha sido docente\, al menos en el semestre anterior inmediato en la Universidad. \nPara poder comprobar dicho proceso es necesario: \n\nContar con un documento oficial firmado y sellado por la autoridad competente (puede ser: copia de la hoja única de contratación\, credencial resellada\, talón de pago\, constancia de asignación de grupos vigente firmada y sellada por la entidad de adscripción). Esto aplicaría\, en todo caso\, para las\, los y les docentes o académicos que no se encuentren vigentes en nómina (pero que hayan tenido adscripción en el semestre inmediato anterior)\, los profesores cuya adscripción se encuentra en trámite y personas docentes jubiladas.\nPara efectuar este tipo de inscripción será necesario escribir a los correos electrónicos: actlic@dgapa.unam.mx y pasd@dgapa.unam.mx\, con la documentación anteriormente mencionada\, más los siguientes datos:\n\nel nombre del curso al que se desea inscribir\nnombre\nRFC\nCURP\ncorreo electrónico\nnúmero telefónico de contacto\n\n\n\nNota: Para que se les considere como personal académico de la UNAM\, la inscripción se llevará a cabo siempre y cuando la solicitud cumpla con lo antes descrito\, el curso tenga cupo y se realice dentro de los tiempos establecidos (a más tardar el día del inicio del curso). \nCASO 2: “Persona académica externa” adscrita o no a la UNAM\nEn el caso de que no se cuente con algún documento de esta índole\, debes registrarte bajo el procedimiento de “Persona académica externa”. Las personas docentes externas pueden ser académicas en otra institución adscrita a la UNAM (Medio Superior o Licenciatura)\, o bien\, de otra entidad educativa no adscrita a la Universidad. \nEn este caso\, los cursos tendrán costo. \n\nSi es por parte de una escuela incorporada el costo del curso es de 35 pesos por hora.\nPara escuelas no incorporadas el costo es de 50 por hora.\n\nImportante: El pago es único y no hay devolución. \nMayor información: \nCorreo de los cursos PASD: pasd@dgapa.unam.mx \n  \nINSCRIPCIONES Y PROGRAMAS AQUÍ\n  \nGuia de inscripción\n  \nPodría interesarte
URL:https://coordinaciongenero.unam.mx/evento/cursos-para-personal-academico-de-la-unam-cigu-pasd-abril-2026/
LOCATION:Aula ZOOM
CATEGORIES:Curso,Educación para la igualdad,Prevención de la Violencia de Género,Violencia de Género
ATTACH;FMTTYPE=image/png:https://coordinaciongenero.unam.mx/wp-content/uploads/2022/04/cursosdocentes-imagenweb-04.png
END:VEVENT
BEGIN:VEVENT
DTSTART;TZID=America/Chicago:20260313T190000
DTEND;TZID=America/Chicago:20260327T203000
DTSTAMP:20260424T085151
CREATED:20260310T211134Z
LAST-MODIFIED:20260310T211134Z
UID:72863-1773428400-1774643400@coordinaciongenero.unam.mx
SUMMARY:Programa informativo en línea: «Ciclo 8M Deporte UNAM»
DESCRIPTION:6\, 13\, 20 y 27 de marzo de 2026 | 19:00 h\nPrograma informativo en línea: «Ciclo 8M Deporte UNAM»\nOrganizada por: Personas Orientadoras Comunitarias (POC) y Dirección General del Deporte Universitario\, a través del Departamento de Género y Deporte.\nEn el marco del Día Internacional de las Mujeres se realizará un ciclo de programas informativos transmitidos en línea para dialogar sobre el contexto sociohistórico del 8M\, la violencia estética y el control sobre el cuerpo de las mujeres\, las corporalidades diversas y el derecho a exigir espacios deportivos libres de violencia\, así como experiencias de deportistas universitarias en el marco de esta conmemoración.\nParticipante(s): N/A.\nDirigida a: Todo público.\nActividad en línea.\nSigue la transmisión: https://www.facebook.com/DeporteUNAM1
URL:https://coordinaciongenero.unam.mx/evento/programa-informativo-en-linea-ciclo-8m-deporte-unam/
LOCATION:Actividad en línea.
CATEGORIES:8M 2026
ATTACH;FMTTYPE=image/png:https://coordinaciongenero.unam.mx/wp-content/uploads/2025/02/8m-2025-pw_02.png
END:VEVENT
BEGIN:VEVENT
DTSTART;TZID=America/Chicago:20260314T080000
DTEND;TZID=America/Chicago:20260329T170000
DTSTAMP:20260424T085151
CREATED:20260305T222318Z
LAST-MODIFIED:20260310T212916Z
UID:72723-1773475200-1774803600@coordinaciongenero.unam.mx
SUMMARY:Campaña: «Campaña en redes sociales de todos los programas de la Secretaría de Extensión y Proyectos Digitales»
DESCRIPTION:8 al 23 de marzo de 2026 | Sin horario\nCampaña: «Campaña en redes sociales de todos los programas de la Secretaría de Extensión y Proyectos Digitales»\nOrganizada por: Secretaría de Extensión y Proyectos Digitales.\nSe realizará una campaña en todas las cuentas de los cuatro programas de la Secretaría de Extensión y Proyectos Digitales\, siguiendo los ejes sugeridos por la CIGU\, con la finalidad de compartir contenidos de los acervos relacionados con las mujeres y sus luchas\, su historia\, personas destacadas\, conceptos y experiencias.\nParticipante(s): Difusión Descarga Cultura.\nDirigida a: Todo público.\nActividad en línea.\nSigue la transmisión: https://linktr.ee/descarga_cultura_unam\nLugar: Plataformas digitales de los programas de la Secretaría de Extensión y Proyectos Digitales de la UNAM.
URL:https://coordinaciongenero.unam.mx/evento/campana-campana-en-redes-sociales-de-todos-los-programas-de-la-secretaria-de-extension-y-proyectos-digitales/
LOCATION:Actividad en línea.
CATEGORIES:8M 2026
ATTACH;FMTTYPE=image/png:https://coordinaciongenero.unam.mx/wp-content/uploads/2025/02/8m-2025-pw_02.png
END:VEVENT
BEGIN:VEVENT
DTSTART;TZID=America/Chicago:20260314T130000
DTEND;TZID=America/Chicago:20260328T140000
DTSTAMP:20260424T085151
CREATED:20260303T015252Z
LAST-MODIFIED:20260303T015252Z
UID:72530-1773493200-1774706400@coordinaciongenero.unam.mx
SUMMARY:Narración oral: «Cuentos para Tlatelolco»
DESCRIPTION:14 y 28 de marzo de 2026 | 13:00 h\nNarración oral: «Cuentos para Tlatelolco»\nOrganizada por: Centro Cultural Universitario Tlatelolco (CCUT).\nSesión de narración oral en la Biblioteca Alaíde Foppa\, donde egresadxs y estudiantes de los talleres de la UVA honrarán la memoria de Marcela Romero y de otras mujeres que han dejado huella en la cultura.\nParticipante(s): Narradorxs de la UVA.\nDirigida a: Todo público.\nActividad presencial.\nLugar: Biblioteca Alaíde Foppa\, Unidad de Vinculación Artística\, Centro Cultural Universitario Tlatelolco.
URL:https://coordinaciongenero.unam.mx/evento/narracion-oral-cuentos-para-tlatelolco/
LOCATION:Biblioteca Alaide Foppa de la Unidad de Vinculacion Artistica\, CCUT.\, Av. Ricardo Flores Magón 1\, Tlatelolco\, Cuauhtémoc\, CDMX\, CDMX\, 06900\, Mexico
CATEGORIES:8M 2026
ATTACH;FMTTYPE=image/png:https://coordinaciongenero.unam.mx/wp-content/uploads/2025/02/8m-2025-pw_04.png
END:VEVENT
BEGIN:VEVENT
DTSTART;TZID=America/Chicago:20260315T120000
DTEND;TZID=America/Chicago:20260406T140000
DTSTAMP:20260424T085151
CREATED:20260302T020149Z
LAST-MODIFIED:20260310T213359Z
UID:72428-1773576000-1775484000@coordinaciongenero.unam.mx
SUMMARY:Programa de radio: «Somos nosotras. Mujeres uniendo fuerzas»
DESCRIPTION:1 al 31 de marzo de 2026 | 12:00 h\nPrograma de radio: «Somos nosotras. Mujeres uniendo fuerzas»\nOrganizada por: Dirección General de Radio UNAM.\nSerie de cápsulas que muestra las experiencias de madres e hijas\, quienes a través de sus testimonios ofrecen su visión sobre la lucha de las mujeres\, una mirada que cruza generaciones y las une con base en la sororidad y el amor. Serán transmitidas durante todo el mes de marzo a través del 96.1 FM y 860 AM durante la programación del día.\nParticipante(s): No disponible.\nDirigida a: Todo público.\nActividad en línea.\nSigue la transmisión: https://www.radiopodcast.unam.mx
URL:https://coordinaciongenero.unam.mx/evento/programa-de-radio-somos-nosotras-mujeres-uniendo-fuerzas/
LOCATION:RADIO UNAM\, Adolfo Prieto 133\, Col. Del Valle\, Delegación Benito Juárez\, 03100\, Ciudad de México\, Ciudad de México\, Distrito Federal\, 03100\, Mexico
CATEGORIES:8M 2026
ATTACH;FMTTYPE=image/png:https://coordinaciongenero.unam.mx/wp-content/uploads/2025/02/8m-2025-pw_03.png
END:VEVENT
BEGIN:VEVENT
DTSTART;TZID=America/Chicago:20260319T120000
DTEND;TZID=America/Chicago:20260413T160000
DTSTAMP:20260424T085151
CREATED:20260311T235419Z
LAST-MODIFIED:20260311T235520Z
UID:72967-1773921600-1776096000@coordinaciongenero.unam.mx
SUMMARY:La Doble D: Descubre y Disfruta. Tu escuelita de educación sexual
DESCRIPTION:La Doble D: Descubre y Disfruta. Tu escuelita de educación sexual\nLa Doble D es un espacio seguro para hablar sobre el cuerpo\, las relaciones\, las emociones y el consentimiento. Está dirigida a estudiantes de 1° y 2° nivel de Iniciación Universitaria. \nVen y resuelve tus dudas ¡Conócete mejor! \nCalendario de sesiones:\nJueves 19 de marzo\nMartes 24 de marzo\nMiércoles 8 de abril\nLunes 13 de abril \n12 a 16 horas\nCupo limitado. Actividad presencial. \nRegístrate aquí: https://forms.gle/wX6P4sHib4fseFgM6 
URL:https://coordinaciongenero.unam.mx/evento/la-doble-d-descubre-y-disfruta-tu-escuelita-de-educacion-sexual/
CATEGORIES:Educación para la igualdad
ATTACH;FMTTYPE=image/png:https://coordinaciongenero.unam.mx/wp-content/uploads/2026/01/textura-morada-estrellas.png
END:VEVENT
BEGIN:VEVENT
DTSTART;TZID=America/Chicago:20260319T180000
DTEND;TZID=America/Chicago:20260330T193000
DTSTAMP:20260424T085151
CREATED:20260226T000452Z
LAST-MODIFIED:20260310T212842Z
UID:72390-1773943200-1774899000@coordinaciongenero.unam.mx
SUMMARY:Visita virtual a exposición: «Mujeres: las artes como historias de vida»
DESCRIPTION:8 y 19 de marzo de 2026 | 18:00 h\nVisita virtual a exposición: «Mujeres: las artes como historias de vida»\nOrganizada por: Centro Cultural Universitario Tlatelolco\, Instituto de Investigaciones Estéticas.\nSe trata de dos visitas virtuales que se darán a conocer a través de las redes sociales del CCUT (Facebook y Youtube) los días 8 y 19 de marzo. Las curadoras de la exposición realizarán dos recorridos a la exposición permanente “Xaltiloli\, espacio de memorias\, artes\, resistencias”\, para compartir una mirada a la diversidad cultural e histórica a través de las artes. Desde el arte prehispánico más antiguo hasta la perspectiva crítica de artistas contemporáneas\, las visitas buscan crear un espacio de reflexión sobre la transformación de los sentidos\, los cuerpos y las miradas desde la perspectiva femenina\, invitando a reconocer y respetar la multiculturalidad y las formas de sentirnos y definirnos.\nParticipante(s): María Isabel Álvarez Icaza (Instituto de Investigaciones Estéticas) y Lucía Sánchez de Bustamante (Centro Cultural Universitario Tlatelolco).\nDirigida a: Todo público.\nActividad en línea.\nSigue la transmisión: https://www.youtube.com/user/ccutlatelolco68
URL:https://coordinaciongenero.unam.mx/evento/visita-virtual-a-exposicion-mujeres-las-artes-como-historias-de-vida/
LOCATION:YouTube
CATEGORIES:8M 2026
ATTACH;FMTTYPE=image/png:https://coordinaciongenero.unam.mx/wp-content/uploads/2025/02/8m-2025-pw_02.png
END:VEVENT
BEGIN:VEVENT
DTSTART;TZID=America/Chicago:20260320T160000
DTEND;TZID=America/Chicago:20260327T180000
DTSTAMP:20260424T085151
CREATED:20260306T181209Z
LAST-MODIFIED:20260306T202410Z
UID:72755-1774022400-1774634400@coordinaciongenero.unam.mx
SUMMARY:Taller de bordado: «Hilando experiencias»
DESCRIPTION:20 de febrero de 2026 | 16:00 h\nTaller de bordado: «Hilando experiencias»\nOrganizada por: CInIG de la Escuela Nacional de Estudios Superiores Unidad Juriquilla.\nTaller abierto a la comunidad para la construcción de un espacio seguro que permita compartir experiencias mientras se realiza bordado colectivo. La actividad se llevará a cabo los días viernes 20 de febrero\, viernes 27 de febrero y viernes 6 de marzo\, fomentando el diálogo y el acompañamiento entre las personas participantes.\nParticipante(s): Laura Mayagoitia.\nDirigida a: Todo público.\nActividad presencial.\nLugar: Terraza del cuarto piso (fuera del CID)\, ENES Juriquilla.
URL:https://coordinaciongenero.unam.mx/evento/taller-de-bordado-hilando-experiencias/
LOCATION:Campus UNAM Juriquilla\, boulevard Universitario 3001\, Santiago de Querétaro\,\, Querétaro\, 76086\, Mexico
CATEGORIES:8M 2026
ATTACH;FMTTYPE=image/png:https://coordinaciongenero.unam.mx/wp-content/uploads/2025/02/8m-2025-pw_04.png
END:VEVENT
BEGIN:VEVENT
DTSTART;TZID=America/Chicago:20260322T120000
DTEND;TZID=America/Chicago:20260322T140000
DTSTAMP:20260424T085151
CREATED:20260302T042620Z
LAST-MODIFIED:20260302T042620Z
UID:72459-1774180800-1774188000@coordinaciongenero.unam.mx
SUMMARY:Encuentro interdisciplinar: «Las mujeres también hacemos ruido. Encuentro de mujeres bateristas»
DESCRIPTION:22 de marzo de 2026 | 12:00 h\nEncuentro interdisciplinar: «Las mujeres también hacemos ruido. Encuentro de mujeres bateristas»\nOrganizada por: Museo Universitario del Chopo.\nActividad que reúne a mujeres bateristas y percusionistas para visibilizar su trabajo\, compartir conocimientos y transformar el discurso sobre la participación femenina en la música. A través de charlas\, demostraciones y conciertos se impulsa una escena musical más diversa e inclusiva.\nParticipante(s): Mujeres bateristas.\nDirigida a: Todo público.\nActividad presencial.\nLugar: Foro del Dinosaurio\, Museo Universitario del Chopo.
URL:https://coordinaciongenero.unam.mx/evento/encuentro-interdisciplinar-las-mujeres-tambien-hacemos-ruido-encuentro-de-mujeres-bateristas/
LOCATION:Foro El Dinosaurio\, Museo Universitario del Chopo
CATEGORIES:8M 2026
ATTACH;FMTTYPE=image/png:https://coordinaciongenero.unam.mx/wp-content/uploads/2025/02/8m-2025-pw_05.png
END:VEVENT
END:VCALENDAR