BEGIN:VCALENDAR
VERSION:2.0
PRODID:-//Coordinación para la Igualdad de Género UNAM - ECPv6.15.20//NONSGML v1.0//EN
CALSCALE:GREGORIAN
METHOD:PUBLISH
X-WR-CALNAME:Coordinación para la Igualdad de Género UNAM
X-ORIGINAL-URL:https://coordinaciongenero.unam.mx
X-WR-CALDESC:Eventos para Coordinación para la Igualdad de Género UNAM
REFRESH-INTERVAL;VALUE=DURATION:PT1H
X-Robots-Tag:noindex
X-PUBLISHED-TTL:PT1H
BEGIN:VTIMEZONE
TZID:America/Chicago
BEGIN:DAYLIGHT
TZOFFSETFROM:-0600
TZOFFSETTO:-0500
TZNAME:CDT
DTSTART:20250309T080000
END:DAYLIGHT
BEGIN:STANDARD
TZOFFSETFROM:-0500
TZOFFSETTO:-0600
TZNAME:CST
DTSTART:20251102T070000
END:STANDARD
BEGIN:DAYLIGHT
TZOFFSETFROM:-0600
TZOFFSETTO:-0500
TZNAME:CDT
DTSTART:20260308T080000
END:DAYLIGHT
BEGIN:STANDARD
TZOFFSETFROM:-0500
TZOFFSETTO:-0600
TZNAME:CST
DTSTART:20261101T070000
END:STANDARD
BEGIN:DAYLIGHT
TZOFFSETFROM:-0600
TZOFFSETTO:-0500
TZNAME:CDT
DTSTART:20270314T080000
END:DAYLIGHT
BEGIN:STANDARD
TZOFFSETFROM:-0500
TZOFFSETTO:-0600
TZNAME:CST
DTSTART:20271107T070000
END:STANDARD
END:VTIMEZONE
BEGIN:VTIMEZONE
TZID:UTC
BEGIN:STANDARD
TZOFFSETFROM:+0000
TZOFFSETTO:+0000
TZNAME:UTC
DTSTART:20250101T000000
END:STANDARD
END:VTIMEZONE
BEGIN:VEVENT
DTSTART;TZID=America/Chicago:20260304T110000
DTEND;TZID=America/Chicago:20260708T170000
DTSTAMP:20260424T194403
CREATED:20260114T205651Z
LAST-MODIFIED:20260226T001013Z
UID:71220-1772622000-1783530000@coordinaciongenero.unam.mx
SUMMARY:Ciclo de conferencias: «Desde las periferias: represiones\, representaciones y resistencias de las mujeres afrolatinas\, afrocaribeñas y de la diáspora»
DESCRIPTION:14 de enero a 20 de mayo de 2026 | 11:00 h\nCiclo de conferencias: «Desde las periferias: represiones\, representaciones y resistencias de las mujeres afrolatinas\, afrocaribeñas y de la diáspora»\nOrganizada por: Museo de la Mujer.\nEste ciclo de conferencias se enmarca en el proyecto «Pensamiento crítico de Mujeres en América Latina y el Caribe. Orígenes\, diálogos e institucionalización 1870-1970». A las 11 horas (hora de la Ciudad de México).\nParticipante(s): Coordina Dr. Manuel Ramírez Chicharro (CSIC).\nDirigida a: Todo público.\nActividad en línea.\nPara recibir la liga de zoom se debe realizar un registro en: https://docs.google.com/forms/d/e/1FAIpQLSehpRgyZ1CDZaBBlBAPndetf8n4_DxtPqVOIix9jMPg3wA1Sw/viewform \nConsulta el programa completo: https://drive.google.com/file/d/1x9gDQYsG–PIHZyDT-7jrI-oNPiZJKm-/view?usp=drivesdk
URL:https://coordinaciongenero.unam.mx/evento/ciclo-de-conferencias-desde-las-periferias-represiones-representaciones-y-resistencias-de-las-mujeres-afrolatinas-afrocaribenas-y-de-la-diaspora/
LOCATION:Aula ZOOM
CATEGORIES:Feminismos
ATTACH;FMTTYPE=image/png:https://coordinaciongenero.unam.mx/wp-content/uploads/2021/01/unam-cigu-personas-orientadoras-textura.png
END:VEVENT
BEGIN:VEVENT
DTSTART;VALUE=DATE:20260309
DTEND;VALUE=DATE:20260401
DTSTAMP:20260424T194403
CREATED:20260305T222640Z
LAST-MODIFIED:20260306T004225Z
UID:72730-1773014400-1775001599@coordinaciongenero.unam.mx
SUMMARY:Cursos para personal académico de la UNAM (CIGU-PASD-Licenciatura) marzo 2026
DESCRIPTION:La Coordinación para la Igualdad de Género y el Programa de Actualización y Superación Docente (DGAPA-PASD-Licenciatura) invitan al personal académico de la UNAM a los cursos:  \n\nDocencia y perspectiva de género\nFacilita: Dra. Viridiana Becerril Fernández.\nID: 15346\nFechas y horarios: Martes y jueves del 10 al 26 de marzo de 2026\, en un horario de 16:00 a 18:30 h\nCurso a distancia por plataforma Zoom (trabajo asincrónico). \n \n\nFeminismo(s)\, sexo-género y violencia: relaciones con la docencia y la producción del conocimiento científico\nFacilita: Mtra. Laura Rosales Ponce de León.\nID: 15347\nFechas y horarios: Lunes a viernes del 23 al 27 de marzo de 2026\, en un horario de 16:00 a 20:00 h\nCurso a distancia por plataforma Zoom (trabajo asincrónico). \n\n\n¿Quiénes se puede inscribir a estos cursos?\nTe comentamos que los cursos del Programa de Actualización y Superación Docente contemplan únicamente al personal académico de la UNAM\, adscrito con número de trabajador(a/e) y que esté en la nómina. \nSin embargo\, existen otros casos que también se toman en cuenta y estos tienen sus propios requisitos: \nCASO 1: Persona académica en proceso de adscripción o docente en la UNAM\nSi existe una adscripción como Académico o Académica en proceso\, o bien\, que la persona postulante ha sido docente\, al menos en el semestre anterior inmediato en la Universidad. \nPara poder comprobar dicho proceso es necesario: \n\nContar con un documento oficial firmado y sellado por la autoridad competente (puede ser: copia de la hoja única de contratación\, credencial resellada\, talón de pago\, constancia de asignación de grupos vigente firmada y sellada por la entidad de adscripción). Esto aplicaría\, en todo caso\, para las\, los y les docentes o académicos que no se encuentren vigentes en nómina (pero que hayan tenido adscripción en el semestre inmediato anterior)\, los profesores cuya adscripción se encuentra en trámite y personas docentes jubiladas.\nPara efectuar este tipo de inscripción será necesario escribir a los correos electrónicos: actlic@dgapa.unam.mx y pasd@dgapa.unam.mx\, con la documentación anteriormente mencionada\, más los siguientes datos:\n\nel nombre del curso al que se desea inscribir\nnombre\nRFC\nCURP\ncorreo electrónico\nnúmero telefónico de contacto\n\n\n\nNota: Para que se les considere como personal académico de la UNAM\, la inscripción se llevará a cabo siempre y cuando la solicitud cumpla con lo antes descrito\, el curso tenga cupo y se realice dentro de los tiempos establecidos (a más tardar el día del inicio del curso). \nCASO 2: “Persona académica externa” adscrita o no a la UNAM\nEn el caso de que no se cuente con algún documento de esta índole\, debes registrarte bajo el procedimiento de “Persona académica externa”. Las personas docentes externas pueden ser académicas en otra institución adscrita a la UNAM (Medio Superior o Licenciatura)\, o bien\, de otra entidad educativa no adscrita a la Universidad. \nEn este caso\, los cursos tendrán costo. \n\nSi es por parte de una escuela incorporada el costo del curso es de 35 pesos por hora.\nPara escuelas no incorporadas el costo es de 50 por hora.\n\nImportante: El pago es único y no hay devolución. \nMayor información: \nCorreo de los cursos PASD: pasd@dgapa.unam.mx \n  \nINSCRIPCIONES Y PROGRAMAS AQUÍ\n  \nGuia de inscripción\n  \nPodría interesarte
URL:https://coordinaciongenero.unam.mx/evento/cursos-para-personal-academico-de-la-unam-cigu-pasd-marzo-2026/
LOCATION:Aula ZOOM
CATEGORIES:Curso,Educación para la igualdad,Prevención de la Violencia de Género,Violencia de Género
ATTACH;FMTTYPE=image/png:https://coordinaciongenero.unam.mx/wp-content/uploads/2022/04/cursosdocentes-imagenweb-04.png
END:VEVENT
BEGIN:VEVENT
DTSTART;VALUE=DATE:20260309
DTEND;VALUE=DATE:20260401
DTSTAMP:20260424T194403
CREATED:20260406T174256Z
LAST-MODIFIED:20260406T175951Z
UID:73148-1773014400-1775001599@coordinaciongenero.unam.mx
SUMMARY:Cursos para personal académico de la UNAM (CIGU-PASD-Licenciatura) abril 2026
DESCRIPTION:La Coordinación para la Igualdad de Género y el Programa de Actualización y Superación Docente (DGAPA-PASD-Licenciatura) invitan al personal académico de la UNAM a los cursos:  \n\nPerspectiva de género y docencia\nFacilita: Mtro. Marco Antonio Osorio Orozco.\nID: 15348\nFechas y horarios: Lunes\, miércoles y viernes del 06 al 22 de abril de 2026\, en un horario de 10:00 a 12:30 h\nCurso a distancia por plataforma Zoom (trabajo asincrónico). \n \n\nHerramientas digitales para docentes con perspectiva de género\nFacilitan: Mtra. Yareni Annalie Domínguez Delgado y Mtra. Karla Fabiola García Vega.\nID: 15349\nFechas y horarios: Martes y jueves del 07 al 23 de abril de 2026\, en un horario de 13:00 a 15:30 h\nCurso a distancia por plataforma Zoom (trabajo asincrónico). \n\n\n¿Quiénes se puede inscribir a estos cursos?\nTe comentamos que los cursos del Programa de Actualización y Superación Docente contemplan únicamente al personal académico de la UNAM\, adscrito con número de trabajador(a/e) y que esté en la nómina. \nSin embargo\, existen otros casos que también se toman en cuenta y estos tienen sus propios requisitos: \nCASO 1: Persona académica en proceso de adscripción o docente en la UNAM\nSi existe una adscripción como Académico o Académica en proceso\, o bien\, que la persona postulante ha sido docente\, al menos en el semestre anterior inmediato en la Universidad. \nPara poder comprobar dicho proceso es necesario: \n\nContar con un documento oficial firmado y sellado por la autoridad competente (puede ser: copia de la hoja única de contratación\, credencial resellada\, talón de pago\, constancia de asignación de grupos vigente firmada y sellada por la entidad de adscripción). Esto aplicaría\, en todo caso\, para las\, los y les docentes o académicos que no se encuentren vigentes en nómina (pero que hayan tenido adscripción en el semestre inmediato anterior)\, los profesores cuya adscripción se encuentra en trámite y personas docentes jubiladas.\nPara efectuar este tipo de inscripción será necesario escribir a los correos electrónicos: actlic@dgapa.unam.mx y pasd@dgapa.unam.mx\, con la documentación anteriormente mencionada\, más los siguientes datos:\n\nel nombre del curso al que se desea inscribir\nnombre\nRFC\nCURP\ncorreo electrónico\nnúmero telefónico de contacto\n\n\n\nNota: Para que se les considere como personal académico de la UNAM\, la inscripción se llevará a cabo siempre y cuando la solicitud cumpla con lo antes descrito\, el curso tenga cupo y se realice dentro de los tiempos establecidos (a más tardar el día del inicio del curso). \nCASO 2: “Persona académica externa” adscrita o no a la UNAM\nEn el caso de que no se cuente con algún documento de esta índole\, debes registrarte bajo el procedimiento de “Persona académica externa”. Las personas docentes externas pueden ser académicas en otra institución adscrita a la UNAM (Medio Superior o Licenciatura)\, o bien\, de otra entidad educativa no adscrita a la Universidad. \nEn este caso\, los cursos tendrán costo. \n\nSi es por parte de una escuela incorporada el costo del curso es de 35 pesos por hora.\nPara escuelas no incorporadas el costo es de 50 por hora.\n\nImportante: El pago es único y no hay devolución. \nMayor información: \nCorreo de los cursos PASD: pasd@dgapa.unam.mx \n  \nINSCRIPCIONES Y PROGRAMAS AQUÍ\n  \nGuia de inscripción\n  \nPodría interesarte
URL:https://coordinaciongenero.unam.mx/evento/cursos-para-personal-academico-de-la-unam-cigu-pasd-abril-2026/
LOCATION:Aula ZOOM
CATEGORIES:Curso,Educación para la igualdad,Prevención de la Violencia de Género,Violencia de Género
ATTACH;FMTTYPE=image/png:https://coordinaciongenero.unam.mx/wp-content/uploads/2022/04/cursosdocentes-imagenweb-04.png
END:VEVENT
BEGIN:VEVENT
DTSTART;TZID=America/Chicago:20260311T173000
DTEND;TZID=America/Chicago:20260318T183000
DTSTAMP:20260424T194403
CREATED:20260305T034456Z
LAST-MODIFIED:20260310T213730Z
UID:72664-1773250200-1773858600@coordinaciongenero.unam.mx
SUMMARY:Diálogo: «Margo Glantz y Paloma Vidal | Virginia Woolf y La señora Dalloway»
DESCRIPTION:11 y 18 de marzo de 2026 | 17:30 h\nDiálogo: «Margo Glantz y Paloma Vidal | Virginia Woolf y La señora Dalloway»\nOrganizada por: Coordinación de Difusión Cultural de la UNAM.\nConversación a cien años de la publicación de La señora Dalloway\, que aborda la vigencia de la obra de Woolf desde lo social\, lo íntimo\, lo histórico y la experiencia femenina.\nParticipante(s): Margo Glantz.\nDirigida a: Todo público.\nActividad en línea.\nSigue la transmisión: https://www.youtube.com/@CulturaenDirectoUNAM
URL:https://coordinaciongenero.unam.mx/evento/dialogo-margo-glantz-y-paloma-vidal-virginia-woolf-y-la-senora-dalloway/
LOCATION:Actividad en línea.
CATEGORIES:8M 2026
ATTACH;FMTTYPE=image/png:https://coordinaciongenero.unam.mx/wp-content/uploads/2025/02/8m-2025-pw_02.png
END:VEVENT
BEGIN:VEVENT
DTSTART;TZID=America/Chicago:20260313T100000
DTEND;TZID=America/Chicago:20260314T180000
DTSTAMP:20260424T194403
CREATED:20260306T204409Z
LAST-MODIFIED:20260306T204409Z
UID:72773-1773396000-1773511200@coordinaciongenero.unam.mx
SUMMARY:Pañuelazo
DESCRIPTION:13 y 14 de marzo de 2026 | Viernes 10:00 a 13:00 h y 16:00 a 18:00 h; sábado 11:00 a 13:00 h\n Pañuelazo\n Organizada por: CInIG de la Escuela Nacional de Trabajo Social.\n Espacio colectivo de memoria\, reflexión y continuidad de la lucha feminista desde el Trabajo Social\, subrayando la importancia de sostenerla en lo cotidiano y en las redes comunitarias.\n Participante(s): Unidad para la Igualdad de Género de la Escuela Nacional de Trabajo Social (UNIGENTS).\n Dirigida a: Todo público.\n Actividad presencial.\n Lugar: Explanada principal de la Escuela Nacional de Trabajo Social\, UNAM.
URL:https://coordinaciongenero.unam.mx/evento/panuelazo-2/
LOCATION:Explanada de la ENTS
CATEGORIES:8M 2026
ATTACH;FMTTYPE=image/png:https://coordinaciongenero.unam.mx/wp-content/uploads/2025/02/8m-2025-pw_01.png
END:VEVENT
BEGIN:VEVENT
DTSTART;TZID=America/Chicago:20260313T110000
DTEND;TZID=America/Chicago:20260313T120000
DTSTAMP:20260424T194403
CREATED:20260306T203710Z
LAST-MODIFIED:20260306T203710Z
UID:72765-1773399600-1773403200@coordinaciongenero.unam.mx
SUMMARY:Plática: «La complejidad en una vida académica»
DESCRIPTION:13 de marzo de 2026 | 11:00 a 12:00 h\nPlática: «La complejidad en una vida académica»\nOrganizada por: CInIG de la Facultad de Ciencias.\nLa plática reflexiona sobre las trayectorias académicas no lineales\, los procesos de construcción profesional y cómo el hecho de ser mujer no debe representar una limitación para desarrollar una vida en la ciencia.\nParticipante(s): Dra. Bibiana Obregón Quintana\, Departamento de Matemáticas\, Facultad de Ciencias\, UNAM.\nDirigida a: Todo público.\nActividad en línea.\nSigue la transmisión: https://www.facebook.com/EquidadFCUNAM/\nLugar: Transmisión en línea a través de los canales oficiales de Equidad de la Facultad de Ciencias\, UNAM.
URL:https://coordinaciongenero.unam.mx/evento/platica-la-complejidad-en-una-vida-academica/
LOCATION:Facebook
CATEGORIES:8M 2026
ATTACH;FMTTYPE=image/png:https://coordinaciongenero.unam.mx/wp-content/uploads/2025/02/8m-2025-pw_03.png
END:VEVENT
BEGIN:VEVENT
DTSTART;TZID=America/Chicago:20260313T110000
DTEND;TZID=America/Chicago:20260313T130000
DTSTAMP:20260424T194403
CREATED:20260302T071528Z
LAST-MODIFIED:20260302T071528Z
UID:72495-1773399600-1773406800@coordinaciongenero.unam.mx
SUMMARY:Cine debate: «Análisis de los personajes femeninos en la película: “Kiki: entregas a domicilio”»
DESCRIPTION:13 de marzo de 2026 | 11:00 h\nCine debate: «Análisis de los personajes femeninos en la película: “Kiki: entregas a domicilio”»\nOrganizada por: CInIG de la Escuela Nacional de Estudios Superiores Unidad León (ENES León).\nAnálisis de los estereotipos de género presentes en la película\, dialogando sobre su vigencia y recepción en las nuevas generaciones.\nParticipante(s): Julio César Rivera Andrade (ENES León).\nDirigida a: Comunidad estudiantil.\nActividad presencial.\nLugar: Escuela Nacional de Estudios Superiores Unidad León (ENES León).
URL:https://coordinaciongenero.unam.mx/evento/cine-debate-analisis-de-los-personajes-femeninos-en-la-pelicula-kiki-entregas-a-domicilio/
LOCATION:ENES León
CATEGORIES:8M 2026
ATTACH;FMTTYPE=image/png:https://coordinaciongenero.unam.mx/wp-content/uploads/2025/02/8m-2025-pw_04.png
END:VEVENT
BEGIN:VEVENT
DTSTART;TZID=America/Chicago:20260313T110000
DTEND;TZID=America/Chicago:20260313T130000
DTSTAMP:20260424T194403
CREATED:20260310T203838Z
LAST-MODIFIED:20260310T203838Z
UID:72859-1773399600-1773406800@coordinaciongenero.unam.mx
SUMMARY:Conferencia inaugural: «Principios feministas para transformar la ciudad»
DESCRIPTION:13 de marzo de 2026 | 11:00 h\nConferencia inaugural: «Principios feministas para transformar la ciudad»\nOrganizada por: Coordinación de Humanidades y Programa Universitario de Estudios sobre la Ciudad (PUEC).\nEn el marco del Seminario Ciudades para todas las personas\, inicia el ciclo Iniciativas ciudadanas para crear ciudades violetas\, con la conferencia inaugural de Zaida Muxí\, quien ha realizado aportaciones clave para comprender los principios del urbanismo feminista y su aplicación en el diseño y gestión de las ciudades.\nParticipante(s): Imparte Dra. Zaida Muxí Martínez (Faculty of Excellence EAAD\, Tecnológico de Monterrey). Comenta Dra. Juana Martínez Reséndiz (Universidad Autónoma Metropolitana Xochimilco).\nDirigida a: Todo público.\nActividad en línea.\nSigue la transmisión: https://www.youtube.com/@PUEC_UNAM/\nRegistro: https://docs.google.com/forms/d/e/1FAIpQLSdYvqO_OfcGJiF3Y6yh3VXpUvGMhMFPnQIqmcm0uj-93CIZpg/viewform
URL:https://coordinaciongenero.unam.mx/evento/conferencia-inaugural-principios-feministas-para-transformar-la-ciudad/
LOCATION:Actividad en línea.
CATEGORIES:8M 2026
ATTACH;FMTTYPE=image/png:https://coordinaciongenero.unam.mx/wp-content/uploads/2025/02/8m-2025-pw_04.png
END:VEVENT
BEGIN:VEVENT
DTSTART;TZID=America/Chicago:20260313T110000
DTEND;TZID=America/Chicago:20260313T130000
DTSTAMP:20260424T194403
CREATED:20260311T005142Z
LAST-MODIFIED:20260311T005142Z
UID:72932-1773399600-1773406800@coordinaciongenero.unam.mx
SUMMARY:Actividad lúdica: «Reconociendo a las mujeres en la ciencia»
DESCRIPTION:13 de marzo de 2026 | 11:10 h\nActividad lúdica: «Reconociendo a las mujeres en la ciencia»\nOrganizada por: CInIG Escuela Nacional Preparatoria Plantel 1 «Gabino Barreda» (ENP 1).\nDar información sobre los logros y retos que han enfrentado algunas mujeres científicas\, utilizando una actividad lúdica.\nParticipante(s): Profesoras de Prepa 1: Pilar Ortiz López; Iliana Ramírez Krauss; Lorena Miranda Cruz.\nDirigida a: Estudiantes de nivel medio superior.\nActividad presencial.\nLugar: Claustro\, Escuela Nacional Preparatoria Plantel 1 «Gabino Barreda» (ENP 1).
URL:https://coordinaciongenero.unam.mx/evento/reconociendo-mujeres/
LOCATION:Escuela Nacional Preparatoria Plantel 1 «Gabino Barreda»
CATEGORIES:8M 2026
ATTACH;FMTTYPE=image/png:https://coordinaciongenero.unam.mx/wp-content/uploads/2025/02/8m-2025-pw_04.png
END:VEVENT
BEGIN:VEVENT
DTSTART;TZID=America/Chicago:20260313T130000
DTEND;TZID=America/Chicago:20260313T150000
DTSTAMP:20260424T194403
CREATED:20260310T195739Z
LAST-MODIFIED:20260310T195739Z
UID:72845-1773406800-1773414000@coordinaciongenero.unam.mx
SUMMARY:Webinar: «Mujeres que impactan: construye un currículum con propósito»
DESCRIPTION:13 de marzo de 2026 | 13:00 h\n Webinar: «Mujeres que impactan: construye un currículum con propósito»\n Organizada por: Facultad de Estudios Superiores Acatlán.\n Fortalecer herramientas estratégicas para que las mujeres diseñen un currículum que refleje su trayectoria\, liderazgo y propósito profesional. Se solicita inscripción previa para participar.\n Participante(s): Shell & Quaker State.\n Dirigida a: Todo público.\n Actividad en línea.\nLiga de registro: https://forms.gle/qfTLpESvtqRjrByj7  
URL:https://coordinaciongenero.unam.mx/evento/webinar-mujeres-que-impactan-construye-un-curriculum-con-proposito/
LOCATION:Actividad en línea.
CATEGORIES:8M 2026
ATTACH;FMTTYPE=image/png:https://coordinaciongenero.unam.mx/wp-content/uploads/2025/02/8m-2025-pw_02.png
END:VEVENT
BEGIN:VEVENT
DTSTART;TZID=America/Chicago:20260313T133000
DTEND;TZID=America/Chicago:20260313T143000
DTSTAMP:20260424T194403
CREATED:20260310T215103Z
LAST-MODIFIED:20260310T215103Z
UID:72877-1773408600-1773412200@coordinaciongenero.unam.mx
SUMMARY:Conversatorio: «Proyectar caminos para los derechos humanos\, una visión multidisciplinaria»
DESCRIPTION:13 de marzo de 2026 | 13:30 h\nConversatorio: «Proyectar caminos para los derechos humanos\, una visión multidisciplinaria»\nOrganizada por: Programa Universitario de Derechos Humanos (PUDH).\nConversatorio permanente dedicado al análisis de los derechos humanos desde una perspectiva multidisciplinaria. En esta sesión se contará con la participación del titular de la Cátedra Extraordinaria «Trata de personas» de la UNAM.\nParticipante(s): Dr. Mario Luis Fuentes Alcalá (ponente); Mtro. Rubén Francisco Pérez Sánchez (investigador del PUDH-UNAM y conductor del evento).\nDirigida a: Todo público.\nActividad híbrida.\nSigue la transmisión: https://www.youtube.com/watch?v=TSGqBogTc3s
URL:https://coordinaciongenero.unam.mx/evento/conversatorio-proyectar-caminos-para-los-derechos-humanos-una-vision-multidisciplinaria-2/
LOCATION:Actividad en línea.
CATEGORIES:8M 2026
ATTACH;FMTTYPE=image/png:https://coordinaciongenero.unam.mx/wp-content/uploads/2025/02/8m-2025-pw_02.png
END:VEVENT
BEGIN:VEVENT
DTSTART;TZID=America/Chicago:20260313T160000
DTEND;TZID=America/Chicago:20260313T170000
DTSTAMP:20260424T194403
CREATED:20260306T204124Z
LAST-MODIFIED:20260306T204124Z
UID:72768-1773417600-1773421200@coordinaciongenero.unam.mx
SUMMARY:Plática: «Entre la ciencia y el cuidado: trayectoria académica y maternidad»
DESCRIPTION:13 de marzo de 2026 | 16:00 a 17:00 h\nPlática: «Entre la ciencia y el cuidado: trayectoria académica y maternidad»\nOrganizada por: CInIG de la Facultad de Ciencias.\nA partir de la experiencia personal de la ponente\, la charla aborda las tensiones entre la maternidad y la carrera científica\, los obstáculos culturales e institucionales\, y la conciliación entre el cuidado y la vida académica.\nParticipante(s): Dra. Rocío Vega Frutis\, Programa Académico de Biología\, Unidad Académica de Agricultura\, Universidad Autónoma de Nayarit.\nDirigida a: Todo público.\nActividad en línea.\nSigue la transmisión: https://www.facebook.com/EquidadFCUNAM/\nLugar: Transmisión en línea a través de los canales oficiales de Equidad de la Facultad de Ciencias\, UNAM.
URL:https://coordinaciongenero.unam.mx/evento/platica-entre-la-ciencia-y-el-cuidado-trayectoria-academica-y-maternidad/
LOCATION:Facebook
CATEGORIES:8M 2026
ATTACH;FMTTYPE=image/png:https://coordinaciongenero.unam.mx/wp-content/uploads/2025/02/8m-2025-pw_04.png
END:VEVENT
BEGIN:VEVENT
DTSTART;TZID=America/Chicago:20260313T170000
DTEND;TZID=America/Chicago:20260313T190000
DTSTAMP:20260424T194403
CREATED:20260306T204008Z
LAST-MODIFIED:20260306T204008Z
UID:72769-1773421200-1773428400@coordinaciongenero.unam.mx
SUMMARY:Taller: «Cumbia para morras. Cuestionemos los roles de género bailando»
DESCRIPTION:13 de marzo de 2026 | 17:00 h\nTaller: «Cumbia para morras. Cuestionemos los roles de género bailando»\nOrganizada por: Museo de las Constituciones.\nTaller que reflexiona sobre los roles de género interiorizados a través del cuerpo y las prácticas culturales\, utilizando el baile de cumbia como herramienta crítica y de reapropiación.\nParticipante(s): Addy Victoria Hurtazo Oliva.\nDirigida a: Mujeres a partir de los 14 años.\nActividad presencial.\nLugar: Museo de las Constituciones\, ubicado en calle del Carmen 31\, esquina San Ildefonso\, Centro Histórico de la Ciudad de México.
URL:https://coordinaciongenero.unam.mx/evento/taller-cumbia-para-morras-cuestionemos-los-roles-de-genero-bailando/
LOCATION:Museo de las Constituciones.
CATEGORIES:8M 2026
ATTACH;FMTTYPE=image/png:https://coordinaciongenero.unam.mx/wp-content/uploads/2025/02/8m-2025-pw_03.png
END:VEVENT
BEGIN:VEVENT
DTSTART;TZID=America/Chicago:20260313T190000
DTEND;TZID=America/Chicago:20260327T203000
DTSTAMP:20260424T194403
CREATED:20260310T211134Z
LAST-MODIFIED:20260310T211134Z
UID:72863-1773428400-1774643400@coordinaciongenero.unam.mx
SUMMARY:Programa informativo en línea: «Ciclo 8M Deporte UNAM»
DESCRIPTION:6\, 13\, 20 y 27 de marzo de 2026 | 19:00 h\nPrograma informativo en línea: «Ciclo 8M Deporte UNAM»\nOrganizada por: Personas Orientadoras Comunitarias (POC) y Dirección General del Deporte Universitario\, a través del Departamento de Género y Deporte.\nEn el marco del Día Internacional de las Mujeres se realizará un ciclo de programas informativos transmitidos en línea para dialogar sobre el contexto sociohistórico del 8M\, la violencia estética y el control sobre el cuerpo de las mujeres\, las corporalidades diversas y el derecho a exigir espacios deportivos libres de violencia\, así como experiencias de deportistas universitarias en el marco de esta conmemoración.\nParticipante(s): N/A.\nDirigida a: Todo público.\nActividad en línea.\nSigue la transmisión: https://www.facebook.com/DeporteUNAM1
URL:https://coordinaciongenero.unam.mx/evento/programa-informativo-en-linea-ciclo-8m-deporte-unam/
LOCATION:Actividad en línea.
CATEGORIES:8M 2026
ATTACH;FMTTYPE=image/png:https://coordinaciongenero.unam.mx/wp-content/uploads/2025/02/8m-2025-pw_02.png
END:VEVENT
BEGIN:VEVENT
DTSTART;TZID=America/Chicago:20260313T200000
DTEND;TZID=America/Chicago:20260315T220000
DTSTAMP:20260424T194403
CREATED:20260302T031537Z
LAST-MODIFIED:20260302T041946Z
UID:72453-1773432000-1773612000@coordinaciongenero.unam.mx
SUMMARY:Funciones de danza: «De ciertas ciudades»
DESCRIPTION:13 al 15 de marzo de 2026 | 20:00 h\nFunciones de danza: «De ciertas ciudades»\nOrganizada por: Dirección de Danza.\nObra coreográfica dirigida por Alejandra Hernández / Bruja Danza. De ciertas ciudades ofrece una visión aguda del pulso urbano: un mosaico de historias fragmentarias donde seres anónimos enfrentan conflictos y resoluciones indecibles en el caos de mundos que colisionan. Funciones: 13 de marzo 20:00 h; 14 de marzo 19:00 h; 15 de marzo 18:00 h. Costo $100.00\, aplican descuentos.\nParticipante(s): Dirección Alejandra Hernández.\nDirigida a: Todo público.\nActividad presencial.\nSigue la información: https://www.danza.unam.mx/\nLugar: Sala Miguel Covarrubias\, Centro Cultural Universitario.
URL:https://coordinaciongenero.unam.mx/evento/funciones-de-danza-de-ciertas-ciudades/
LOCATION:Salón de Ensayos de la sala Miguel Covarrubias\, Av. Insurgentes Sur #3000 Centro Coyoacán\, Ciudad de México\, 04510\, Mexico
CATEGORIES:Arte y género
ATTACH;FMTTYPE=image/png:https://coordinaciongenero.unam.mx/wp-content/uploads/2025/02/8m-2025-pw_03.png
END:VEVENT
END:VCALENDAR