BEGIN:VCALENDAR
VERSION:2.0
PRODID:-//Coordinación para la Igualdad de Género UNAM - ECPv6.15.20//NONSGML v1.0//EN
CALSCALE:GREGORIAN
METHOD:PUBLISH
X-WR-CALNAME:Coordinación para la Igualdad de Género UNAM
X-ORIGINAL-URL:https://coordinaciongenero.unam.mx
X-WR-CALDESC:Eventos para Coordinación para la Igualdad de Género UNAM
REFRESH-INTERVAL;VALUE=DURATION:PT1H
X-Robots-Tag:noindex
X-PUBLISHED-TTL:PT1H
BEGIN:VTIMEZONE
TZID:America/Chicago
BEGIN:DAYLIGHT
TZOFFSETFROM:-0600
TZOFFSETTO:-0500
TZNAME:CDT
DTSTART:20250309T080000
END:DAYLIGHT
BEGIN:STANDARD
TZOFFSETFROM:-0500
TZOFFSETTO:-0600
TZNAME:CST
DTSTART:20251102T070000
END:STANDARD
BEGIN:DAYLIGHT
TZOFFSETFROM:-0600
TZOFFSETTO:-0500
TZNAME:CDT
DTSTART:20260308T080000
END:DAYLIGHT
BEGIN:STANDARD
TZOFFSETFROM:-0500
TZOFFSETTO:-0600
TZNAME:CST
DTSTART:20261101T070000
END:STANDARD
BEGIN:DAYLIGHT
TZOFFSETFROM:-0600
TZOFFSETTO:-0500
TZNAME:CDT
DTSTART:20270314T080000
END:DAYLIGHT
BEGIN:STANDARD
TZOFFSETFROM:-0500
TZOFFSETTO:-0600
TZNAME:CST
DTSTART:20271107T070000
END:STANDARD
END:VTIMEZONE
BEGIN:VEVENT
DTSTART;TZID=America/Chicago:20260223T100000
DTEND;TZID=America/Chicago:20260309T190000
DTSTAMP:20260424T161838
CREATED:20260303T023130Z
LAST-MODIFIED:20260303T023130Z
UID:72551-1771840800-1773082800@coordinaciongenero.unam.mx
SUMMARY:Campaña especial: Buzones Violeta
DESCRIPTION:23 de febrero al 9 de marzo de 2026 | 10:00 a 19:00 h\nCampaña especial: Buzones Violeta\nOrganizada por: CInIG de la Coordinación de Evaluación\, Innovación y Desarrollo Educativos (CEIDE).\nEspacio de expresión y acompañamiento a través de mensajes\, cartas o frases dirigidas a las mujeres que integran la CEIDE.\nParticipante(s): Comunidad CEIDE.\nDirigida a: Comunidad CEIDE.\nActividad presencial.\nLugar: Instalaciones de la Coordinación de Evaluación\, Innovación y Desarrollo Educativos (CEIDE).
URL:https://coordinaciongenero.unam.mx/evento/campana-especial-buzones-violeta/
LOCATION:Centro de Formación y Profesionalización Docente (CFOP)\, CEIDE\, Avenida Ciudad Universitaria 298\, Col. Jardines del Pedregal\, Álvaro Obregón\,\, Ciudad de México\, 01900\, Mexico
CATEGORIES:8M 2026
ATTACH;FMTTYPE=image/png:https://coordinaciongenero.unam.mx/wp-content/uploads/2025/02/8m-2025-pw_03.png
END:VEVENT
BEGIN:VEVENT
DTSTART;TZID=America/Chicago:20260304T110000
DTEND;TZID=America/Chicago:20260708T170000
DTSTAMP:20260424T161838
CREATED:20260114T205651Z
LAST-MODIFIED:20260226T001013Z
UID:71220-1772622000-1783530000@coordinaciongenero.unam.mx
SUMMARY:Ciclo de conferencias: «Desde las periferias: represiones\, representaciones y resistencias de las mujeres afrolatinas\, afrocaribeñas y de la diáspora»
DESCRIPTION:14 de enero a 20 de mayo de 2026 | 11:00 h\nCiclo de conferencias: «Desde las periferias: represiones\, representaciones y resistencias de las mujeres afrolatinas\, afrocaribeñas y de la diáspora»\nOrganizada por: Museo de la Mujer.\nEste ciclo de conferencias se enmarca en el proyecto «Pensamiento crítico de Mujeres en América Latina y el Caribe. Orígenes\, diálogos e institucionalización 1870-1970». A las 11 horas (hora de la Ciudad de México).\nParticipante(s): Coordina Dr. Manuel Ramírez Chicharro (CSIC).\nDirigida a: Todo público.\nActividad en línea.\nPara recibir la liga de zoom se debe realizar un registro en: https://docs.google.com/forms/d/e/1FAIpQLSehpRgyZ1CDZaBBlBAPndetf8n4_DxtPqVOIix9jMPg3wA1Sw/viewform \nConsulta el programa completo: https://drive.google.com/file/d/1x9gDQYsG–PIHZyDT-7jrI-oNPiZJKm-/view?usp=drivesdk
URL:https://coordinaciongenero.unam.mx/evento/ciclo-de-conferencias-desde-las-periferias-represiones-representaciones-y-resistencias-de-las-mujeres-afrolatinas-afrocaribenas-y-de-la-diaspora/
LOCATION:Aula ZOOM
CATEGORIES:Feminismos
ATTACH;FMTTYPE=image/png:https://coordinaciongenero.unam.mx/wp-content/uploads/2021/01/unam-cigu-personas-orientadoras-textura.png
END:VEVENT
BEGIN:VEVENT
DTSTART;TZID=America/Chicago:20260306T100000
DTEND;TZID=America/Chicago:20260307T180000
DTSTAMP:20260424T161838
CREATED:20260305T045258Z
LAST-MODIFIED:20260305T045258Z
UID:72691-1772791200-1772906400@coordinaciongenero.unam.mx
SUMMARY:Carteles por la digna rabia
DESCRIPTION:6 de marzo de 2026 | 10:00 a 13:00 h y 16:00 a 18:00 h\n Carteles por la digna rabia\n Organizada por: CInIG de la Escuela Nacional de Trabajo Social (UNIGENTS).\n Actividad de creación colectiva de carteles como forma de expresión política y artística. La actividad también se realizará el sábado 7 de marzo de 11:00 a 13:00 h.\n Participante(s): Unidad para la Igualdad de Género de la Escuela Nacional de Trabajo Social (UNIGENTS).\n Dirigida a: Comunidad de la ENTS.\n Actividad presencial.\n Lugar: Explanada principal de la Escuela Nacional de Trabajo Social\, UNAM.
URL:https://coordinaciongenero.unam.mx/evento/carteles-por-la-digna-rabia/
LOCATION:Explanada de la Escuela Nacional de Trabajo Social (ENTS)
CATEGORIES:8M 2026
ATTACH;FMTTYPE=image/png:https://coordinaciongenero.unam.mx/wp-content/uploads/2025/02/8m-2025-pw_03.png
END:VEVENT
BEGIN:VEVENT
DTSTART;TZID=America/Chicago:20260307T080000
DTEND;TZID=America/Chicago:20260307T170000
DTSTAMP:20260424T161838
CREATED:20260226T000239Z
LAST-MODIFIED:20260226T000239Z
UID:72387-1772870400-1772902800@coordinaciongenero.unam.mx
SUMMARY:Funciones de danza: «Creadoras en el tiempo»\, «Solos & Duetos» y «Homenaje a Margarita Contreras»
DESCRIPTION:7 de marzo de 2026 | Diversos horarios\nFunciones de danza: «Creadoras en el tiempo»\, «Solos & Duetos» y «Homenaje a Margarita Contreras»\nOrganizada por: Taller Coreográfico de la UNAM\, Dirección de Danza UNAM.\nTres programas diferentes para visibilizar y reconocer el trabajo artístico y creativo de la mujer en el terreno de la danza\, siendo la protagonista principal de las propuestas que se presentarán en diversos foros y horarios.\nParticipante(s): Coreografías de Gloria Contreras\, Irina Marcano y Margarita Contreras\, quien ofrecerá un conversatorio en torno a su obra.\nDirigida a: Todo público.\nActividad presencial.\nSigue la información: https://www.facebook.com/TCUNAMOficial/ • https://www.instagram.com/tcunamoficial/
URL:https://coordinaciongenero.unam.mx/evento/solos-y-duetos/
LOCATION:Salón de Danza UNAM
CATEGORIES:8M 2026
ATTACH;FMTTYPE=image/png:https://coordinaciongenero.unam.mx/wp-content/uploads/2025/02/8m-2025-pw_03.png
END:VEVENT
BEGIN:VEVENT
DTSTART;TZID=America/Chicago:20260307T110000
DTEND;TZID=America/Chicago:20260307T123000
DTSTAMP:20260424T161838
CREATED:20260302T030833Z
LAST-MODIFIED:20260302T030833Z
UID:72451-1772881200-1772886600@coordinaciongenero.unam.mx
SUMMARY:Presentación de resultados de Residencia Artística: «Natura Naturans / Naturata»
DESCRIPTION:7 de marzo de 2026 | 11:00 h\nPresentación de resultados de Residencia Artística: «Natura Naturans / Naturata»\nOrganizada por: Casa del Lago «Juan José Arreola»\, en colaboración con el Ministerio de Cultura de Italia / Dirección General de Creatividad Contemporánea\, el Instituto Villa Adriana y Villa d’Este – VILLÆ y el Instituto Italiano di Cultura de Ciudad de México.\nLa artista italiana Camilla Alberti presentará los resultados de su residencia en la Ciudad de México. Su práctica interdisciplinaria —que incluye pintura\, escultura y bordado industrial— cuestiona el paradigma antropocéntrico y propone escenarios de coexistencia entre especies. A partir de la recolección de fragmentos de desechos industriales y elementos orgánicos\, explora procesos de transformación de la materia inspirados en técnicas ancestrales vinculadas a la alquimia y la brujería\, con el objetivo de imaginar nuevas formas de relación con lo no humano.\nParticipante(s): Camilla Alberti.\nDirigida a: Todo público.\nActividad presencial.\nSigue la información: https://casadellago.unam.mx/\nLugar: Casa del Lago «Juan José Arreola».
URL:https://coordinaciongenero.unam.mx/evento/presentacion-de-resultados-de-residencia-artistica-natura-naturans-naturata/
LOCATION:Casa del Lago Juan José Arreola
CATEGORIES:8M 2026
ATTACH;FMTTYPE=image/png:https://coordinaciongenero.unam.mx/wp-content/uploads/2025/02/8m-2025-pw_02.png
END:VEVENT
BEGIN:VEVENT
DTSTART;TZID=America/Chicago:20260307T190000
DTEND;TZID=America/Chicago:20260307T213000
DTSTAMP:20260424T161838
CREATED:20260302T042353Z
LAST-MODIFIED:20260302T042353Z
UID:72456-1772910000-1772919000@coordinaciongenero.unam.mx
SUMMARY:Concierto: «Cancioneras Indóciles. Músicas en el Chopo»
DESCRIPTION:7 de marzo de 2026 | 19:00 h\nConcierto: «Cancioneras Indóciles. Músicas en el Chopo»\nOrganizada por: Museo Universitario del Chopo.\nComo parte de su programa musical 2026\, el Museo Universitario del Chopo presenta el ciclo Cancioneras Indóciles\, que reúne a cantautoras de la escena mexicana cuyas letras construyen un canto común desde miradas singulares. En esta ocasión abre el ciclo la artista Flor Amargo.\nParticipante(s): Flor Amargo\, entre otras.\nDirigida a: Todo público.\nActividad presencial.\nLugar: Foro del Dinosaurio\, Museo Universitario del Chopo.
URL:https://coordinaciongenero.unam.mx/evento/concierto-cancioneras-indociles-musicas-en-el-chopo/
LOCATION:Foro El Dinosaurio\, Museo Universitario del Chopo
CATEGORIES:8M 2026
ATTACH;FMTTYPE=image/png:https://coordinaciongenero.unam.mx/wp-content/uploads/2025/02/8m-2025-pw_03.png
END:VEVENT
END:VCALENDAR