BEGIN:VCALENDAR
VERSION:2.0
PRODID:-//Coordinación para la Igualdad de Género UNAM - ECPv6.15.20//NONSGML v1.0//EN
CALSCALE:GREGORIAN
METHOD:PUBLISH
X-WR-CALNAME:Coordinación para la Igualdad de Género UNAM
X-ORIGINAL-URL:https://coordinaciongenero.unam.mx
X-WR-CALDESC:Eventos para Coordinación para la Igualdad de Género UNAM
REFRESH-INTERVAL;VALUE=DURATION:PT1H
X-Robots-Tag:noindex
X-PUBLISHED-TTL:PT1H
BEGIN:VTIMEZONE
TZID:America/Chicago
BEGIN:DAYLIGHT
TZOFFSETFROM:-0600
TZOFFSETTO:-0500
TZNAME:CDT
DTSTART:20250309T080000
END:DAYLIGHT
BEGIN:STANDARD
TZOFFSETFROM:-0500
TZOFFSETTO:-0600
TZNAME:CST
DTSTART:20251102T070000
END:STANDARD
BEGIN:DAYLIGHT
TZOFFSETFROM:-0600
TZOFFSETTO:-0500
TZNAME:CDT
DTSTART:20260308T080000
END:DAYLIGHT
BEGIN:STANDARD
TZOFFSETFROM:-0500
TZOFFSETTO:-0600
TZNAME:CST
DTSTART:20261101T070000
END:STANDARD
BEGIN:DAYLIGHT
TZOFFSETFROM:-0600
TZOFFSETTO:-0500
TZNAME:CDT
DTSTART:20270314T080000
END:DAYLIGHT
BEGIN:STANDARD
TZOFFSETFROM:-0500
TZOFFSETTO:-0600
TZNAME:CST
DTSTART:20271107T070000
END:STANDARD
END:VTIMEZONE
BEGIN:VEVENT
DTSTART;TZID=America/Chicago:20260210T130000
DTEND;TZID=America/Chicago:20260228T150000
DTSTAMP:20260425T212324
CREATED:20260209T220159Z
LAST-MODIFIED:20260209T220159Z
UID:71848-1770728400-1772290800@coordinaciongenero.unam.mx
SUMMARY:Campaña especial: «Las voces de la ciencia»
DESCRIPTION:10\, 16\, 24 y 28 de febrero de 2026 | 13:00 h\nCampaña especial: «Las voces de la ciencia»\nOrganizada por: Centro Cultural Universitario Tlatelolco\, UNAM.\nCampaña de cuatro cápsulas que busca dar a conocer la experiencia de investigadoras\, docentes y académicas universitarias\, promoviendo el interés por la formación en ciencias\, artes y humanidades entre las jóvenes.\nParticipante(s): María Isabel Álvarez Icaza; Elsa Arroyo Lemus; Sandra Zetina Ocaña; Lucía Sánchez de Bustamante.\nDirigida a: Todo público.\nActividad en línea.\nSigue la campaña: https://www.instagram.com/ccutxalti/ | https://www.facebook.com/CCUTXaltilolli/
URL:https://coordinaciongenero.unam.mx/evento/campana-especial-las-voces-de-la-ciencia/
LOCATION:Facebook
CATEGORIES:11F 2026
ATTACH;FMTTYPE=image/jpeg:https://coordinaciongenero.unam.mx/wp-content/uploads/2025/01/11f-2025-pw_03.jpg
END:VEVENT
BEGIN:VEVENT
DTSTART;TZID=America/Chicago:20260211T090000
DTEND;TZID=America/Chicago:20260225T170000
DTSTAMP:20260425T212324
CREATED:20260206T003559Z
LAST-MODIFIED:20260206T003559Z
UID:71689-1770800400-1772038800@coordinaciongenero.unam.mx
SUMMARY:Exposición de carteles: «La ciencia que nace de la tierra: mujeres\, pigmentos y resistencia»
DESCRIPTION:11 de febrero de 2026 | 09:00 h\nExposición de carteles: «La ciencia que nace de la tierra: mujeres\, pigmentos y resistencia» \nOrganizada por: CInIG del Colegio de Ciencias y Humanidades Plantel Vallejo (CCH Vallejo). \nExposición de mantas pintadas con extractos naturales que cuentan la historia y sentir de las mujeres. La muestra permanecerá vigente por 15 días. \nParticipante(s): Grupo de Química 203-A a cargo de la maestra Adriana Corrales Salinas.\nDirigida a: Todo público. \nActividad presencial. \nLugar: «Pizarras violetas» del edificio E\, planta baja del CCH plantel Vallejo\, ubicado en Avenida 100 Metros\, esquina con Avenida Fortuna\, Col. Magdalena de las Salinas\, Gustavo A. Madero\, 07760\, Ciudad de México.
URL:https://coordinaciongenero.unam.mx/evento/exposicion-de-carteles-la-ciencia-que-nace-de-la-tierra-mujeres-pigmentos-y-resistencia/
LOCATION:CCH Vallejo
CATEGORIES:11F 2026
ATTACH;FMTTYPE=image/jpeg:https://coordinaciongenero.unam.mx/wp-content/uploads/2025/01/11f-2025-pw_04.jpg
END:VEVENT
BEGIN:VEVENT
DTSTART;TZID=America/Chicago:20260218T110000
DTEND;TZID=America/Chicago:20260225T123000
DTSTAMP:20260425T212324
CREATED:20260211T225305Z
LAST-MODIFIED:20260211T225305Z
UID:72111-1771412400-1772022600@coordinaciongenero.unam.mx
SUMMARY:Conferencia: «Desde las periferias: represiones\, representaciones y resistencias de las mujeres afrolatinas\, afrocaribeñas y de la diáspora»
DESCRIPTION:4 de febrero de 2026 | 11:00 h\nConferencia: «Desde las periferias: represiones\, representaciones y resistencias de las mujeres afrolatinas\, afrocaribeñas y de la diáspora»\nOrganizada por: Museo de la Mujer.\nCiclo de conferencias los días 4\, 11\, 18 y 25 de febrero a las 11:00 horas\, en donde se plantea a las periferias como espacios marginalizados desde la perspectiva de la consustancialidad de opresiones\, para identificar las maneras en las que las mujeres afro han moldeado la historia desde los márgenes. En este mes se abordarán temas sobre educación\, representación de las mujeres afrolatinas y afrocaribeñas\, redes internacionales de saberes feministas y decoloniales\, migración y maternidades.\nParticipante(s):\n4 de febrero de 2026. Imaginarios y opinión pública. Panelistas: Claudia Ramos del Busto (Universidad de Guanajuato); María Dolores Ballesteros-Páez (Instituto Nacional de Antropología e Historia e Instituto de Investigaciones Antropológicas de la UNAM); Lixandra E. Díaz Portuondo (Proyecto “Discursivas” y Centro Integral de la Mujer Madre Tierra). Modera: Dra. Raquel Ramírez Salgado (FEMU/Escuela Feminista de Comunicación). \n11 de febrero de 2026. Redes internacionales. Panelistas: Alberto García Molinero (Universidad de Granada); Lucía María Busquier (Centro de Investigaciones María Saleme de Burnichon\, Facultad de Filosofía y Humanidades\, Universidad Nacional de Córdoba y Consejo Nacional de Investigaciones Científicas y Técnicas). Modera: Mtra. Tania Lizbeth Meléndez Elizalde (FEMU-FES Aragón UNAM). \n18 de febrero de 2026. Migraciones y maternidades (1). Panelistas: Greyser Coto Sardina (Universidad Iberoamericana Ciudad de México); Paola Páez Cadena (Facultad de Ciencias Políticas y Sociales\, UNAM). Modera: Mtra. María Fernanda Lavín Robles (FEMU). \n25 de febrero de 2026. Migraciones y maternidades (2). Panelistas: Verónica Guadalupe Ávalos Reyes (Universidad de Guadalajara); Jeriel Vargas Ambriz (Universidad Michoacana de San Nicolás de Hidalgo).\nDirigida a: Todo público.\nActividad en línea.\nSigue la transmisión: https://www.youtube.com/user/museoDeLaMujer
URL:https://coordinaciongenero.unam.mx/evento/conferencia-desde-las-periferias-represiones-representaciones-y-resistencias-de-las-mujeres-afrolatinas-afrocaribenas-y-de-la-diaspora/
LOCATION:YouTube
CATEGORIES:Feminismos
ATTACH;FMTTYPE=image/png:https://coordinaciongenero.unam.mx/wp-content/uploads/2024/05/unam-cigu-texturas-eventos-3.png
END:VEVENT
BEGIN:VEVENT
DTSTART;TZID=America/Chicago:20260220T190000
DTEND;TZID=America/Chicago:20260227T210000
DTSTAMP:20260425T212324
CREATED:20260130T235057Z
LAST-MODIFIED:20260303T054910Z
UID:71583-1771614000-1772226000@coordinaciongenero.unam.mx
SUMMARY:Programa informativo en línea: «Rebeldes y sabias; mujeres\, ciencia y deporte»
DESCRIPTION:Febrero de 2026 | 19:00 h\nPrograma informativo en línea: «Rebeldes y sabias; mujeres\, ciencia y deporte»\nOrganizada por: POC de la Dirección General del Deporte Universitario.\nTodos los viernes del mes de febrero\, a través de la página de Deporte UNAM en Facebook\, se dialogará sobre temas relacionados con la participación de las mujeres en las ciencias\, vinculando el ámbito científico con el deporte y la divulgación social.\nPrograma:\n6 de febrero: ¿Sabías qué se conmemora el 11F? \n13 de febrero: Rebeldes y sabias; mujeres\, ciencia y deporte \n20 de febrero: Club Mentoralia: Mujeres acercándose a la ciencia \n27 de febrero: Ciencia en México. Las niñas en la ciencia\, un compromiso social\nParticipante(s): Distintas ponentes especialistas.\nDirigida a: Todo público.\nActividad en línea.\nSigue la transmisión: https://www.facebook.com/DeporteUNAM1
URL:https://coordinaciongenero.unam.mx/evento/programa-informativo-en-linea-rebeldes-y-sabias-mujeres-ciencia-y-deporte/
LOCATION:Facebook
CATEGORIES:11F 2026
ATTACH;FMTTYPE=image/jpeg:https://coordinaciongenero.unam.mx/wp-content/uploads/2025/01/11f-2025-pw_01.jpg
END:VEVENT
BEGIN:VEVENT
DTSTART;TZID=America/Chicago:20260223T080000
DTEND;TZID=America/Chicago:20260228T170000
DTSTAMP:20260425T212324
CREATED:20260209T220031Z
LAST-MODIFIED:20260303T055638Z
UID:71846-1771833600-1772298000@coordinaciongenero.unam.mx
SUMMARY:Cápsulas en video: «Qué hacen las mujeres académicas del Instituto de Astronomía y del Observatorio Astronómico Nacional San Pedro Mártir»
DESCRIPTION:Febrero de 2026 | 10:00 h\nCápsulas en video: «Qué hacen las mujeres académicas del Instituto de Astronomía y del Observatorio Astronómico Nacional San Pedro Mártir»\nOrganizada por: Instituto de Astronomía (IA)\, UNAM.\nSerie de cápsulas en video que muestran el trabajo de mujeres de la comunidad académica del Instituto de Astronomía y del Observatorio Astronómico Nacional San Pedro Mártir\, difundidas a lo largo del mes de febrero en redes sociales.\nParticipante(s): Mujeres académicas del IA y del OAN-SPM.\nDirigida a: Todo público.\nActividad en línea.\nSigue la transmisión: https://www.facebook.com/iaensenada | https://www.facebook.com/observatoriospm
URL:https://coordinaciongenero.unam.mx/evento/capsulas-en-video-que-hacen-las-mujeres-academicas-del-instituto-de-astronomia-y-del-observatorio-astronomico-nacional-san-pedro-martir/
LOCATION:Facebook
CATEGORIES:11F 2026
ATTACH;FMTTYPE=image/jpeg:https://coordinaciongenero.unam.mx/wp-content/uploads/2025/01/11f-2025-pw_04.jpg
END:VEVENT
BEGIN:VEVENT
DTSTART;TZID=America/Chicago:20260223T100000
DTEND;TZID=America/Chicago:20260309T190000
DTSTAMP:20260425T212324
CREATED:20260303T023130Z
LAST-MODIFIED:20260303T023130Z
UID:72551-1771840800-1773082800@coordinaciongenero.unam.mx
SUMMARY:Campaña especial: Buzones Violeta
DESCRIPTION:23 de febrero al 9 de marzo de 2026 | 10:00 a 19:00 h\nCampaña especial: Buzones Violeta\nOrganizada por: CInIG de la Coordinación de Evaluación\, Innovación y Desarrollo Educativos (CEIDE).\nEspacio de expresión y acompañamiento a través de mensajes\, cartas o frases dirigidas a las mujeres que integran la CEIDE.\nParticipante(s): Comunidad CEIDE.\nDirigida a: Comunidad CEIDE.\nActividad presencial.\nLugar: Instalaciones de la Coordinación de Evaluación\, Innovación y Desarrollo Educativos (CEIDE).
URL:https://coordinaciongenero.unam.mx/evento/campana-especial-buzones-violeta/
LOCATION:Centro de Formación y Profesionalización Docente (CFOP)\, CEIDE\, Avenida Ciudad Universitaria 298\, Col. Jardines del Pedregal\, Álvaro Obregón\,\, Ciudad de México\, 01900\, Mexico
CATEGORIES:8M 2026
ATTACH;FMTTYPE=image/png:https://coordinaciongenero.unam.mx/wp-content/uploads/2025/02/8m-2025-pw_03.png
END:VEVENT
BEGIN:VEVENT
DTSTART;TZID=America/Chicago:20260223T110000
DTEND;TZID=America/Chicago:20260223T130000
DTSTAMP:20260425T212324
CREATED:20260210T000931Z
LAST-MODIFIED:20260210T000931Z
UID:71891-1771844400-1771851600@coordinaciongenero.unam.mx
SUMMARY:Conversatorio: «Mujeres en la ciencia: experiencias de investigación en la FCA»
DESCRIPTION:23 de febrero de 2026 | 11:00 h\n Conversatorio: «Mujeres en la ciencia: experiencias de investigación en la FCA»\n Organizada por: Personas Orientadoras Comunitarias (POC)\, Facultad de Contaduría y Administración\, UNAM.\n Conversatorio con profesoras eméritas de la Facultad de Contaduría y Administración para compartir experiencias de investigación y reflexionar sobre la trayectoria de las mujeres en el ámbito académico.\n Participante(s): Dra. Angélica Riveros Rosas.\n Dirigida a: Todo público.\n Actividad presencial.\n Lugar: Aula de Profesores Eméritos de la Facultad de Contaduría y Administración.
URL:https://coordinaciongenero.unam.mx/evento/conversatorio-mujeres-en-la-ciencia-experiencias-de-investigacion-en-la-fca/
LOCATION:Facultad de Contaduría y Administración
CATEGORIES:11F 2026
ATTACH;FMTTYPE=image/jpeg:https://coordinaciongenero.unam.mx/wp-content/uploads/2025/01/11f-2025-pw_05.jpg
END:VEVENT
BEGIN:VEVENT
DTSTART;TZID=America/Chicago:20260223T113000
DTEND;TZID=America/Chicago:20260223T130000
DTSTAMP:20260425T212324
CREATED:20260209T215525Z
LAST-MODIFIED:20260209T215525Z
UID:71842-1771846200-1771851600@coordinaciongenero.unam.mx
SUMMARY:Charla: «La mujer en la ciencia: historia\, actualidad y retos»
DESCRIPTION:23 de febrero de 2026 | 11:30 h\nCharla: «La mujer en la ciencia: historia\, actualidad y retos»\nOrganizada por: Facultad de Contaduría y Administración\, UNAM.\nEn el marco del 11F\, Día Internacional de las Mujeres y las Niñas en la Ciencia\, la Dra. Edith Calixto Pérez presenta un recorrido por la historia\, el panorama actual y los retos para cerrar la brecha de género en el desarrollo tecnológico en México.\nParticipante(s): Dra. Edith Calixto Pérez (SECIHTI).\nDirigida a: Todo público.\nActividad presencial.\nLugar: Auditorio C.P. Alfonso Ochoa Ravizé.
URL:https://coordinaciongenero.unam.mx/evento/charla-la-mujer-en-la-ciencia-historia-actualidad-y-retos/
LOCATION:Facultad de Contaduría y Administración
CATEGORIES:11F 2026
ATTACH;FMTTYPE=image/jpeg:https://coordinaciongenero.unam.mx/wp-content/uploads/2025/01/11f-2025-pw_01.jpg
END:VEVENT
BEGIN:VEVENT
DTSTART;TZID=America/Chicago:20260223T120000
DTEND;TZID=America/Chicago:20260223T140000
DTSTAMP:20260425T212324
CREATED:20260206T193225Z
LAST-MODIFIED:20260206T193225Z
UID:71738-1771848000-1771855200@coordinaciongenero.unam.mx
SUMMARY:Sesión: «In puksi'ik'al. Diversidad y tradición: diálogos sobre la diversidad sexual en el mundo maya»
DESCRIPTION:23 de febrero de 2026 | 12:00 h\nSesión: «In puksi’ik’al. Diversidad y tradición: diálogos sobre la diversidad sexual en el mundo maya»\nOrganizada por: Programa Universitario de Estudios de la Diversidad Cultural y la Interculturalidad (PUIC-UNAM).\nEn el marco del Seminario Permanente de Diversidad Sexual e Interculturalidad\, te invitamos a la 6ta sesión de nuestro seminario\, donde la Lic. Jasmín Magdalena Pech Monge nos guiará en la exploración de “In puksi’ik’al”\, compartiendo la crucial importancia de crear y difundir contenidos sobre diversidad sexual en lenguas originarias\, tanto de manera escrita como oral.\nParticipante(s): Lic. Jasmín Magdalena Pech Monge.\nDirigida a: Todo público.\nActividad en línea. \nSigue la transmisión: https://www.youtube.com/@PUIC_UNAM\nRegistro: https://forms.office.com/pages/responsepage.aspx?id=-iHHvg_1oEGOTQpN3ODkqN2n_8eouApIqEfXYAT5T_xUMFQyVVBYVFJDTUczV0FONTlSM1RVUlZZUC4u&route=shorturl
URL:https://coordinaciongenero.unam.mx/evento/sesion-in-puksiikal-diversidad-y-tradicion-dialogos-sobre-la-diversidad-sexual-en-el-mundo-maya/
LOCATION:Actividad en línea.
CATEGORIES:Diversidades y disidencias
ATTACH;FMTTYPE=image/png:https://coordinaciongenero.unam.mx/wp-content/uploads/2026/01/textura-morada-estrellas.png
END:VEVENT
BEGIN:VEVENT
DTSTART;TZID=America/Chicago:20260223T150000
DTEND;TZID=America/Chicago:20260223T170000
DTSTAMP:20260425T212324
CREATED:20260210T180325Z
LAST-MODIFIED:20260210T180325Z
UID:72042-1771858800-1771866000@coordinaciongenero.unam.mx
SUMMARY:Taller: «¡No caigas en la red! Aprende a detectar y prevenir delitos digitales»
DESCRIPTION:23 de febrero de 2026 | 15:00 a 17:00 h\nTaller: «¡No caigas en la red! Aprende a detectar y prevenir delitos digitales»\nOrganizada por: División de Estudios de Posgrado e Investigación de la Facultad de Psicología.\nSe brindará información sobre riesgos al navegar en internet\, alternativas de solución y actividades de reflexión a partir de casos hipotéticos.\nParticipante(s): Lic. Ethel Mendoza Cárdenas y Lic. Norma Evelyn Nieto Anguiano (Facultad de Psicología).\nDirigida a: Todo público.\nActividad presencial.\nLugar: Aula 11-12\, Edificio D\, planta baja\, Facultad de Psicología.\nInscripción: https://docs.google.com/forms/d/e/1FAIpQLSf9JZ-3OgZCAFicIEhB9zsmAhQGm9LFl0pirn4jXxiJg-0MRg/viewform?usp=publish-editor
URL:https://coordinaciongenero.unam.mx/evento/taller-no-caigas-en-la-red-aprende-a-detectar-y-prevenir-delitos-digitales/
LOCATION:Facultad de Psicología.\, Facultad de Psicología\, Circuito Escolar s/n\, C.U.\, Coyoacán\, 04510\, Ciudad de México.\, coyoacán\, Distrito Federal\, Mexico
CATEGORIES:Seguridad digital
ATTACH;FMTTYPE=image/jpeg:https://coordinaciongenero.unam.mx/wp-content/uploads/2021/03/TEXTURA-1AÑO_ytthumbnail.jpg
END:VEVENT
END:VCALENDAR