BEGIN:VCALENDAR
VERSION:2.0
PRODID:-//Coordinación para la Igualdad de Género UNAM - ECPv6.15.20//NONSGML v1.0//EN
CALSCALE:GREGORIAN
METHOD:PUBLISH
X-WR-CALNAME:Coordinación para la Igualdad de Género UNAM
X-ORIGINAL-URL:https://coordinaciongenero.unam.mx
X-WR-CALDESC:Eventos para Coordinación para la Igualdad de Género UNAM
REFRESH-INTERVAL;VALUE=DURATION:PT1H
X-Robots-Tag:noindex
X-PUBLISHED-TTL:PT1H
BEGIN:VTIMEZONE
TZID:America/Chicago
BEGIN:DAYLIGHT
TZOFFSETFROM:-0600
TZOFFSETTO:-0500
TZNAME:CDT
DTSTART:20250309T080000
END:DAYLIGHT
BEGIN:STANDARD
TZOFFSETFROM:-0500
TZOFFSETTO:-0600
TZNAME:CST
DTSTART:20251102T070000
END:STANDARD
BEGIN:DAYLIGHT
TZOFFSETFROM:-0600
TZOFFSETTO:-0500
TZNAME:CDT
DTSTART:20260308T080000
END:DAYLIGHT
BEGIN:STANDARD
TZOFFSETFROM:-0500
TZOFFSETTO:-0600
TZNAME:CST
DTSTART:20261101T070000
END:STANDARD
BEGIN:DAYLIGHT
TZOFFSETFROM:-0600
TZOFFSETTO:-0500
TZNAME:CDT
DTSTART:20270314T080000
END:DAYLIGHT
BEGIN:STANDARD
TZOFFSETFROM:-0500
TZOFFSETTO:-0600
TZNAME:CST
DTSTART:20271107T070000
END:STANDARD
END:VTIMEZONE
BEGIN:VEVENT
DTSTART;TZID=America/Chicago:20260116T120000
DTEND;TZID=America/Chicago:20260213T230000
DTSTAMP:20260425T213414
CREATED:20260116T225410Z
LAST-MODIFIED:20260116T225410Z
UID:71279-1768564800-1771023600@coordinaciongenero.unam.mx
SUMMARY:Sesión 1: «A cinco años del SPEMG. Reflexiones\, apuntes y balance»
DESCRIPTION:16 de enero de 2026 | 12:00 h\nSesión 1: «A cinco años del SPEMG. Reflexiones\, apuntes y balance»\nOrganizada por: CInIG de la Facultad de Música.\nEn el marco del aniversario número 5 del Seminario Permanente de Música y Género que se llevará a cabo del 16 de enero al 13 de noviembre de 2026. Registro para recibir constancia abierto hasta el 13 de marzo de 2026.\nParticipante(s): Dr. Malby Muñoz (FaM)\, Mtra. Verónica Villegas (FaM) y Mtra. Sandra Barranco (CIGU).\nDirigida a: Todo público.\nActividad en línea.\nSigue la transmisión: https://youtube.com/live/wS1V10A6ceU?feature=share\nConsulta el programa completo: https://www.facebook.com/share/p/17tGYPBFNT/?mibextid=wwXIfr\nRegistro: https://bit.ly/4aVz3Zu
URL:https://coordinaciongenero.unam.mx/evento/sesion-1-a-cinco-anos-del-spemg-reflexiones-apuntes-y-balance/
LOCATION:YouTube
CATEGORIES:Feminismos
ATTACH;FMTTYPE=image/png:https://coordinaciongenero.unam.mx/wp-content/uploads/2026/01/textura-morada-estrellas.png
END:VEVENT
BEGIN:VEVENT
DTSTART;TZID=America/Chicago:20260119T080000
DTEND;TZID=America/Chicago:20260218T170000
DTSTAMP:20260425T213414
CREATED:20260116T232704Z
LAST-MODIFIED:20260116T232704Z
UID:71283-1768809600-1771434000@coordinaciongenero.unam.mx
SUMMARY:Convocatoria: «Primer Certamen de Ensayo Feminista “Camila Henríquez Ureña”»
DESCRIPTION:Hasta el 15 de febrero | 23:59 h\nConvocatoria: «Primer Certamen de Ensayo Feminista “Camila Henríquez Ureña”»\nOrganizada por: Centro de Investigaciones y Estudios de Género (CIEG).\nLas personas interesadas en participar deberán formalizar su registro al concurso enviando un correo electrónico a la dirección certamen.camila.henriquez@cieg.unam.mx \n El asunto debe señalar: “Primer Certamen de Ensayo Feminista Camila Henríquez Ureña”. La extensión mínima es de 5 cuartillas (2000 palabras) y máxima de 15 cuartillas (6000 palabras) cuyo tema se enfoque en el estatuto de las mujeres en la sociedad.\nLa persona ganadora de cada categoría recibirá una tableta electrónica\, la publicación de su ensayo en la revista Debate Feminista\, una colección de libros\, un diploma de reconocimiento y un curso de escritura creativa a través de la plataforma Santander Open Academy. El resultado se hará público a más tardar el día 9 de abril de 2026 a través del portal electrónico del CIEG y\, posteriormente\, en Gaceta UNAM.\nDirigida a: Personas alumnas de bachillerato\, licenciatura y posgrado\, así como al personal académico y administrativo de la UNAM.\nConsulta la convocatoria completa: https://bit.ly/4iU5MQL \n 
URL:https://coordinaciongenero.unam.mx/evento/convocatoria-primer-certamen-de-ensayo-feminista-camila-henriquez-urena/
LOCATION:Centro de Investigaciones y Estudios de Género (CIEG)\, Torre II de Humanidades\, Circuito Interior Coyoacán Piso 7\, C.U.\, Coyoacán\, 04510\, Ciudad de México.\, Coyoacán\, Distrito Federal\, 04510\, Mexico
CATEGORIES:Convocatorias
ATTACH;FMTTYPE=image/jpeg:https://coordinaciongenero.unam.mx/wp-content/uploads/2020/11/fodo-textura.jpg
END:VEVENT
BEGIN:VEVENT
DTSTART;TZID=America/Chicago:20260121T133000
DTEND;TZID=America/Chicago:20260204T150000
DTSTAMP:20260425T213414
CREATED:20260121T185647Z
LAST-MODIFIED:20260130T215206Z
UID:71359-1769002200-1770217200@coordinaciongenero.unam.mx
SUMMARY:Taller: «Bordando tenangos»
DESCRIPTION:21 y 28 de enero\, y 4 de febrero de 2026 | 13:30 h\nTaller: «Bordando tenangos»\nOrganizada por: Departamento de Actividades Lúdicas del Centro de Enseñanza para Extranjeros (CEPE).\nTaller de bordado utilizando el estilo del tenango\, originario del municipio de Tenango de Doria\, en el estado de Hidalgo\, México.\nParticipante(s): Irma Hernández Torres (colectiva Sohuame Tlatzonkime\, Mujeres Bordadoras de Puebla).\nDirigida a: Todo público.\nActividad presencial.\nLugar: Patio central del CEPE.
URL:https://coordinaciongenero.unam.mx/evento/taller-bordando-tenangos/
LOCATION:Patio central del CEPE\, Av. Universidad 3002\, Col\, Copilco Universidad\, Coyoacán\, Ciudad de México\, Mexico
CATEGORIES:Arte y género
ATTACH;FMTTYPE=image/png:https://coordinaciongenero.unam.mx/wp-content/uploads/2021/01/unam-cigu-personas-orientadoras-textura2-e1630595419981.png
END:VEVENT
BEGIN:VEVENT
DTSTART;TZID=America/Chicago:20260130T080000
DTEND;TZID=America/Chicago:20260216T180000
DTSTAMP:20260425T213414
CREATED:20260128T204700Z
LAST-MODIFIED:20260130T212224Z
UID:71525-1769760000-1771264800@coordinaciongenero.unam.mx
SUMMARY:Convocatoria: «Concurso de dibujo: ¿cómo es el trabajo de una científica?»
DESCRIPTION:30 de enero al 16 de febrero de 2026 | 18:00 h\nConvocatoria: «Concurso de dibujo: ¿cómo es el trabajo de una científica?»\nOrganizada por: Comisión Interna para la Igualdad de Género y Personas Orientadoras Comunitarias del Instituto de Fisiología Celular (IFC-UNAM).\nEn el marco del 11 de febrero\, Día Internacional de las Niñas\, las Jóvenes y las Mujeres en la Ciencia\, el Instituto de Fisiología Celular (IFC-UNAM)\, a través de su Comisión Interna para la Igualdad de Género y las Personas Orientadoras Comunitarias\, convoca a niñas y niños de 6 a 14 años a participar en este concurso de dibujo. El objetivo es visibilizar el interés de las infancias y juventudes por el trabajo de las mujeres científicas\, especialmente en áreas STEM (Ciencia\, Tecnología\, Ingeniería y Matemáticas).\nDirigida a: Infancias de 6 a 14 años.\nConsulta la convocatoria completa: Concurso de Dibujo 11F_convocatoria.pdf
URL:https://coordinaciongenero.unam.mx/evento/convocatoria-concurso-de-dibujo-como-es-el-trabajo-de-una-cientifica/
CATEGORIES:11F 2026,Mujeres y niñas en las ciencias
ATTACH;FMTTYPE=image/jpeg:https://coordinaciongenero.unam.mx/wp-content/uploads/2025/01/11f-2025-pw_01.jpg
END:VEVENT
BEGIN:VEVENT
DTSTART;TZID=America/Chicago:20260201T110000
DTEND;TZID=America/Chicago:20260201T113000
DTSTAMP:20260425T213414
CREATED:20260324T233955Z
LAST-MODIFIED:20260324T233955Z
UID:73076-1769943600-1769945400@coordinaciongenero.unam.mx
SUMMARY:Violeta y Oro: Campañas antigénero. Neofacismo y ultraderecha
DESCRIPTION:No todos los ataques son visibles. Algunos se construyen en discursos\, en campañas y en narrativas que buscan desacreditar derechos\, conocimientos y luchas colectivas. \nEn este episodio de Violeta y Oro dialogamos con el sociólogo Éric Fassin\, especialista en estudios de género\, sobre el avance de las campañas antigénero y las ultraderechas a nivel global\, así como su relación con nuevas formas de neofascismo contemporáneo. \nA lo largo del podcast analizamos cómo estos movimientos no solo cuestionan los derechos de las mujeres y las diversidades\, sino que también representan ataques directos a la democracia\, al conocimiento científico y a la idea misma de verdad. Desde el concepto de “democracia sexual”\, Fassin propone entender estas disputas como parte central de las tensiones políticas actuales. \nPor ende\, reflexionamos sobre el origen y la expansión de estas campañas\, su vínculo con el populismo y el antiintelectualismo; así como las emociones que movilizan —como el resentimiento o la llamada “depresión militante”— frente a un escenario que a veces parece no tener alternativas. \nEn la sección «Chiques Violeta»\, abordamos qué es el fascismo\, cómo se manifestó y por qué se ha consolidado como una estrategia política clave de los movimientos neoconservadores en distintas partes del mundo. \nPieza musical «L’Aigle Noir»\, Barbara. \nConduce: Olivia Zerón Tena.
URL:https://coordinaciongenero.unam.mx/evento/violeta-y-oro-campanas-antigenero-neofacismo-y-ultraderecha/
CATEGORIES:Campañas Especiales,violeta y oro
ATTACH;FMTTYPE=image/jpeg:https://coordinaciongenero.unam.mx/wp-content/uploads/2026/03/ERIC-FASSIN-WEB.jpg
END:VEVENT
END:VCALENDAR