BEGIN:VCALENDAR
VERSION:2.0
PRODID:-//Coordinación para la Igualdad de Género UNAM - ECPv6.15.20//NONSGML v1.0//EN
CALSCALE:GREGORIAN
METHOD:PUBLISH
X-WR-CALNAME:Coordinación para la Igualdad de Género UNAM
X-ORIGINAL-URL:https://coordinaciongenero.unam.mx
X-WR-CALDESC:Eventos para Coordinación para la Igualdad de Género UNAM
REFRESH-INTERVAL;VALUE=DURATION:PT1H
X-Robots-Tag:noindex
X-PUBLISHED-TTL:PT1H
BEGIN:VTIMEZONE
TZID:America/Chicago
BEGIN:DAYLIGHT
TZOFFSETFROM:-0600
TZOFFSETTO:-0500
TZNAME:CDT
DTSTART:20240310T080000
END:DAYLIGHT
BEGIN:STANDARD
TZOFFSETFROM:-0500
TZOFFSETTO:-0600
TZNAME:CST
DTSTART:20241103T070000
END:STANDARD
BEGIN:DAYLIGHT
TZOFFSETFROM:-0600
TZOFFSETTO:-0500
TZNAME:CDT
DTSTART:20250309T080000
END:DAYLIGHT
BEGIN:STANDARD
TZOFFSETFROM:-0500
TZOFFSETTO:-0600
TZNAME:CST
DTSTART:20251102T070000
END:STANDARD
BEGIN:DAYLIGHT
TZOFFSETFROM:-0600
TZOFFSETTO:-0500
TZNAME:CDT
DTSTART:20260308T080000
END:DAYLIGHT
BEGIN:STANDARD
TZOFFSETFROM:-0500
TZOFFSETTO:-0600
TZNAME:CST
DTSTART:20261101T070000
END:STANDARD
BEGIN:DAYLIGHT
TZOFFSETFROM:-0600
TZOFFSETTO:-0500
TZNAME:CDT
DTSTART:20270314T080000
END:DAYLIGHT
BEGIN:STANDARD
TZOFFSETFROM:-0500
TZOFFSETTO:-0600
TZNAME:CST
DTSTART:20271107T070000
END:STANDARD
END:VTIMEZONE
BEGIN:VEVENT
DTSTART;TZID=America/Chicago:20251205T160000
DTEND;TZID=America/Chicago:20260130T180000
DTSTAMP:20260424T120758
CREATED:20250903T203324Z
LAST-MODIFIED:20251128T224446Z
UID:67997-1764950400-1769796000@coordinaciongenero.unam.mx
SUMMARY:Seminario Permanente de Cine y Género: "Violencias y discriminación en el mundo del deporte: reflexiones desde las perspectivas de género".
DESCRIPTION:31 de octubre a 30 de enero de 2026 |16:00 a 18:00 hrs \nSeminario Permanente de Cine y Género: “Violencias y discriminación en el mundo del deporte: reflexiones desde las perspectivas de género”.\nSeminario en línea\, gratuito\, previa inscripción. Viernes 26 de septiembre\, 31 de octubre\, 21 de noviembre\, 5 de diciembre y 30 de enero de 2026. De 16-18 horas \nSe viene la Copa Mundial de Fútbol de 2026 en México\, y es urgente reflexionar sobre cómo el género atraviesa no sólo este evento deportivo sino todo el mundo del deporte.\nNo te pierdas de este seminario\, es gratuito y con cineastas del más alto nivel. \n\n\n\nInformes e inscripciones: cineygenero@filmoteca.unam.mx \n  \n\n\n\n\n\n\n\n\n\n\n\n\n\n\n\n\n Enlace de registro \n\n\n\n\n  \n \nConsulta toda la información aquí.
URL:https://coordinaciongenero.unam.mx/evento/seminario-permanente-cine-deporte/
CATEGORIES:Género y deporte,Violencia de Género
ATTACH;FMTTYPE=image/jpeg:https://coordinaciongenero.unam.mx/wp-content/uploads/2025/09/Cine-y-genero-deporte-filmoteca.jpeg
END:VEVENT
BEGIN:VEVENT
DTSTART;TZID=America/Chicago:20260114T160000
DTEND;TZID=America/Chicago:20260127T200000
DTSTAMP:20260424T120758
CREATED:20260113T224227Z
LAST-MODIFIED:20260113T224825Z
UID:71163-1768406400-1769544000@coordinaciongenero.unam.mx
SUMMARY:Curso: «Construcción de alternativas socialmente sostenibles»
DESCRIPTION:3 de febrero de 2026 | 16:00 a 20:00 h\nCurso: «Construcción de alternativas socialmente sostenibles»\nÚnete a este curso en modalidad a distancia. Dirigido a estudiantes de posgrado en Ciencias Sociales y Humanidades de la UNAM. Su duración es del martes 3 de febrero al 26 de mayo de 2026\, en un horario de 16 a 20 horas (horario de la CDMX). El cierre de inscripciones es el 26 de enero. El curso no tiene costo.\nParticipante(s): Dra. María de Jesús Ordóñez Díaz (CRIM).\nDirigida a: Estudiantes de posgrado en Ciencias Sociales y Humanidades de la UNAM.\nActividad en línea.\nInformes y registro: https://www.crim.unam.mx/eventos/mts_construccion_20262/ 
URL:https://coordinaciongenero.unam.mx/evento/curso-construccion-de-alternativas-socialmente-sostenibles/
LOCATION:Aula ZOOM
CATEGORIES:Medio Ambiente
ATTACH;FMTTYPE=image/png:https://coordinaciongenero.unam.mx/wp-content/uploads/2026/01/textura-morada-estrellas.png
END:VEVENT
BEGIN:VEVENT
DTSTART;TZID=America/Chicago:20260115T080000
DTEND;TZID=America/Chicago:20260126T170000
DTSTAMP:20260424T120758
CREATED:20260113T224448Z
LAST-MODIFIED:20260113T224448Z
UID:71165-1768464000-1769446800@coordinaciongenero.unam.mx
SUMMARY:Curso: «Violencia social y simbólica»
DESCRIPTION:5 de febrero de 2026 | 16:00 a 20:00 h\nCurso: «Violencia social y simbólica»\nÚnete a este curso en modalidad a distancia donde se identificarán las principales teorías y enfoques para entender la violencia social y simbólica\, así como sus diversas formas de manifestarse. \nDirigido a estudiantes de posgrado en Ciencias Sociales y Humanidades de la UNAM. Su duración es del jueves 5 de febrero al 28 de mayo de 2026\, en un horario de 16 a 20 horas (horario de la CDMX). El cierre de inscripciones es el 26 de enero. El curso no tiene costo.\nParticipante(s): Dra. Eréndira Serrano Oswald (CRIM).\nDirigida a: Estudiantes de posgrado en Ciencias Sociales y Humanidades de la UNAM.\nActividad en línea.\nInformes y registro: https://www.crim.unam.mx/eventos/mts_simbolica_20262/ 
URL:https://coordinaciongenero.unam.mx/evento/curso-violencia-social-y-simbolica/
LOCATION:Aula ZOOM
CATEGORIES:Prevención de la Violencia de Género
ATTACH;FMTTYPE=image/jpeg:https://coordinaciongenero.unam.mx/wp-content/uploads/2021/03/TEXTURA-1AÑO_ytthumbnail.jpg
END:VEVENT
BEGIN:VEVENT
DTSTART;TZID=America/Chicago:20260115T080000
DTEND;TZID=America/Chicago:20260126T170000
DTSTAMP:20260424T120758
CREATED:20260113T224711Z
LAST-MODIFIED:20260113T224711Z
UID:71167-1768464000-1769446800@coordinaciongenero.unam.mx
SUMMARY:Curso: «Igualdad de género\, vida cotidiana y cuidados»
DESCRIPTION:9 de febrero de 2026 | 16:00 a 20:00 h\nCurso: «Igualdad de género\, vida cotidiana y cuidados»\nÚnete a este curso en modalidad a distancia donde se analizarán los cuidados\, la vida cotidiana y su relación con la igualdad de género\, para comprender la importancia de posicionar los cuidados desde un enfoque feminista.  Dirigido a estudiantes de posgrado en Ciencias Sociales y Humanidades de la UNAM. Su duración es del martes 9 de febrero al 25 de mayo de 2026\, en un horario de 16 a 20 horas (horario de la CDMX). El cierre de inscripciones es el 26 de enero. El curso no tiene costo.\nParticipante(s): Dra. Sandra Villalobos Nájera (CRIM).\nDirigida a: Estudiantes de posgrado en Ciencias Sociales y Humanidades de la UNAM.\nActividad en línea.\nInformes y registro: https://www.crim.unam.mx/eventos/mts_igualdad_20262/ 
URL:https://coordinaciongenero.unam.mx/evento/curso-igualdad-de-genero-vida-cotidiana-y-cuidados/
LOCATION:Aula ZOOM
CATEGORIES:Cuidados
ATTACH;FMTTYPE=image/png:https://coordinaciongenero.unam.mx/wp-content/uploads/2024/05/unam-cigu-texturas-eventos-3.png
END:VEVENT
BEGIN:VEVENT
DTSTART;TZID=America/Chicago:20260116T080000
DTEND;TZID=America/Chicago:20260119T170000
DTSTAMP:20260424T120758
CREATED:20260116T225132Z
LAST-MODIFIED:20260116T225132Z
UID:71278-1768550400-1768842000@coordinaciongenero.unam.mx
SUMMARY:Convocatoria: «6to Congreso Internacional sobre Género y Espacio (CIGE): Sostener la vida frente a las múltiples crisis»
DESCRIPTION:Hasta el 19 de enero de 2026\nConvocatoria: «6to Congreso Internacional sobre Género y Espacio (CIGE): Sostener la vida frente a las múltiples crisis»\nOrganizada por: Centro de Investigaciones y Estudios de Género (CIEG).\n¡Participa! Convocamos a personas investigadoras\, activistas\, líderes comunitarias\, creadoras de políticas públicas y artistas a participar en el 6to Congreso Internacional sobre Género y Espacio (CIGE): Sostener la vida frente a las múltiples crisis\, que se celebrará del 13 al 17 de abril de 2026. \nEnvía un resumen de tu ponencia de entre 500 y 750 palabras al formulario de registro disponible en la convocatoria. Se aceptarán ponencias con un máximo de tres autorxs. Resultados de aceptación entre el 10 y el 13 de febrero de 2026.\nDirigida a: Todo público.\nMás información: https://bit.ly/4jzTgX4
URL:https://coordinaciongenero.unam.mx/evento/convocatoria-6to-congreso-internacional-sobre-genero-y-espacio-cige-sostener-la-vida-frente-a-las-multiples-crisis/
LOCATION:En línea
CATEGORIES:Convocatorias
ATTACH;FMTTYPE=image/jpeg:https://coordinaciongenero.unam.mx/wp-content/uploads/2021/03/TEXTURA-1AÑO_ytthumbnail.jpg
END:VEVENT
BEGIN:VEVENT
DTSTART;TZID=America/Chicago:20260116T120000
DTEND;TZID=America/Chicago:20260213T230000
DTSTAMP:20260424T120758
CREATED:20260116T225410Z
LAST-MODIFIED:20260116T225410Z
UID:71279-1768564800-1771023600@coordinaciongenero.unam.mx
SUMMARY:Sesión 1: «A cinco años del SPEMG. Reflexiones\, apuntes y balance»
DESCRIPTION:16 de enero de 2026 | 12:00 h\nSesión 1: «A cinco años del SPEMG. Reflexiones\, apuntes y balance»\nOrganizada por: CInIG de la Facultad de Música.\nEn el marco del aniversario número 5 del Seminario Permanente de Música y Género que se llevará a cabo del 16 de enero al 13 de noviembre de 2026. Registro para recibir constancia abierto hasta el 13 de marzo de 2026.\nParticipante(s): Dr. Malby Muñoz (FaM)\, Mtra. Verónica Villegas (FaM) y Mtra. Sandra Barranco (CIGU).\nDirigida a: Todo público.\nActividad en línea.\nSigue la transmisión: https://youtube.com/live/wS1V10A6ceU?feature=share\nConsulta el programa completo: https://www.facebook.com/share/p/17tGYPBFNT/?mibextid=wwXIfr\nRegistro: https://bit.ly/4aVz3Zu
URL:https://coordinaciongenero.unam.mx/evento/sesion-1-a-cinco-anos-del-spemg-reflexiones-apuntes-y-balance/
LOCATION:YouTube
CATEGORIES:Feminismos
ATTACH;FMTTYPE=image/png:https://coordinaciongenero.unam.mx/wp-content/uploads/2026/01/textura-morada-estrellas.png
END:VEVENT
BEGIN:VEVENT
DTSTART;TZID=America/Chicago:20260118T110000
DTEND;TZID=America/Chicago:20260118T113000
DTSTAMP:20260424T120758
CREATED:20260312T182850Z
LAST-MODIFIED:20260312T183014Z
UID:72963-1768734000-1768735800@coordinaciongenero.unam.mx
SUMMARY:Violeta y Oro: Cerrar brechas para las mujeres en la era de la inteligencia artificial
DESCRIPTION:La inteligencia artificial está cambiando el mundo del trabajo. La pregunta es: ¿las mujeres están participando en ese futuro o están quedando fuera de él? \nEn este episodio de Violeta y Oro hablaremos con Úrsula Quijano\, economista y directora para México de Laboratoria\, organización que impulsa la formación y empleabilidad de mujeres en tecnología y economía digital. A partir de su experiencia\, reflexionamos sobre cómo la inteligencia artificial y la automatización están transformando el mercado laboral\, así como sobre las habilidades necesarias para construir carreras dignas en un mundo laboral en constante cambio. \nTambién abordamos uno de los temas centrales para la igualdad laboral: la sobrecarga del trabajo de cuidados\, que sigue limitando las oportunidades profesionales de muchas mujeres. Además\, analizamos los riesgos de que los sistemas de inteligencia artificial reproduzcan sesgos y desigualdades de género si no se diseñan con una perspectiva crítica. \nEn la sección «Chiques Violeta»\, participantes de un diplomado en mentorías feministas reflexionan sobre el impacto de la inteligencia artificial en sus espacios de trabajo y la importancia de incorporar la perspectiva de género en el desarrollo tecnológico. \nPieza musical «De todas las flores»\, Natalia Lafourcade. \nConduce: Olivia Zerón Tena.
URL:https://coordinaciongenero.unam.mx/evento/violeta-y-oro-cerrar-brechas-para-las-mujeres-en-la-era-de-la-inteligencia-artificial/
CATEGORIES:Campañas Especiales,violeta y oro
ATTACH;FMTTYPE=image/jpeg:https://coordinaciongenero.unam.mx/wp-content/uploads/2026/03/web-1.jpg
END:VEVENT
END:VCALENDAR