BEGIN:VCALENDAR
VERSION:2.0
PRODID:-//Coordinación para la Igualdad de Género UNAM - ECPv6.15.20//NONSGML v1.0//EN
CALSCALE:GREGORIAN
METHOD:PUBLISH
X-WR-CALNAME:Coordinación para la Igualdad de Género UNAM
X-ORIGINAL-URL:https://coordinaciongenero.unam.mx
X-WR-CALDESC:Eventos para Coordinación para la Igualdad de Género UNAM
REFRESH-INTERVAL;VALUE=DURATION:PT1H
X-Robots-Tag:noindex
X-PUBLISHED-TTL:PT1H
BEGIN:VTIMEZONE
TZID:America/Chicago
BEGIN:DAYLIGHT
TZOFFSETFROM:-0600
TZOFFSETTO:-0500
TZNAME:CDT
DTSTART:20240310T080000
END:DAYLIGHT
BEGIN:STANDARD
TZOFFSETFROM:-0500
TZOFFSETTO:-0600
TZNAME:CST
DTSTART:20241103T070000
END:STANDARD
BEGIN:DAYLIGHT
TZOFFSETFROM:-0600
TZOFFSETTO:-0500
TZNAME:CDT
DTSTART:20250309T080000
END:DAYLIGHT
BEGIN:STANDARD
TZOFFSETFROM:-0500
TZOFFSETTO:-0600
TZNAME:CST
DTSTART:20251102T070000
END:STANDARD
BEGIN:DAYLIGHT
TZOFFSETFROM:-0600
TZOFFSETTO:-0500
TZNAME:CDT
DTSTART:20260308T080000
END:DAYLIGHT
BEGIN:STANDARD
TZOFFSETFROM:-0500
TZOFFSETTO:-0600
TZNAME:CST
DTSTART:20261101T070000
END:STANDARD
END:VTIMEZONE
BEGIN:VEVENT
DTSTART;VALUE=DATE:20251101
DTEND;VALUE=DATE:20251201
DTSTAMP:20260425T133926
CREATED:20251114T132222Z
LAST-MODIFIED:20260121T235259Z
UID:70196-1761955200-1764547199@coordinaciongenero.unam.mx
SUMMARY:Cápsulas radiofónicas: «La violencia va más allá de los golpes»
DESCRIPTION:Noviembre de 2025 | Horario variable \nCápsulas radiofónicas: «La violencia va más allá de los golpes»\nOrganizada por: POC de Radio UNAM. \nCápsulas radiofónicas transmitidas a lo largo de la programación en 96.1 FM y 860 AM. \nParticipante(s): POC de distintas entidades de la UNAM y Silvia Cruz Jiménez (Radio UNAM). \nDirigida a: Todo público. \nActividad en línea. \nSigue la transmisión: www.radio.unam.mx
URL:https://coordinaciongenero.unam.mx/evento/capsulas-radiofonicas-la-violencia-va-mas-alla-de-los-golpes/
CATEGORIES:25N 2025,Violencia de Género
ATTACH;FMTTYPE=image/png:https://coordinaciongenero.unam.mx/wp-content/uploads/2024/10/25n24-paginaweb-02.png
END:VEVENT
BEGIN:VEVENT
DTSTART;TZID=America/Chicago:20251124T080000
DTEND;TZID=America/Chicago:20251210T170000
DTSTAMP:20260425T133926
CREATED:20251208T235847Z
LAST-MODIFIED:20251208T235922Z
UID:70941-1763971200-1765386000@coordinaciongenero.unam.mx
SUMMARY:Jornada de actividades: «Día Internacional para la Eliminación de la Violencia contra las Mujeres y Niñas»
DESCRIPTION:24 de noviembre a 10 de diciembre de 2025 | 9:00 h \nJornada de actividades: «Día Internacional para la Eliminación de la Violencia contra las Mujeres y Niñas»\nOrganizada por: CInIG de Escuela Nacional Preparatoria Plantel 2 «Erasmo Castellanos Quinto» (ENP 2). \nSe llevó a cabo una jornada de actividades con talleres\, exposiciones\, charlas\, conferencias\, cine debate y murales. Su objetivo fue crear espacios de reflexión y diálogo para construir una comunidad libre de violencia. Las actividades se desarrollaron del 20 de noviembre al 10 de diciembre de 2026 en diversos horarios. \nParticipante(s): Docentes de la ENP 2 «Erasmo Castellanos Quinto». \nDirigida a: Comunidad estudiantil y docente de la preparatoria. \nActividad presencial. \nLugar: Instalaciones de la ENP 2 «Erasmo Castellanos Quinto»\, ubicadas en Avenida Río Churubusco 1418\, Col. Carlos Zapata Vela\, Iztacalco\, 08040\, Ciudad de México.
URL:https://coordinaciongenero.unam.mx/evento/jornada-de-actividades-dia-internacional-para-la-eliminacion-de-la-violencia-contra-las-mujeres-y-ninas/
LOCATION:Escuela Nacional Preparatoria Plantel 2 «Erasmo Castellanos Quinto» (ENP 2)
CATEGORIES:25N 2025
ATTACH;FMTTYPE=image/png:https://coordinaciongenero.unam.mx/wp-content/uploads/2024/10/25n24-paginaweb-05.png
END:VEVENT
BEGIN:VEVENT
DTSTART;TZID=America/Chicago:20251129T070000
DTEND;TZID=America/Chicago:20251129T110000
DTSTAMP:20260425T133926
CREATED:20251128T230319Z
LAST-MODIFIED:20251128T230319Z
UID:70739-1764399600-1764414000@coordinaciongenero.unam.mx
SUMMARY:Carrera Atlética: «Tejiendo Lazos en comunidad contra la violencia»
DESCRIPTION:29 de noviembre de 2025 | 7:00 h \nCarrera Atlética: «Tejiendo Lazos en comunidad contra la violencia» \nOrganizada por: Escuela Nacional de Trabajo Social (ENTS). \nActividad deportiva comunitaria de sensibilización contra la violencia de género. \nResponsable: Lic. Luis Fernández Castro. \nDirigida a: Todo público. \nActividad presencial. \nLugar: Estadio de prácticas «Roberto Tapatío Méndez»\, ubicado en Circuito Escolar D\, C.U.\, Coyoacán\, 04510\, Ciudad de México.
URL:https://coordinaciongenero.unam.mx/evento/carrera-atletica-tejiendo-lazos-en-comunidad-contra-la-violencia/
LOCATION:Estadio de prácticas «Roberto Tapatío Méndez» de C.U.
CATEGORIES:25N 2025
ATTACH;FMTTYPE=image/png:https://coordinaciongenero.unam.mx/wp-content/uploads/2024/10/25n24-paginaweb-2-03.png
END:VEVENT
BEGIN:VEVENT
DTSTART;TZID=America/Chicago:20251129T070000
DTEND;TZID=America/Chicago:20251129T120000
DTSTAMP:20260425T133926
CREATED:20251128T230541Z
LAST-MODIFIED:20251128T230541Z
UID:70740-1764399600-1764417600@coordinaciongenero.unam.mx
SUMMARY:Actividad: «Elaboración de pañuelos naranjas — Libres como mariposas»
DESCRIPTION:29 de noviembre de 2025 | 7:00 h \nActividad: «Elaboración de pañuelos naranjas — Libres como mariposas» \nOrganizada por: Escuela Nacional de Trabajo Social (ENTS). \nElaboración de pañuelos conmemorativos para la jornada del 25N. \nResponsable: Lcda. Elizabeth Jiménez García. \nDirigida a: Todo público. \nActividad presencial. \nLugar: Estadio de prácticas «Roberto Tapatío Méndez»\, ubicado en Circuito Escolar D\, C.U.\, Coyoacán\, 04510\, Ciudad de México.
URL:https://coordinaciongenero.unam.mx/evento/actividad-elaboracion-de-panuelos-naranjas-libres-como-mariposas/
LOCATION:Complejo Deportivo Universitario «Roberto Tapatío Méndez»\, Circuito Exterior s/n\, C.U.\, Coyoacán\,\, Ciudad de México\, 04530\, Mexico
CATEGORIES:25N 2025
ATTACH;FMTTYPE=image/png:https://coordinaciongenero.unam.mx/wp-content/uploads/2024/10/25n24-paginaweb-01.png
END:VEVENT
BEGIN:VEVENT
DTSTART;TZID=America/Chicago:20251129T120000
DTEND;TZID=America/Chicago:20251129T140000
DTSTAMP:20260425T133926
CREATED:20251112T040325Z
LAST-MODIFIED:20251112T040325Z
UID:70111-1764417600-1764424800@coordinaciongenero.unam.mx
SUMMARY:Taller de grabado / dirigido a mujeres: «Mujeres\, arte y resistencia»
DESCRIPTION:29 de noviembre de 2025 | 12:00 a 14:00 h \nTaller de grabado / dirigido a mujeres: «Mujeres\, arte y resistencia»\nOrganizada por: Centro Cultural Universitario Tlatelolco (CCUT). \nCrearemos un espacio de expresión y reflexión en torno al Día Internacional de la Eliminación de la Violencia contra la Mujer (25N). Conoceremos la técnica del linograbado y realizaremos un grabado representativo y reflexivo en torno a las violencias que sufren las mujeres. \nParticipante(s): Trabajadoras del CCUT. \nDirigida a: Mujeres. \nActividad presencial. \nLugar: Centro Cultural Universitario Tlatelolco\, ubicado en Avenida Ricardo Flores Magón 1\, Col. Nonoalco-Tlatelolco\, Cuauhtémoc\, 06900\, Ciudad de México.
URL:https://coordinaciongenero.unam.mx/evento/taller-de-grabado-dirigido-a-mujeres-mujeres-arte-y-resistencia-4/
LOCATION:Centro Cultural Universitario Tlatelolco\, Av. Ricardo Flores Magón 1\, Tlatelolco\, Cuauhtémoc\, Ciudad de México\, 06995\, Mexico
CATEGORIES:25N 2025,Feminismos
ATTACH;FMTTYPE=image/png:https://coordinaciongenero.unam.mx/wp-content/uploads/2024/10/25n24-paginaweb-03.png
END:VEVENT
BEGIN:VEVENT
DTSTART;TZID=America/Chicago:20251129T193000
DTEND;TZID=America/Chicago:20251129T203000
DTSTAMP:20260425T133926
CREATED:20251112T043653Z
LAST-MODIFIED:20251112T043653Z
UID:70118-1764444600-1764448200@coordinaciongenero.unam.mx
SUMMARY:Presentación editorial: «Vindictas. Cuentistas cubanas»
DESCRIPTION:29 de noviembre de 2025 | 19:30 a 20:20 h \nPresentación editorial: «Vindictas. Cuentistas cubanas»\nOrganizada por: Dirección General de Publicaciones y Fomento Editorial (DGPyFE). \nEste libro es una invitación a descubrir un territorio literario casi invisible\, hecho de voces silenciadas y memorias recuperadas. Sus páginas traen al presente voces del pasado que apenas han sido escuchadas\, más allá de ciertos círculos bastante limitados. Su lectura es un acto de justicia. \nParticipante(s): Zaida Capote Cruz (Instituto de Literatura y Lingüística José Antonio Portuondo Valdor); Carmen Alemany Bay (Universidad de Alicante); Mary Frances Rodríguez Van Gort (Facultad de Filosofía y Letras) y Charo Guerra. \nDirigida a: Todo público. \nActividad presencial. \nLugar: Salón D\, «Área Internacional»\, de la FIL Guadalajara\, ubicada en Avenida Mariano Otero 1499\, Col. Verde Valle\, 44550\, Guadalajara\, Jalisco.
URL:https://coordinaciongenero.unam.mx/evento/presentacion-editorial-vindictas-cuentistas-cubanas/
LOCATION:FIL Guadalajara. Salón D. área Internacional. Expo Guadalajara\, Avenida Mariano Otero 1499\, Col. Verde Valle\, 44550\, Guadalajara\, Jalisco.\, Guadalajara\, Guadalajara\, 44550\, Mexico
CATEGORIES:25N 2025,Feminismos
ATTACH;FMTTYPE=image/png:https://coordinaciongenero.unam.mx/wp-content/uploads/2024/10/25n24-paginaweb-02.png
END:VEVENT
END:VCALENDAR