BEGIN:VCALENDAR
VERSION:2.0
PRODID:-//Coordinación para la Igualdad de Género UNAM - ECPv6.15.20//NONSGML v1.0//EN
CALSCALE:GREGORIAN
METHOD:PUBLISH
X-WR-CALNAME:Coordinación para la Igualdad de Género UNAM
X-ORIGINAL-URL:https://coordinaciongenero.unam.mx
X-WR-CALDESC:Eventos para Coordinación para la Igualdad de Género UNAM
REFRESH-INTERVAL;VALUE=DURATION:PT1H
X-Robots-Tag:noindex
X-PUBLISHED-TTL:PT1H
BEGIN:VTIMEZONE
TZID:America/Chicago
BEGIN:DAYLIGHT
TZOFFSETFROM:-0600
TZOFFSETTO:-0500
TZNAME:CDT
DTSTART:20240310T080000
END:DAYLIGHT
BEGIN:STANDARD
TZOFFSETFROM:-0500
TZOFFSETTO:-0600
TZNAME:CST
DTSTART:20241103T070000
END:STANDARD
BEGIN:DAYLIGHT
TZOFFSETFROM:-0600
TZOFFSETTO:-0500
TZNAME:CDT
DTSTART:20250309T080000
END:DAYLIGHT
BEGIN:STANDARD
TZOFFSETFROM:-0500
TZOFFSETTO:-0600
TZNAME:CST
DTSTART:20251102T070000
END:STANDARD
BEGIN:DAYLIGHT
TZOFFSETFROM:-0600
TZOFFSETTO:-0500
TZNAME:CDT
DTSTART:20260308T080000
END:DAYLIGHT
BEGIN:STANDARD
TZOFFSETFROM:-0500
TZOFFSETTO:-0600
TZNAME:CST
DTSTART:20261101T070000
END:STANDARD
END:VTIMEZONE
BEGIN:VEVENT
DTSTART;VALUE=DATE:20251101
DTEND;VALUE=DATE:20251201
DTSTAMP:20260425T110648
CREATED:20251114T132222Z
LAST-MODIFIED:20260121T235259Z
UID:70196-1761955200-1764547199@coordinaciongenero.unam.mx
SUMMARY:Cápsulas radiofónicas: «La violencia va más allá de los golpes»
DESCRIPTION:Noviembre de 2025 | Horario variable \nCápsulas radiofónicas: «La violencia va más allá de los golpes»\nOrganizada por: POC de Radio UNAM. \nCápsulas radiofónicas transmitidas a lo largo de la programación en 96.1 FM y 860 AM. \nParticipante(s): POC de distintas entidades de la UNAM y Silvia Cruz Jiménez (Radio UNAM). \nDirigida a: Todo público. \nActividad en línea. \nSigue la transmisión: www.radio.unam.mx
URL:https://coordinaciongenero.unam.mx/evento/capsulas-radiofonicas-la-violencia-va-mas-alla-de-los-golpes/
CATEGORIES:25N 2025,Violencia de Género
ATTACH;FMTTYPE=image/png:https://coordinaciongenero.unam.mx/wp-content/uploads/2024/10/25n24-paginaweb-02.png
END:VEVENT
BEGIN:VEVENT
DTSTART;TZID=America/Chicago:20251118T160000
DTEND;TZID=America/Chicago:20251121T183000
DTSTAMP:20260425T110648
CREATED:20251112T041210Z
LAST-MODIFIED:20251112T041210Z
UID:70113-1763481600-1763749800@coordinaciongenero.unam.mx
SUMMARY:Taller: «El cuerpo como texto»
DESCRIPTION:18 al 21 de noviembre de 2025 | 16:00 a 18:30 h (4 sesiones) \nTaller: «El cuerpo como texto» \nOrganizada por: Cátedra Extraordinaria Gloria Contreras. Pensamiento y Acción Coreográfica de la Dirección de Danza. \nExploraremos trayectos que busquen ir al alcance de una descolonización corporal. La descolonización no tiene llegada ni final y está marcada y cruzada por matrices híper- coloniales (los cuerpos han sido siempre colonizados: por las modas\, por los lugares de nacimiento\, por el trabajo obligado). Intentaremos un camino de reconocernos (lo que implica una responsabilidad) corporalmente; una reflexión crítica e interna constante. De este modo\, los discursos de colonialidad\, descolonialidad y género nutren parte del trabajo. \nParticipante(s): Laura Szwarc (tallerista). \nDirigida a: Todo público. \nActividad presencial. \nEntrada libre\, previo registro.\nRegistro: https://forms.gle/LPPqEUoi9zDR4Ncy7   \nLugar: Salón de Ensayos de la Sala «Miguel Covarrubias» del Centro Cultural Universitario (CCU)\, ubicado en Insurgentes 3000\, C.U.\, Coyoacán\, 04510\, Ciudad de México.
URL:https://coordinaciongenero.unam.mx/evento/taller-el-cuerpo-como-texto/
LOCATION:Salón de Ensayos de la sala Miguel Covarrubias\, Av. Insurgentes Sur #3000 Centro Coyoacán\, Ciudad de México\, 04510\, Mexico
CATEGORIES:25N 2025,Feminismos
ATTACH;FMTTYPE=image/png:https://coordinaciongenero.unam.mx/wp-content/uploads/2024/10/25n24-paginaweb-06.png
END:VEVENT
BEGIN:VEVENT
DTSTART;TZID=America/Chicago:20251120T160000
DTEND;TZID=America/Chicago:20251120T170000
DTSTAMP:20260425T110648
CREATED:20251118T034029Z
LAST-MODIFIED:20251118T034029Z
UID:70301-1763654400-1763658000@coordinaciongenero.unam.mx
SUMMARY:Presentación de libro: «Masculinidades universitarias en tiempos de interpelación feminista»
DESCRIPTION:20 de noviembre de 2025 | 16:00 h \nPresentación de libro: «Masculinidades universitarias en tiempos de interpelación feminista»\nOrganizada por: CInIG de la Facultad de Estudios Superiores (FES) Acatlán. \nPromover el diálogo académico y la reflexión crítica sobre los retos\, transformaciones y resistencias que enfrentan las masculinidades en el ámbito universitario contemporáneo\, a partir de las aportaciones del feminismo y las perspectivas de género\, con el fin de fomentar una cultura universitaria más equitativa\, consciente y libre de violencias. \nParticipante(s): Mtre. Rubén Hernández Duarte; Lic. Aranzazú Belmont Flores; Lic. Darío Camacho Leal; Dra. Sandra Ivette González Ruiz. Modera: Dra. Cynthia Azucena Acosta Ugalde. \nDirigida a: Todo público. \nActividad presencial. \nLugar: Auditorio de Posgrado de la FES Acatlán\, ubicada en Avenida Alcanfores y San Juan Totoltepec s/n\, Col. Santa Cruz Acatlán\, 53150\, Naucalpan de Juárez\, Estado de México
URL:https://coordinaciongenero.unam.mx/evento/presentacion-de-libro-masculinidades-universitarias-en-tiempos-de-interpelacion-feminista/
LOCATION:Auditorio de Posgrado de la FES Acatlán
CATEGORIES:25N 2025,Masculinidades
ATTACH;FMTTYPE=image/png:https://coordinaciongenero.unam.mx/wp-content/uploads/2024/10/25n24-paginaweb-01.png
END:VEVENT
BEGIN:VEVENT
DTSTART;TZID=America/Chicago:20251120T190000
DTEND;TZID=America/Chicago:20251120T210000
DTSTAMP:20260425T110648
CREATED:20251115T052129Z
LAST-MODIFIED:20260121T235256Z
UID:70268-1763665200-1763672400@coordinaciongenero.unam.mx
SUMMARY:Coloquio: «Niñas\, niños y adolescentes: reflexiones en torno a la violencia»
DESCRIPTION:20 de noviembre de 2025 | 19:00 h \nColoquio: «Niñas\, niños y adolescentes: reflexiones en torno a la violencia»\nOrganizada por: Programa Universitario de Derechos Humanos (PUDH); Seminario de Derecho Internacional (turno vespertino) de la Facultad de Derecho y Programa Universitario de Bioética (PUB). \nReflexión multidisciplinaria sobre derechos humanos\, internacional y bioética aplicada a infancias y adolescencias. \nParticipante(s): Dra. Jennifer Hincapié (PUB); Dra. Rosa Jiménez (directora del Seminario de Derecho Internacional\, turno vespertino); Dra. Alejandra Gómez (Facultad de Derecho); Dra. Claudia Alarcón (CIEG)\, y Mtro. Rubén F. Pérez (PUDH). Modera: Sebastián Almazán Rodríguez. \nDirigida a: Todo público. \nActividad híbrida. \nSigue la transmisión: https://www.youtube.com/@PUDHUNAM  \nLugar: Instalaciones del PUDH\, ubicado en calle Cruz Verde 79-B\, Col. Barrio del Niño Jesús\, Coyoacán\, 04330\, Ciudad de México.
URL:https://coordinaciongenero.unam.mx/evento/coloquio-ninas-ninos-y-adolescentes-reflexiones-en-torno-a-la-violencia/
LOCATION:Instalaciones del PUDH\, Cruz Verde 79-B\, Col. Barrio del Niño Jesús\, Ciudad de México\, Coyoacán\, 04330
CATEGORIES:25N 2025,Violencia de Género
ATTACH;FMTTYPE=image/png:https://coordinaciongenero.unam.mx/wp-content/uploads/2024/10/25n24-paginaweb-2-01.png
END:VEVENT
END:VCALENDAR