BEGIN:VCALENDAR
VERSION:2.0
PRODID:-//Coordinación para la Igualdad de Género UNAM - ECPv6.15.20//NONSGML v1.0//EN
CALSCALE:GREGORIAN
METHOD:PUBLISH
X-WR-CALNAME:Coordinación para la Igualdad de Género UNAM
X-ORIGINAL-URL:https://coordinaciongenero.unam.mx
X-WR-CALDESC:Eventos para Coordinación para la Igualdad de Género UNAM
REFRESH-INTERVAL;VALUE=DURATION:PT1H
X-Robots-Tag:noindex
X-PUBLISHED-TTL:PT1H
BEGIN:VTIMEZONE
TZID:America/Chicago
BEGIN:DAYLIGHT
TZOFFSETFROM:-0600
TZOFFSETTO:-0500
TZNAME:CDT
DTSTART:20240310T080000
END:DAYLIGHT
BEGIN:STANDARD
TZOFFSETFROM:-0500
TZOFFSETTO:-0600
TZNAME:CST
DTSTART:20241103T070000
END:STANDARD
BEGIN:DAYLIGHT
TZOFFSETFROM:-0600
TZOFFSETTO:-0500
TZNAME:CDT
DTSTART:20250309T080000
END:DAYLIGHT
BEGIN:STANDARD
TZOFFSETFROM:-0500
TZOFFSETTO:-0600
TZNAME:CST
DTSTART:20251102T070000
END:STANDARD
BEGIN:DAYLIGHT
TZOFFSETFROM:-0600
TZOFFSETTO:-0500
TZNAME:CDT
DTSTART:20260308T080000
END:DAYLIGHT
BEGIN:STANDARD
TZOFFSETFROM:-0500
TZOFFSETTO:-0600
TZNAME:CST
DTSTART:20261101T070000
END:STANDARD
END:VTIMEZONE
BEGIN:VEVENT
DTSTART;VALUE=DATE:20251101
DTEND;VALUE=DATE:20251201
DTSTAMP:20260425T222630
CREATED:20251114T132222Z
LAST-MODIFIED:20260121T235259Z
UID:70196-1761955200-1764547199@coordinaciongenero.unam.mx
SUMMARY:Cápsulas radiofónicas: «La violencia va más allá de los golpes»
DESCRIPTION:Noviembre de 2025 | Horario variable \nCápsulas radiofónicas: «La violencia va más allá de los golpes»\nOrganizada por: POC de Radio UNAM. \nCápsulas radiofónicas transmitidas a lo largo de la programación en 96.1 FM y 860 AM. \nParticipante(s): POC de distintas entidades de la UNAM y Silvia Cruz Jiménez (Radio UNAM). \nDirigida a: Todo público. \nActividad en línea. \nSigue la transmisión: www.radio.unam.mx
URL:https://coordinaciongenero.unam.mx/evento/capsulas-radiofonicas-la-violencia-va-mas-alla-de-los-golpes/
CATEGORIES:25N 2025,Violencia de Género
ATTACH;FMTTYPE=image/png:https://coordinaciongenero.unam.mx/wp-content/uploads/2024/10/25n24-paginaweb-02.png
END:VEVENT
BEGIN:VEVENT
DTSTART;TZID=America/Chicago:20251116T110000
DTEND;TZID=America/Chicago:20251116T113000
DTSTAMP:20260425T222630
CREATED:20251114T213453Z
LAST-MODIFIED:20251120T225658Z
UID:70452-1763290800-1763292600@coordinaciongenero.unam.mx
SUMMARY:Violeta y Oro: Escuchar la tierra en un país de desapariciones
DESCRIPTION:En 2019 la editorial Sigilo publicó Cometierra\, la primera novela de la escritora argentina Dolores Reyes\, en donde narra la vida de una adolescente quien\, al comer tierra\, ve a víctimas de desaparición\, femicidio e infanticidio. A pesar del contundente intento de censura por parte del gobierno argentino\, este libro ha sido de los más vendidos\, traducidos y ya con 17 ediciones que lo colocan como una lectura altamente visible a nivel internacional ¿Su tema principal? La denuncia urgente de la violencia de género y por parte del Estado que se vive en Argentina y la región. Tras 5 años de trabajo\, hoy Cometierra cuenta con su adaptación cinematográfica\, trasladada a México\, en una serie de 7 capítulos. En este #VioletaYOro\, conversamos con la directora Cris Gris y la guionista Mónica Herrera de esta nueva serie de Prime Video donde nos comparten cómo fue el proceso creativo de esta adaptación\, así como los retos de narrar la violencia feminicida\, las desapariciones y la búsqueda de justicia desde una mirada ética\, sensible y profundamente femenina. \nAquí\, ambas nos cuentan cómo se fueron integrando a este proyecto\, así como su camino para definir la estética de la serie y su constante interés por integrar miradas jóvenes y femeninas en el equipo creativo. Mónica destaca el trabajo de casting liderado por Luis Rosales\, en especial con la elección de Lilith Curiel como Aylin\, la protagonista de la serie\, a su vez que Cris detalla su experiencia dirigiendo a Lilith y los retos tanto físicos como emocionales de algunas escenas. \nTambién nos compartieron sobre la banda sonora de la serie y la colaboración de figuras como Visitante\, Natalia Lafourcade y Silvana Estrada. Hacia la conclusión del programa\, Olivia les pregunta sobre su forma de representar una realidad dolorosa sin caer en el sensacionalismo\, para ambas la respuesta fue perseguir un equilibrio entre la crudeza y la esperanza. \n¡La serie Cometierra se estrenó el 31 de octubre de este año y se encuentra disponible en la plataforma de Prime Video! \nEn la sección «Chiques Violeta» les presentamos una cápsula sobre la recepción del libro en Argentina y de la censura y prohibición en las escuelas por orden gubernamental en el mandato de Javier Milei.  \nPieza musical «Si me matan» a cargo de Silvana Estrada.  \nConduce: Olivia Zerón Tena (CIGU).
URL:https://coordinaciongenero.unam.mx/evento/violeta-y-oro-escuchar-la-tierra-en-un-pais-de-desapariciones/
CATEGORIES:Cine con perspectiva de género,Violencia de Género,violeta y oro
ATTACH;FMTTYPE=image/jpeg:https://coordinaciongenero.unam.mx/wp-content/uploads/2025/11/Monica-y-Cris-web-03.jpg
END:VEVENT
END:VCALENDAR