BEGIN:VCALENDAR
VERSION:2.0
PRODID:-//Coordinación para la Igualdad de Género UNAM - ECPv6.15.20//NONSGML v1.0//EN
CALSCALE:GREGORIAN
METHOD:PUBLISH
X-WR-CALNAME:Coordinación para la Igualdad de Género UNAM
X-ORIGINAL-URL:https://coordinaciongenero.unam.mx
X-WR-CALDESC:Eventos para Coordinación para la Igualdad de Género UNAM
REFRESH-INTERVAL;VALUE=DURATION:PT1H
X-Robots-Tag:noindex
X-PUBLISHED-TTL:PT1H
BEGIN:VTIMEZONE
TZID:America/Chicago
BEGIN:DAYLIGHT
TZOFFSETFROM:-0600
TZOFFSETTO:-0500
TZNAME:CDT
DTSTART:20240310T080000
END:DAYLIGHT
BEGIN:STANDARD
TZOFFSETFROM:-0500
TZOFFSETTO:-0600
TZNAME:CST
DTSTART:20241103T070000
END:STANDARD
BEGIN:DAYLIGHT
TZOFFSETFROM:-0600
TZOFFSETTO:-0500
TZNAME:CDT
DTSTART:20250309T080000
END:DAYLIGHT
BEGIN:STANDARD
TZOFFSETFROM:-0500
TZOFFSETTO:-0600
TZNAME:CST
DTSTART:20251102T070000
END:STANDARD
BEGIN:DAYLIGHT
TZOFFSETFROM:-0600
TZOFFSETTO:-0500
TZNAME:CDT
DTSTART:20260308T080000
END:DAYLIGHT
BEGIN:STANDARD
TZOFFSETFROM:-0500
TZOFFSETTO:-0600
TZNAME:CST
DTSTART:20261101T070000
END:STANDARD
END:VTIMEZONE
BEGIN:VEVENT
DTSTART;VALUE=DATE:20251001
DTEND;VALUE=DATE:20251016
DTSTAMP:20260425T204604
CREATED:20251017T020202Z
LAST-MODIFIED:20251017T020202Z
UID:69144-1759276800-1760572799@coordinaciongenero.unam.mx
SUMMARY:Colaboración: «Revista Entrenosotras»
DESCRIPTION:15 de octubre de 2025 \nColaboración: «Revista Entrenosotras»\nOrganizada por: Facultad de Artes de la Universidad Autónoma de Guerrero. \nInvitamos a mujeres universitarias\, creadoras y escritoras a ser parte de nuestro proyecto editorial Entrenosotras\, buscamos tejer miradas creativas\, afectivas y colaborativas sobre nuestras experiencias y territorios\, explorando la temática de la primera edición: Enredar[nos] para encontrar[nos]. \nDirigida a: Mujeres universitarias\, creadoras y escritoras. \nInformación: https://drive.google.com/file/d/1hTYpuik5hgbJWUCt39hbxV4FoQWU9xns/view?usp=drivesdk
URL:https://coordinaciongenero.unam.mx/evento/colaboracion-revista-entrenosotras/
CATEGORIES:Convocatorias
ATTACH;FMTTYPE=image/jpeg:https://coordinaciongenero.unam.mx/wp-content/uploads/2025/10/revista-entrenosotras.jpg
END:VEVENT
BEGIN:VEVENT
DTSTART;TZID=America/Chicago:20251001T103000
DTEND;TZID=America/Chicago:20251029T140000
DTSTAMP:20260425T204604
CREATED:20251002T211341Z
LAST-MODIFIED:20251008T004515Z
UID:68582-1759314600-1761746400@coordinaciongenero.unam.mx
SUMMARY:Sesiones académicas: «Salud de las mujeres»
DESCRIPTION:Miércoles del 1 al 29 de octubre de 2025 | 10:30 a 14:00 h \nSesiones académicas: «Salud de las mujeres» \nOrganizada por: Dirección General de Atención a la Salud (DEGAS). \n¡Octubre es el mes rosa y tendremos muchas actividades para conmemorarlo! Iniciaremos con las sesiones académicas\, en donde tendremos grandes invitad@s. Aparta las fechas\, se otorgará constancia de participación. Dirigida a: Todo público. \nActividad presencial. \nLugar: Auditorio Dr. Samuel Ramírez Moreno de la  Dirección General de Atención a la Salud\, ubicado en Escolar 101\, C.U.\, Coyoacán\, 04510\, Ciudad de México.
URL:https://coordinaciongenero.unam.mx/evento/sesiones-academicas-salud-de-las-mujeres/
LOCATION:Dirección General de Atención a la Salud\, Dirección General de Atención a la Salud\, Escolar 101\, C.U.\, Coyoacán\, 04510\, Ciudad de México.\, Coyoacán\, Distrito Federal\, 04510\, Mexico
CATEGORIES:Género y salud
ATTACH;FMTTYPE=image/png:https://coordinaciongenero.unam.mx/wp-content/uploads/2024/09/cuidados24-paginaweb_02.png
END:VEVENT
BEGIN:VEVENT
DTSTART;TZID=America/Chicago:20251006T090000
DTEND;TZID=America/Chicago:20251029T180000
DTSTAMP:20260425T204604
CREATED:20251017T012048Z
LAST-MODIFIED:20251022T032607Z
UID:69135-1759741200-1761760800@coordinaciongenero.unam.mx
SUMMARY:Jornada: «Octubre\, mes de los cuidados»
DESCRIPTION:6 al 29 de octubre de 2025 | 9:00 a 18:00 h \nJornada: «Octubre\, mes de los cuidados»\nOrganizada por: CInIG de la Escuela Nacional Preparatoria Plantel 2 «Erasmo Castellanos Quinto» (ENP 2). \nDurante el mes se realizarán talleres\, charlas\, conversatorios\, exposiciones y cine-debate con el objetivo de reconocer el cuidado como derecho humano y promover una universidad más igualitaria y solidaria. \nDirigida a: Comunidad estudiantil de la ENP 2 (Iniciación Universitaria y Bachillerato). \nActividad presencial. \nNota: Las actividades se llevarán a cabo en diferentes salones H\, el auditorio LACE\, el hall\, entre otros lugares\, se puede consultar el mapa a continuación para mayor información: https://drive.google.com/file/d/13uLYsv9P7K58ox8Sr9-bYHz7QaLwFmRD/view \nMás información: https://drive.google.com/drive/folders/1MtEuwy5gzN5pkuRIlBiGnux_3yKzkPzR?usp=sharing\n \nLugar: Instalaciones de la ENP 2\,ubicada en la Avenida Río Churubusco 1418\, Col. Carlos Zapata Vela\, Iztacalco\, 08040\, Ciudad de México.
URL:https://coordinaciongenero.unam.mx/evento/jornada-octubre-mes-de-los-cuidados/
LOCATION:Escuela Nacional Preparatoria Plantel 2 «Erasmo Castellanos Quinto» (ENP 2)
ATTACH;FMTTYPE=image/png:https://coordinaciongenero.unam.mx/wp-content/uploads/2024/09/cuidados24-paginaweb_05.png
END:VEVENT
BEGIN:VEVENT
DTSTART;TZID=America/Chicago:20251007T130000
DTEND;TZID=America/Chicago:20251028T150000
DTSTAMP:20260425T204604
CREATED:20251003T204336Z
LAST-MODIFIED:20251003T204336Z
UID:68697-1759842000-1761663600@coordinaciongenero.unam.mx
SUMMARY:Club de lectura: «Luna Violeta\, espacio de lectura y sororidad»
DESCRIPTION:7 al 28 de octubre de 2025 | 13:00 h\nClub de lectura: «Luna Violeta\, espacio de lectura y sororidad»\nOrganizada por: CInIG y POC del Colegio de Ciencias y Humanidades Plantel Oriente (CCH Oriente).\nClub de lectura con temas relacionados a los cuidados. Se realizará los martes 7\, 14\, 21 y 28 a las 13:00 h.\nParticipante(s): Adriana Belén Jiménez Vega.\nDirigida a: Alumnado del plantel.\nActividad presencial.\nLugar: «Rincón Violeta»\, segundo piso de la Biblioteca del CCH Plantel Oriente\, ubicado en Avenida Canal de San Juan S/N\, Tepalcates\, Iztapalapa\, 09210\, Ciudad de México.
URL:https://coordinaciongenero.unam.mx/evento/club-de-lectura-luna-violeta-espacio-de-lectura-y-sororidad/
LOCATION:CCH Oriente\, UNAM Colegio de Ciencias y Humanidades Plantel Oriente\, Av. Canal de San Juan S/N\, Tepalcates\, Iztapalapa\, 09210 Ciudad de México\, CDMX\, Iztapalapa\, Distrito Federal\, 09210\, Mexico
CATEGORIES:Feminismos
ATTACH;FMTTYPE=image/png:https://coordinaciongenero.unam.mx/wp-content/uploads/2024/09/cuidados24-paginaweb_03.png
END:VEVENT
BEGIN:VEVENT
DTSTART;TZID=America/Chicago:20251008T130000
DTEND;TZID=America/Chicago:20251031T130000
DTSTAMP:20260425T204604
CREATED:20251003T173934Z
LAST-MODIFIED:20251008T004721Z
UID:68640-1759928400-1761915600@coordinaciongenero.unam.mx
SUMMARY:Taller: «Taller de bordado»
DESCRIPTION:6 al 29 de octubre de 2025 | 13:00 h \nTaller: «Taller de bordado»\nTaller de bordado con perspectiva de cuidados que se realizará todos los lunes y miércoles del mes de octubre.\n \nParticipante(s): Rosaura Rocha Escamilla.\n \nDirigida a: Todo público.\n \nActividad presencial.
URL:https://coordinaciongenero.unam.mx/evento/taller-taller-de-bordado/
LOCATION:Explanada de folleteria del CCH Azcapotzalco
CATEGORIES:Cuidados
ATTACH;FMTTYPE=image/png:https://coordinaciongenero.unam.mx/wp-content/uploads/2024/09/cuidados24-paginaweb_04.png
END:VEVENT
BEGIN:VEVENT
DTSTART;VALUE=DATE:20251009
DTEND;VALUE=DATE:20251010
DTSTAMP:20260425T204604
CREATED:20251010T193114Z
LAST-MODIFIED:20260121T234221Z
UID:68992-1759968000-1760054399@coordinaciongenero.unam.mx
SUMMARY:«Jornada de bienestar emocional»
DESCRIPTION:9 de octubre de 2025 \n«Jornada de bienestar emocional» \nOrganizada por: Facultad de Estudios Superiores Aragón (FES-Aragón). \nDirigida a: Comunidad de la Facultad de Estudios Superiores Aragón (FES-Aragón). \nActividad presencial. \nLugar: Facultad de Estudios Superiores Aragón (FES-Aragón)\, Av. Universidad Nacional S/N\, Bosques de Aragón\, 57171 Cdad. Nezahualcóyotl\, Estado de México. \n  \nPrograma \n11:00 a 12:00 h \nTaller: «Tejiendo acuerdos: transformar conflictos en el aula» \nLugar: A-8121. \n  \n12:00 a 14:00 h \n«Cáscaras deportivas de fútbol y básquetbol» \nLugar: Canchas al aire libre. \n  \n13:00 a 14:30 h \n«Literatura\, emociones y bienestar» \nLugar: Atrás del Foro Móvil. \n  \n15:00 a 16:30 h \nGrupo de escucha \nRegistro: https://docs.google.com/forms/d/e/1FAIpQLSeIk9iVNIKJvVv6l-uH2VTnGp860HXA0kBObVqAYeK_eFE4Rw/viewform?usp=send_form  \n  \n16:30 a 18:00 h \nGrupo de reflexión: «Lo que no se ve también pesa. Hablemos de salud mental» \nRegistro: https://docs.google.com/forms/d/e/1FAIpQLSfSiP7RkLSXRfIqhn2OT6upxqZ78dZO1O-BEjcVoTq11g1Akw/viewform?usp=send_form  \n  \n16:00 a 18:00 h \n«Espacio Puma de activación física y recreación» \nLugar: Explanada A2-A9. \n  \n17:00 a 18:00 h \nTaller: «Iceberg de la violencia de género» \nLugar: A-126. \n  \n18:00 a 19:00 h \nTaller: «Primeros auxilios psicológicos» \nLugar: A-213. \n  \n19:00 a 20:00 h \nTaller: «Estrategias para manejar el estrés» \nLugar: A-602.
URL:https://coordinaciongenero.unam.mx/evento/jornada-de-bienestar-emocional/
LOCATION:FES Aragón\, Facultad de Estudios Superiores Aragón UNAM\, Av. Universidad Nacional S/N\, Bosques de Aragon\, 57171 Cd. Nezahualcóyotl\, Méx.\, Nezahualcóyotl\, Estado de Mexico\, 57171\, Mexico
CATEGORIES:Género y salud
ATTACH;FMTTYPE=image/png:https://coordinaciongenero.unam.mx/wp-content/uploads/2024/09/cuidados24-paginaweb_04.png
END:VEVENT
BEGIN:VEVENT
DTSTART;VALUE=DATE:20251009
DTEND;VALUE=DATE:20251023
DTSTAMP:20260425T204604
CREATED:20251010T192253Z
LAST-MODIFIED:20251010T192253Z
UID:68989-1759968000-1761177599@coordinaciongenero.unam.mx
SUMMARY:«Octubre: Mes de los cuidados en la UNAM»
DESCRIPTION:9 a 22 de octubre de 2025 \n«Octubre: Mes de los cuidados en la UNAM» \nOrganizada por: Facultad de Ciencias Políticas y Sociales (FCPyS). \nDirigida a: Todo público. \nActividad presencial. \nLugar: Facultad de Ciencias Políticas y Sociales (FCPyS)\, ubicada en Mario de La Cueva\, C.U.\, Coyoacán\, 04510 Ciudad de México. \nPrograma \nJueves 9 de octubre \n9:00 h \nForo inaugural: «Seguridad\, cuidado y corresponsabilidad universitaria» \nLugar: Sala Lucio Mendieta y Núñez. \n  \n12:00 h \nTaller: «La importancia del tejido comunitario en la erradicación de las violencias» \nLugar: Anfiteatro. \nViernes 10 de octubre \n11:00 h \n«Bloque de prevención y cuidado» \nLugar: Explanada baja. \nSábado 11 de octubre \n11:00 h \nForo comunitario: «Revolución del cuidado» \nLugar: Explanada baja. \n11:00 h \n«Taller del manejo del estrés» \nLugar: Explanada baja. \nJueves 16 de octubre \n13:00 h \n«Simulacro participativo y reflexión de cuidado» \nLugar: Explanada baja. \n13:00 h \n«Cuidadómetro» \nLugar: Explanada baja. \nViernes 17 de octubre \n13:00 h \nCírculo de masculinidades: «Desaprendiendo masculinidades tóxicas» \nLugar: Explanada baja. \nSábado 18 de octubre \n13:00 h \nTaller: «Violencia digital y agresiones en redes sociales» \nSigue la transmisión: https://www.facebook.com/FCPyS.UNAM  \nMiércoles 22 de octubre \n11:00 h \nConferencia de cierre: «Violencias cotidianas y amor romántico-desafíos para la salud mental como derecho humano» \nLugar: Sala Lucio Mendieta y Núñez.
URL:https://coordinaciongenero.unam.mx/evento/octubre-mes-de-los-cuidados-en-la-unam/
LOCATION:Facultad de Ciencias Políticas y Sociales (FCPyS)\, Facultad de Ciencias Políticas y Sociales\, Mario de La Cueva\, C.U.\, Coyoacán\, 04510 Ciudad de México\, CDMX\, Coyoacan\, Distrito Federal\, 04510\, Mexico
CATEGORIES:Cuidados
ATTACH;FMTTYPE=image/png:https://coordinaciongenero.unam.mx/wp-content/uploads/2024/09/cuidados24-paginaweb_04.png
END:VEVENT
BEGIN:VEVENT
DTSTART;TZID=America/Chicago:20251009T080000
DTEND;TZID=America/Chicago:20251025T170000
DTSTAMP:20260425T204604
CREATED:20251006T165013Z
LAST-MODIFIED:20251107T222451Z
UID:68830-1759996800-1761411600@coordinaciongenero.unam.mx
SUMMARY:«Curso Santander Mujeres Líderes – Dalia – UIN 2025»
DESCRIPTION:11 de agosto a 12 de octubre de 2025 \n«Curso Santander Mujeres Líderes – Dalia – UIN 2025»\nOrganizada por: Santander\, Dalia Empower y Universidad Insurgentes. \n El diplomado autogestivo en línea se compone de 3 módulos\, cada uno con una duración de 30 horas de aprendizaje\, las cuales incluyen la visualización de e-clases\, la lectura de diversos recursos\, así como la realización de actividades y sesiones en vivo con su coach asignada (en total\, son 6 sesiones de conexión los jueves o sábados\, pudiendo elegir la opción más conveniente cada semana).  Evaluación de solicitudes y selección de candidatas del 16 al 25 de octubre de 2025. \nDirigida a: Mujeres mayores de 18 años. \nActividad en línea. \nConsulta las bases: https://app.santanderopenacademy.com/es/program/mujeres-lideres-dalia-uin-2025?fbclid=IwY2xjawNQ0AlleHRuA2FlbQIxMABicmlkETF0dG9LWkRzeHRhTTFPdkIzAR7ma8m2du12Ec_wfw7Z-P-LBjrS4PlxSmaMmw_-8tL-0sZv7qFGqINvS74nmg_aem_FThVJILWzWi4KbVKApI2iQ
URL:https://coordinaciongenero.unam.mx/evento/curso-santander-mujeres-lideres-dalia-uin-2025/
CATEGORIES:Convocatorias
ATTACH;FMTTYPE=image/jpeg:https://coordinaciongenero.unam.mx/wp-content/uploads/2025/10/curso-santander-mujeres-lideres.jpg
END:VEVENT
BEGIN:VEVENT
DTSTART;TZID=America/Chicago:20251009T090000
DTEND;TZID=America/Chicago:20251009T100000
DTSTAMP:20260425T204604
CREATED:20251014T025824Z
LAST-MODIFIED:20251014T030113Z
UID:69063-1760000400-1760004000@coordinaciongenero.unam.mx
SUMMARY:Conversatorio: «Cuidado\, seguridad\, salud y corresponsabilidad universitaria»
DESCRIPTION:Cuidados\n9 de octubre de 2025 | 09:00 h\nConversatorio: «Cuidado\, seguridad\, salud y corresponsabilidad universitaria»\nOrganizada por: Coordinación de Atención a Estudiantes (CAE)\, Unidad Multidisciplinaria de Atención Integral de la Salud (UMAISC)\, Unidad Interna de Protección Civil (UIPC) y Unidad de Género (UG) de la Facultad de Ciencias Políticas y Sociales (FCPyS).\nCharla dirigida al alumnado y a la comunidad en general para dialogar colectivamente sobre la prevención de la violencia y visibilizar recursos institucionales de acompañamiento.\nParticipante(s): Lic. Héctor Lemus Pagaza (CAE)\, MPSS. Ana Isabel Valladares García (UMAISC)\, Lic. Jesús Mendieta Nava (UIPC) y Dra. Mónica Amilpas García (UG).\nDirigida a: Todo público.\nActividad presencial.\nLugar: Facultad de Ciencias Políticas y Sociales\, ubicada en Circuito Mario de la Cueva\, C.U.\, Coyoacán\, 04510\, Ciudad de México.
URL:https://coordinaciongenero.unam.mx/evento/conversatorio-cuidado-seguridad-salud-y-corresponsabilidad-universitaria/
LOCATION:Facultad de Ciencias Políticas y Sociales (FCPyS)\, Facultad de Ciencias Políticas y Sociales\, Mario de La Cueva\, C.U.\, Coyoacán\, 04510 Ciudad de México\, CDMX\, Coyoacan\, Distrito Federal\, 04510\, Mexico
CATEGORIES:Cuidados
ATTACH;FMTTYPE=image/png:https://coordinaciongenero.unam.mx/wp-content/uploads/2024/09/cuidados24-paginaweb-06.png
END:VEVENT
BEGIN:VEVENT
DTSTART;TZID=America/Chicago:20251009T100000
DTEND;TZID=America/Chicago:20251009T160000
DTSTAMP:20260425T204604
CREATED:20251003T204624Z
LAST-MODIFIED:20251003T204715Z
UID:68699-1760004000-1760025600@coordinaciongenero.unam.mx
SUMMARY:Actividad: «Jornada Integral por la Salud Mental\, los Cuidados y el Apoyo»
DESCRIPTION:9 de octubre de 2025 | 10:00 a 16:00 h\nActividad: «Jornada Integral por la Salud Mental\, los Cuidados y el Apoyo»\nOrganizada por: Escuela Nacional de Estudios Superiores Unidad León (ENES León).\nEsta jornada busca promover el bienestar integral de los estudiantes universitarios a través de actividades que fortalezcan la salud mental\, la creatividad y la vida universitaria\, impulsando a la vez la reflexión sobre los cuidados y el apoyo como ejes de una sociedad más solidaria.\nParticipante(s): Andrea Anaíd Ramírez Guerrero; Verónica Limón Fernández; Jessica de la Luz Jaramillo Vela; Laura Uvaldina Pineda Godínez; Laura Elena Paniagua Martínez; María Fernanda Cervantes Mora\, y Julio César Rivera Andrade.\nDirigida a: Todo público.\nActividad presencial.\nLugar: «Explanada de las Letras» de la ENES León\, ubicada en Boulevard UNAM 2011\, Col. Predio El Saucillo y El Potrero\, León de los Aldama\, 37684\, Guanajuato.
URL:https://coordinaciongenero.unam.mx/evento/actividad-jornada-integral-por-la-salud-mental-los-cuidados-y-el-apoyo/
LOCATION:ENES León
CATEGORIES:Salud mental
ATTACH;FMTTYPE=image/png:https://coordinaciongenero.unam.mx/wp-content/uploads/2024/09/cuidados24-paginaweb_03.png
END:VEVENT
BEGIN:VEVENT
DTSTART;TZID=America/Chicago:20251009T100000
DTEND;TZID=America/Chicago:20251009T160000
DTSTAMP:20260425T204604
CREATED:20251005T033954Z
LAST-MODIFIED:20251005T033954Z
UID:68777-1760004000-1760025600@coordinaciongenero.unam.mx
SUMMARY:Actividad: «Jornada Integral por la Salud Mental\, los Cuidados y el Apoyo»
DESCRIPTION:9 de octubre de 2025 | 10:00 a 16:00 h \nActividad: «Jornada Integral por la Salud Mental\, los Cuidados y el Apoyo»\n\n  \nEsta jornada busca promover el bienestar integral de los estudiantes universitarios a través de actividades que fortalezcan la salud mental\, la creatividad y la vida universitaria\, impulsando a la vez la reflexión sobre los cuidados y el apoyo como ejes de una sociedad más solidaria.\n \nParticipante(s): Andrea Anaíd Ramírez Guerrero; Verónica Limón Fernández; Jessica de la Luz Jaramillo Vela; Laura Uvaldina Pineda Godínez; Laura Elena Paniagua Martínez; María Fernanda Cervantes Mora\, y Julio César Rivera Andrade.\n \nDirigida a: Todo público.\n \nActividad presencial. \nLugar: «Explanada de las Letras» de la ENES León\, ubicada en Boulevard UNAM 2011\, Col. Predio El Saucillo y El Potrero\, León de los Aldama\, 37684\, Guanajuato.
URL:https://coordinaciongenero.unam.mx/evento/actividad-jornada-integral-por-la-salud-mental-los-cuidados-y-el-apoyo-2/
LOCATION:ENES León
CATEGORIES:Salud mental
ATTACH;FMTTYPE=image/png:https://coordinaciongenero.unam.mx/wp-content/uploads/2024/09/cuidados24-paginaweb_02.png
END:VEVENT
BEGIN:VEVENT
DTSTART;TZID=America/Chicago:20251009T100000
DTEND;TZID=America/Chicago:20251031T140000
DTSTAMP:20260425T204604
CREATED:20250807T183827Z
LAST-MODIFIED:20260121T204907Z
UID:67433-1760004000-1761919200@coordinaciongenero.unam.mx
SUMMARY:Seminarios de posgrado: «Utopía Queer: pensar e imaginar un futuro no normativo»
DESCRIPTION:11 de agosto al 28 de noviembre de 2025  | 10:00 a 12:00h \nSeminarios de posgrado: «Utopía Queer: pensar e imaginar un futuro no normativo»\nEl seminario se llevará a cabo del 11 de agosto al 28 de noviembre de 2025\, los jueves de 10 a 14 h. \nParticipante(s): Dr. Gerardo Mejía Núñez. \nDirigido a: Estudiantes inscritos en alguno de los programas de posgrado de la UNAM. \nActividad presencial. \nConsulta las bases en: https://cieg.unam.mx/seminarios.php  \nInformes: formacion@cieg.unam.mx 
URL:https://coordinaciongenero.unam.mx/evento/seminarios-de-posgrado-utopia-queer-pensar-e-imaginar-un-futuro-no-normativo/
LOCATION:Unidad de Posgrado UNAM\, Circuito de los Posgrados s/n\, C.U.\, Coyoacán\, Ciudad de México\, 04510
CATEGORIES:Diversidades y disidencias
ATTACH;FMTTYPE=image/jpeg:https://coordinaciongenero.unam.mx/wp-content/uploads/2025/08/utopia-queer.jpg
END:VEVENT
BEGIN:VEVENT
DTSTART;TZID=America/Chicago:20251009T120000
DTEND;TZID=America/Chicago:20251009T120000
DTSTAMP:20260425T204604
CREATED:20251001T025932Z
LAST-MODIFIED:20251001T204652Z
UID:68510-1760011200-1760011200@coordinaciongenero.unam.mx
SUMMARY:Práctica de mindfulness: «Tomo una pausa\, cuido mi bienestar»
DESCRIPTION:9 de octubre de 2025 | 12:00 h\nPráctica de mindfulness: «Tomo una pausa\, cuido mi bienestar»\nOrganizada por: CInIG y POC del Instituto de Geociencias (IGc).\nCon motivo del Día Mundial de la Salud Mental\, se brindará un taller de mindfulness para adquirir herramientas que permitan manejar el estrés.\nImpartida por: Laura Villanueva (ENES-Juriquilla).\nDirigida a: Todo público.\nActividad presencial.\nLugar: Sala de Académicos del Instituto de Geociencias\, ubicado en Campus UNAM Juriquilla\, Boulevard Universitario 3001\, Santiago de Querétaro\, 76086\, Querétaro\, México.
URL:https://coordinaciongenero.unam.mx/evento/practica-de-mindfulness-tomo-una-pausa-cuido-mi-bienestar/
LOCATION:Centro de Geociencias\, ENES Juriquilla\, U.N.A.M. Campus Juriquilla\, Blvd. Juriquilla 3001\, Juriquilla\, la mesa\, 76230 Juriquilla\, Qro.\, Querétaro\, 76230\, Mexico
CATEGORIES:Salud mental
ATTACH;FMTTYPE=image/png:https://coordinaciongenero.unam.mx/wp-content/uploads/2024/09/cuidados24-paginaweb_01.png
END:VEVENT
BEGIN:VEVENT
DTSTART;TZID=America/Chicago:20251009T120000
DTEND;TZID=America/Chicago:20251009T130000
DTSTAMP:20260425T204604
CREATED:20251014T030240Z
LAST-MODIFIED:20251014T031041Z
UID:69066-1760011200-1760014800@coordinaciongenero.unam.mx
SUMMARY:Taller: «El tejido comunitario y la salud»
DESCRIPTION:Género y salud\n9 de octubre de 2025 | 12:00 h\nTaller: «El tejido comunitario y la salud»\nOrganizada por: POC y Unidad Multidisciplinaria de Atención Integral de la Salud (UMAISC) de la Facultad de Ciencias Políticas y Sociales (FCPyS).\nTaller para reconocer el papel del cuidado comunitario en la prevención de violencias y la promoción de la salud.\nParticipante(s): MPSS. Ana Isabel Valladares García (UMAISC).\nDirigida a: Todo público.\nActividad presencial.\nLugar: Facultad de Ciencias Políticas y Sociales\, ubicada en Circuito Mario de la Cueva\, C.U.\, Coyoacán\, 04510\, Ciudad de México.
URL:https://coordinaciongenero.unam.mx/evento/taller-el-tejido-comunitario-y-la-salud/
LOCATION:Facultad de Ciencias Políticas y Sociales (FCPyS)\, Facultad de Ciencias Políticas y Sociales\, Mario de La Cueva\, C.U.\, Coyoacán\, 04510 Ciudad de México\, CDMX\, Coyoacan\, Distrito Federal\, 04510\, Mexico
CATEGORIES:Cuidados
ATTACH;FMTTYPE=image/png:https://coordinaciongenero.unam.mx/wp-content/uploads/2024/09/cuidados24-paginaweb-06.png
END:VEVENT
BEGIN:VEVENT
DTSTART;TZID=America/Chicago:20251009T130000
DTEND;TZID=America/Chicago:20251009T130000
DTSTAMP:20260425T204604
CREATED:20251002T023755Z
LAST-MODIFIED:20251002T023755Z
UID:68568-1760014800-1760014800@coordinaciongenero.unam.mx
SUMMARY:Taller: «Toallas sanitarias sustentables. Menstruación Digna»
DESCRIPTION:9 de octubre de 2025 | 13:00 h\n \nTaller: «Toallas sanitarias sustentables. Menstruación Digna»\n  \nTaller para mujeres y personas menstruantes\, enfocado en la elaboración de toallas femeninas ecológicas.\n \nParticipante(s): Ma. del Carmen Mejía Solis\, Edna Jiménez Torres\, Adriana Belén Jiménez Vega y Julieta Sierra Mondragón.\n\nDirigido a: Todo público.\n\nActividad presencial.\n\nLugar: Velaria del CCH Plantel Oriente\, ubicado en Avenida Canal de San Juan S/N\, Tepalcates\, Iztapalapa\, 09210\, Ciudad de México. 
URL:https://coordinaciongenero.unam.mx/evento/taller-toallas-sanitarias-sustentables-menstruacion-digna/
LOCATION:CCH Oriente\, UNAM Colegio de Ciencias y Humanidades Plantel Oriente\, Av. Canal de San Juan S/N\, Tepalcates\, Iztapalapa\, 09210 Ciudad de México\, CDMX\, Iztapalapa\, Distrito Federal\, 09210\, Mexico
CATEGORIES:Cuidados
ATTACH;FMTTYPE=image/png:https://coordinaciongenero.unam.mx/wp-content/uploads/2024/09/cuidados24-paginaweb_01.png
END:VEVENT
BEGIN:VEVENT
DTSTART;TZID=America/Chicago:20251009T130000
DTEND;TZID=America/Chicago:20251009T150000
DTSTAMP:20260425T204604
CREATED:20251001T021058Z
LAST-MODIFIED:20251006T170259Z
UID:68496-1760014800-1760022000@coordinaciongenero.unam.mx
SUMMARY:Taller: «Cartas a quienes cuidan»
DESCRIPTION:9 de octubre de 2025 | 13:00 a 15:00 h\nTaller: «Cartas a quienes cuidan»\nOrganizada por: Dirección General de Publicaciones y Fomento Editorial (DGPyFE).\nTaller intensivo para reflexionar acerca del trabajo de cuidados y reconocer a quienes nos han cuidado mediante la creación de un epistolario colectivo.\nParticipante(s): Alejandra Eme Vázquez.\nDirigida a: Todo público.\nActividad presencial.\nLugar:  Librería «Jaime García Terrés»\, ubicada en Av. Universidad 3000\, Coyoacán\, C.U.\, 04510 Ciudad de México
URL:https://coordinaciongenero.unam.mx/evento/taller-cartas-a-quienes-cuidan/
LOCATION:Librería «Jaime García Terrés»\, Av. Universidad 3000\, Coyoacán\, C.U.\,\, Ciudad de México\, Distrito Federal\, 04510\, Mexico
CATEGORIES:Cuidados
ATTACH;FMTTYPE=image/png:https://coordinaciongenero.unam.mx/wp-content/uploads/2024/09/cuidados24-paginaweb_01.png
END:VEVENT
BEGIN:VEVENT
DTSTART;TZID=America/Chicago:20251009T130000
DTEND;TZID=America/Chicago:20251030T130000
DTSTAMP:20260425T204604
CREATED:20251002T025552Z
LAST-MODIFIED:20251002T025552Z
UID:68571-1760014800-1761829200@coordinaciongenero.unam.mx
SUMMARY:Curso-Taller: «Cultura de Paz. Con temas relacionados a los cuidados»
DESCRIPTION:9 a 30 de octubre de 2025 | 13:00 h \n \nCurso-Taller: «Cultura de Paz. Con temas relacionados a los cuidados» \n\nCurso-Taller de cultura de paz en el marco del Mes de los Cuidados\, con el objetivo de contribuir al bienestar colectivo a través de redes de apoyo. Se impartirá los jueves 9\, 16\, 23 y 30 a las 13:00 h.\n \nParticipante(s): Edna Jiménez Torres.\n \nDirigido a: Todo público.\n \nActividad presencial.\n \nLugar: Audiovisual 2 del CCH Plantel Oriente\, ubicado en Avenida Canal de San Juan S/N\, Tepalcates\, Iztapalapa\, 09210\, Ciudad de México. 
URL:https://coordinaciongenero.unam.mx/evento/curso-taller-cultura-de-paz-con-temas-relacionados-a-los-cuidados/
LOCATION:CCH Oriente\, UNAM Colegio de Ciencias y Humanidades Plantel Oriente\, Av. Canal de San Juan S/N\, Tepalcates\, Iztapalapa\, 09210 Ciudad de México\, CDMX\, Iztapalapa\, Distrito Federal\, 09210\, Mexico
CATEGORIES:Prevención de la Violencia de Género
ATTACH;FMTTYPE=image/png:https://coordinaciongenero.unam.mx/wp-content/uploads/2024/09/cuidados24-paginaweb-06.png
END:VEVENT
BEGIN:VEVENT
DTSTART;TZID=America/Chicago:20251009T170000
DTEND;TZID=America/Chicago:20251030T170000
DTSTAMP:20260425T204604
CREATED:20251010T200203Z
LAST-MODIFIED:20260121T234208Z
UID:69002-1760029200-1761843600@coordinaciongenero.unam.mx
SUMMARY:Ciclo de presentaciones: «La apología. Entre el dolor y el sufrimiento»
DESCRIPTION:Viernes del 9 al 30 de octubre de 2025 | 17:00 h \nCiclo de presentaciones: «La apología. Entre el dolor y el sufrimiento» \nOrganizada por:  Instituto de Investigaciones Sociales (IIS-UNAM). \nDirigida a: Todo público. \nActividad en línea. \nSigue la transmisión en: https://www.youtube.com/@canaliisunam  \n  \nPrograma \n9 de octubre \n «Fibromialgia y dolor crónico: retos diagnósticos\, terapéuticos y el papel de la apología» \nParticipante(s): Dra. Fernanda de Blas López (Facultad de Medicina\, UNAM). \n16 de octubre \n «La apología y la desnormalización del dolor: una aproximación desde la comunicación pública de la ciencia» \nParticipante(s): Dra. Karina Bárcenas Barajas (Instituto de Investigaciones Sociales UNAM). \n23 de octubre \n «Rompiendo barreras para un liderazgo inclusivo: resultados de un proyecto de equidad de género en especialistas de medicina del dolor» \nParticipante(s): Dra. Hannah Parquett (Universidad de Buenos Aires) y Dra. Sandra Victoria Cala Rivas (Latin American Pain Society). \n30 de octubre \nPresentación editorial: «Espiritualidad en cuidados paliativos» \nParticipante(s): Dr. Guillermo Eduardo Aréchiga Ornelas (Hospital General de Occidente) y Dr. José Gerardo Velázquez Ramos (Instituto Jalisciense de Alivio al Dolor y Cuidados Paliativos).
URL:https://coordinaciongenero.unam.mx/evento/ciclo-de-presentaciones-la-apologia-entre-el-dolor-y-el-sufrimiento/
LOCATION:Actividad en línea.
CATEGORIES:Género y salud
ATTACH;FMTTYPE=image/png:https://coordinaciongenero.unam.mx/wp-content/uploads/2024/09/cuidados24-paginaweb-06.png
END:VEVENT
BEGIN:VEVENT
DTSTART;TZID=America/Chicago:20251009T203000
DTEND;TZID=America/Chicago:20251009T203000
DTSTAMP:20260425T204604
CREATED:20251002T221223Z
LAST-MODIFIED:20260122T002342Z
UID:68596-1760041800-1760041800@coordinaciongenero.unam.mx
SUMMARY:Descuento para concierto:«Vivir Quintana. Fuimos todas. Tour 2025»
DESCRIPTION:9 de octubre de 2025 | 20:30 h \nDescuento para concierto: «Vivir Quintana. Fuimos todas. Tour 2025» \nOrganizada por: Dirección General de Atención a la Comunidad (DGACO) y Comunidad UNAM. \nAprovecha esta promoción única\, 50% de descuento para la Comunidad UNAM. Código: VIVIRTEATRO. Válido sólo en Ticketmaster. \nParticipante(s): Vivir Quintana. \nDirigida a: Todo público. \nActividad presencial. \nLugar: Teatro de la Ciudad Esperanza Iris\, ubicado en Donceles 36\, Centro Histórico de la Cd. de México\, Centro\, Cuauhtémoc\, 06010\, Ciudad de México.
URL:https://coordinaciongenero.unam.mx/evento/descuento-para-conciertovivir-quintana-fuimos-todas-tour-2025/
LOCATION:Teatro de la Ciudad Esperanza Iris\, Donceles 36\, Centro Histórico de la Cd. de México\, Centro\, Cuauhtémoc\, 06010\, Ciudad de México.\, Cuauhtémoc\, Distrito Federal\, 06010\, Mexico
CATEGORIES:Música
ATTACH;FMTTYPE=image/png:https://coordinaciongenero.unam.mx/wp-content/uploads/2025/10/vivir-quintana.png
END:VEVENT
END:VCALENDAR