BEGIN:VCALENDAR
VERSION:2.0
PRODID:-//Coordinación para la Igualdad de Género UNAM - ECPv6.15.20//NONSGML v1.0//EN
CALSCALE:GREGORIAN
METHOD:PUBLISH
X-WR-CALNAME:Coordinación para la Igualdad de Género UNAM
X-ORIGINAL-URL:https://coordinaciongenero.unam.mx
X-WR-CALDESC:Eventos para Coordinación para la Igualdad de Género UNAM
REFRESH-INTERVAL;VALUE=DURATION:PT1H
X-Robots-Tag:noindex
X-PUBLISHED-TTL:PT1H
BEGIN:VTIMEZONE
TZID:America/Chicago
BEGIN:DAYLIGHT
TZOFFSETFROM:-0600
TZOFFSETTO:-0500
TZNAME:CDT
DTSTART:20240310T080000
END:DAYLIGHT
BEGIN:STANDARD
TZOFFSETFROM:-0500
TZOFFSETTO:-0600
TZNAME:CST
DTSTART:20241103T070000
END:STANDARD
BEGIN:DAYLIGHT
TZOFFSETFROM:-0600
TZOFFSETTO:-0500
TZNAME:CDT
DTSTART:20250309T080000
END:DAYLIGHT
BEGIN:STANDARD
TZOFFSETFROM:-0500
TZOFFSETTO:-0600
TZNAME:CST
DTSTART:20251102T070000
END:STANDARD
BEGIN:DAYLIGHT
TZOFFSETFROM:-0600
TZOFFSETTO:-0500
TZNAME:CDT
DTSTART:20260308T080000
END:DAYLIGHT
BEGIN:STANDARD
TZOFFSETFROM:-0500
TZOFFSETTO:-0600
TZNAME:CST
DTSTART:20261101T070000
END:STANDARD
END:VTIMEZONE
BEGIN:VTIMEZONE
TZID:UTC
BEGIN:STANDARD
TZOFFSETFROM:+0000
TZOFFSETTO:+0000
TZNAME:UTC
DTSTART:20240101T000000
END:STANDARD
END:VTIMEZONE
BEGIN:VEVENT
DTSTART;VALUE=DATE:20250801
DTEND;VALUE=DATE:20250909
DTSTAMP:20260425T215113
CREATED:20250905T201610Z
LAST-MODIFIED:20250905T201610Z
UID:68085-1754006400-1757375999@coordinaciongenero.unam.mx
SUMMARY:Convocatoria para el XVI Diplomado Regional: «Fortalecimiento del liderazgo de las mujeres indígenas»
DESCRIPTION:1 de agosto al 8 de septiembre \nConvocatoria para el XVI Diplomado Regional: «Fortalecimiento del liderazgo de las mujeres indígenas» \nOrganizada por: Fondo para el Desarrollo de los Pueblos Indígenas de América Latina y el Caribe (FILAC)\, a través del Programa de Educación para la Equidad y la Universidad Indígena Intercultural (UII)\, el Programa Emblemático de Mujeres Indígenas de América Latina (MILAC)\, junto a las principales redes internacionales de mujeres de la región\, en colaboración con la Universidad Nacional Autónoma de México (UNAM) y Agencia Española de Cooperación Internacional para el Desarrollo (AECID). \nEste diplomado\, que se realizará del 6 de octubre al 28 de noviembre\, en modalidad virtual\, a través de la plataforma de educación a distancia de la UII\, responde al Objetivo Específico 4 del Plan de Acción de Iberoamérica para la Implementación de los Derechos de los Pueblos Indígenas\, orientado a visibilizar y fortalecer la participación plena y efectiva de las mujeres indígenas en la generación de políticas públicas para la prevención y erradicación de las diversas formas de violencias que les afectan. \nDirigida a: Mujeres indígenas de América Latina y el Caribe\, pertenecientes a países miembros del FILAC. \nActividad en línea. \nConsulta las bases en: https://www.filac.org/convocatoria-a-becas-xvi-edicion-del-diplomado-para-el-fortalecimiento-del-liderazgo-de-la-mujer-indigena/fbclid=IwY2xjawMbOUdleHRuA2FlbQIxMABicmlkETFFUWkwVEpjaWxzcGdWSzVQAR5u5q1zMkFDfSxozRDiv2kWdKENfhjpILmK7QdkAc_0VzgB_rEZ-ICuSzeDA_aem_hLS8Vfmw8BFtGtP5akFr9g
URL:https://coordinaciongenero.unam.mx/evento/convocatoria-para-el-xvi-diplomado-regional-fortalecimiento-del-liderazgo-de-las-mujeres-indigenas/
LOCATION:Actividad en línea.
CATEGORIES:Convocatorias
ATTACH;FMTTYPE=image/jpeg:https://coordinaciongenero.unam.mx/wp-content/uploads/2025/09/Liderazgo-mujeres-980x562-1.jpeg
END:VEVENT
BEGIN:VEVENT
DTSTART;VALUE=DATE:20250801
DTEND;VALUE=DATE:20250909
DTSTAMP:20260425T215113
CREATED:20250905T202221Z
LAST-MODIFIED:20250905T202221Z
UID:68091-1754006400-1757375999@coordinaciongenero.unam.mx
SUMMARY:Diplomado: «Construyendo puentes: feminismo\, igualdad\, cuidados y políticas públicas»
DESCRIPTION:1 de agosto al 8 de septiembre de 2025 \nDiplomado: «Construyendo puentes: feminismo\, igualdad\, cuidados y políticas públicas» \nOrganizada por: Programa de Posgrado en Ciencias Políticas y Sociales. \nDesde el siglo XIX\, las mujeres han impulsado movimientos para el reconocimiento de sus derechos. Tras la II Guerra Mundial\, la igualdad de género se consagra en la Carta de la ONU. En México\, leyes y reformas han transformado la participación de las mujeres en la política. Profundiza en estos temas en nuestro diplomado “Construyendo puentes”. El diplomado se llevará a cabo del 10 de octubre de 2025 al 18 de abril de 2026\, los días viernes de 15:00 a 19:00 horas\, y seis sesiones-taller los sábados de 9:00 a 13:00 horas. \nDirigido a: Personas que cuenten con un grado mínimo de licenciatura y estén interesadas en adquirir conocimientos teóricos y metodológicos para analizar las desigualdades de género desde los ámbitos social\, cultural\, jurídico\, económico y político\, así como los procesos de transversalización de la perspectiva de género en la agenda pública y en la construcción de políticas de igualdad para el pleno ejercicio de los derechos humanos de las mujeres. \nActividad en línea. \nInformes: educacion-continua@posgrado.unam.mx
URL:https://coordinaciongenero.unam.mx/evento/diplomado-construyendo-puentes-feminismo-igualdad-cuidados-y-politicas-publicas/
LOCATION:Actividad en línea.
CATEGORIES:Convocatorias
ATTACH;FMTTYPE=image/jpeg:https://coordinaciongenero.unam.mx/wp-content/uploads/2025/09/feminismo-igualdad-y-politicas-publicas.jpg
END:VEVENT
BEGIN:VEVENT
DTSTART;TZID=America/Chicago:20250807T080000
DTEND;TZID=America/Chicago:20250927T170000
DTSTAMP:20260425T215113
CREATED:20250801T201631Z
LAST-MODIFIED:20250801T201631Z
UID:67363-1754553600-1758992400@coordinaciongenero.unam.mx
SUMMARY:Muestra temporal: «Debate feminista\, 35 años»
DESCRIPTION:7 de agosto al 27 de septiembre \nMuestra temporal: «Debate feminista\, 35 años» \nOrganizada por: Centro de Investigaciones y Estudios de Género (CIEG) y Museo UNAM HOY. \nDirigida a: Todo público. \nActividad presencial. \nLugar: Moneda 2\, Centro Histórico\, Centro\, Cuauhtémoc\, 06060\, Ciudad de México.
URL:https://coordinaciongenero.unam.mx/evento/muestra-temporal-debate-feminista-35-anos/
LOCATION:Museo UNAM Hoy\, Calle Moneda 2\, Col. Centro\, Cuauhtémoc\,\, Ciudad de México\, 06060\, Mexico
CATEGORIES:Feminismos
ATTACH;FMTTYPE=image/png:https://coordinaciongenero.unam.mx/wp-content/uploads/2025/08/debate-feminista.png
END:VEVENT
BEGIN:VEVENT
DTSTART;VALUE=DATE:20250826
DTEND;VALUE=DATE:20250927
DTSTAMP:20260425T215113
CREATED:20250905T202633Z
LAST-MODIFIED:20250905T202633Z
UID:68094-1756166400-1758931199@coordinaciongenero.unam.mx
SUMMARY:Convocatoria. «Primer Congreso Internacional sobre Género y Masculinidades en el Espacio Público y Privado»
DESCRIPTION:26 de agosto al 26 de septiembre de 2025 \nConvocatoria. «Primer Congreso Internacional sobre Género y Masculinidades en el Espacio Público y Privado» \nOrganizada por: Facultad de Estudios Superiores Acatlán (FES-Acatlán). \nLa Facultad de Estudios Superiores Acatlán\, a través de sus instancias académicas y en colaboración con especialistas en estudios de género\, convoca a la comunidad académica\, estudiantil\, organizaciones civiles\, colectivos y personas interesadas en el análisis crítico de las masculinidades\, a participar en el Primer Congreso Internacional sobre Género y Masculinidades en el Espacio Público y Privado\, que se llevará a cabo los días 19\, 20 y 21 de noviembre de 2025. Este Congreso tiene como propósito generar un espacio de diálogo\, reflexión e intercambio de saberes en torno a las construcciones\, prácticas y representaciones de las masculinidades en los ámbitos públicos y privados\, desde una perspectiva crítica\, interdisciplinaria y con enfoque de derechos humanos. \nDirigido a: Comunidad académica\, estudiantil\, organizaciones civiles\, colectivos y personas interesadas en el análisis crítico de las masculinidades \nActividad híbrida. \nLugar: FES-Acatlán\, ubicada en Av. Jardines de San Mateo s/n\, Santa Cruz Acatlan\, 53150 Naucalpan de Juárez\, Estado de México. \nConsulta la convocatoria: https://www.pdffiller.com/jsfiller-desk14/?traceparent=00-ecb4e534c30ce90f5534d08a0dd0f4bc-131bc91c838f6c33-00&flat_pdf_quality=high&isShareViaLink=1&requestHash=1164dde1a7597ec43d77aae96039b8b63fc122cbab8407cec3489e35a9706a49&lang=es&projectId=1938678230&richTextFormatting=true&jsf-page-rearrange-v2=true&jsf-redesign-full=true&isSkipEditorLoadFrequency=true&jsf-probability-70=true&jsf-socket-io=true&jsf-simplified-modes-iteration-1=true&jsf-offline-mode=false&jsf-heading-bold=true&acc-share-button-in-editor=false&jsf-all-tools-tab=false&jsf-all-tools-tab-branch-b=false&jsf-editor-pdfjs-five=true&jsf-context-menu-to-right-panel=false&jsf-context-menu-to-right-panel-branch-b=false&jsf-disable-autosave=true&jsf-disable-browser-translation=false&jsf-web-mobile-newfillingexperience=false&routeId=5f6d37c3c324bdcea33d4e410a448c92#cc0a64ba6d1e447fb3b04fa573487764  \n 
URL:https://coordinaciongenero.unam.mx/evento/convocatoria-primer-congreso-internacional-sobre-genero-y-masculinidades-en-el-espacio-publico-y-privado/
LOCATION:FES Acatlán\, avenida Alcanfores y San Juan Totoltepec s/n\, Col. Santa Cruz Acatlán\, 53150\, Naucalpan de Juárez\, Estado de México.\, Estado de México\, Estado de México\, 53150\, Mexico
CATEGORIES:Convocatorias
ATTACH;FMTTYPE=image/jpeg:https://coordinaciongenero.unam.mx/wp-content/uploads/2025/09/genero-masculinidades-espacio-publico-y-privado.jpg
END:VEVENT
BEGIN:VEVENT
DTSTART;VALUE=DATE:20250828
DTEND;VALUE=DATE:20250913
DTSTAMP:20260425T215113
CREATED:20250826T211855Z
LAST-MODIFIED:20260121T223019Z
UID:67873-1756339200-1757721599@coordinaciongenero.unam.mx
SUMMARY:Cursos para personal académico de la UNAM (CIGU-PASD-Licenciatura) agosto y septiembre 2025
DESCRIPTION:La Coordinación para la Igualdad de Género y el Programa de Actualización y Superación Docente (DGAPA-PASD-Licenciatura) invitan al personal académico de la UNAM a los cursos:  \n\nLa investigación social feminista: bases teóricas\, metodológicas y apuestas políticas\nFacilita: Dra. Tania Rocha Sánchez.\nID: 14408\nFechas y horarios: Jueves del 28 de agosto al 18 de septiembre de 2025\, en un horario de 09:00 a 13:00 h\nCurso a distancia por plataforma Zoom. \n\n \nConstrucción de paz y resolución de conflictos en contextos universitarios\nFacilitan: Mtra. Tania Jimena Hernández Crespo\, Mtra. Ligia Colmenares\, Dra. Georgina García Rodríguez y Licda. Hortensia García Vigil.\nID: 14407\nFechas y horarios: Lunes a viernes\, del 08 al 12 de septiembre de 2025\, en un horario de 16:00 al 19:00 h\nCurso a distancia por plataforma Zoom.\n \n\n\n  \n¿Quiénes se puede inscribir a estos cursos?\nTe comentamos que los cursos del Programa de Actualización y Superación Docente contemplan únicamente al personal académico de la UNAM\, adscrito con número de trabajador(a/e) y que esté en la nómina. \nSin embargo\, existen otros casos que también se toman en cuenta y estos tienen sus propios requisitos: \nCASO 1: Persona académica en proceso de adscripción o docente en la UNAM\nSi existe una adscripción como Académico o Académica en proceso\, o bien\, que la persona postulante ha sido docente\, al menos en el semestre anterior inmediato en la Universidad. \nPara poder comprobar dicho proceso es necesario: \n\nContar con un documento oficial firmado y sellado por la autoridad competente (puede ser: copia de la hoja única de contratación\, credencial resellada\, talón de pago\, constancia de asignación de grupos vigente firmada y sellada por la entidad de adscripción). Esto aplicaría\, en todo caso\, para las\, los y les docentes o académicos que no se encuentren vigentes en nómina (pero que hayan tenido adscripción en el semestre inmediato anterior)\, los profesores cuya adscripción se encuentra en trámite y personas docentes jubiladas.\nPara efectuar este tipo de inscripción será necesario escribir a los correos electrónicos: actlic@dgapa.unam.mx y pasd@dgapa.unam.mx\, con la documentación anteriormente mencionada\, más los siguientes datos:\n\nel nombre del curso al que se desea inscribir\nnombre\nRFC\nCURP\ncorreo electrónico\nnúmero telefónico de contacto\n\n\n\nNota: Para que se les considere como personal académico de la UNAM\, la inscripción se llevará a cabo siempre y cuando la solicitud cumpla con lo antes descrito\, el curso tenga cupo y se realice dentro de los tiempos establecidos (a más tardar el día del inicio del curso). \nCASO 2: “Persona académica externa” adscrita o no a la UNAM\nEn el caso de que no se cuente con algún documento de esta índole\, debes registrarte bajo el procedimiento de “Persona académica externa”. Las personas docentes externas pueden ser académicas en otra institución adscrita a la UNAM (Medio Superior o Licenciatura)\, o bien\, de otra entidad educativa no adscrita a la Universidad. \nEn este caso\, los cursos tendrán costo. \n\nSi es por parte de una escuela incorporada el costo del curso es de 35 pesos por hora.\nPara escuelas no incorporadas el costo es de 50 por hora.\n\nImportante: El pago es único y no hay devolución. \nMayor información: \nCorreo de los cursos PASD: pasd@dgapa.unam.mx \n  \nINSCRIPCIONES Y PROGRAMAS AQUÍ\n  \nGuia de inscripción\n  \nPodría interesarte
URL:https://coordinaciongenero.unam.mx/evento/cursos-para-personal-academico-de-la-unam-cigu-pasd-agosto-septiembre-2025-lic/
LOCATION:Aula ZOOM
CATEGORIES:Curso,Educación para la igualdad,Prevención de la Violencia de Género,Violencia de Género
ATTACH;FMTTYPE=image/png:https://coordinaciongenero.unam.mx/wp-content/uploads/2022/04/cursosdocentes-imagenweb-04.png
END:VEVENT
BEGIN:VEVENT
DTSTART;TZID=America/Chicago:20250901T100000
DTEND;TZID=America/Chicago:20250910T120000
DTSTAMP:20260425T215113
CREATED:20250905T195329Z
LAST-MODIFIED:20250905T195329Z
UID:68070-1756720800-1757505600@coordinaciongenero.unam.mx
SUMMARY:Curso del PASD-DGAPA para docentes en licenciatura: «Estereotipos de género y expresiones de violencia en el aula»
DESCRIPTION:Curso del PASD-DGAPA para docentes en licenciatura: «Estereotipos de género y expresiones de violencia en el aula» \nOrganizado por: Centro de Investigaciones y Estudios de Género (CIEG). \nEl curso se llevará a cabo en sesiones sincronizadas los días lunes\, miércoles y viernes del 1 al 10 de septiembre de 10:00 a 12:00 h. \nParticipante(s): Dr. Gerardo Mejía\, CIEG. \nDirigido a: Docentes de licenciatura UNAM. \nInformes: formacion@cieg.unam.mx
URL:https://coordinaciongenero.unam.mx/evento/curso-del-pasd-dgapa-para-docentes-en-licenciatura-estereotipos-de-genero-y-expresiones-de-violencia-en-el-aula/
LOCATION:Actividad en línea.
CATEGORIES:Convocatorias
ATTACH;FMTTYPE=image/jpeg:https://coordinaciongenero.unam.mx/wp-content/uploads/2025/09/curso-pasd-dgapa.jpg
END:VEVENT
BEGIN:VEVENT
DTSTART;TZID=America/Chicago:20250903T180000
DTEND;TZID=America/Chicago:20250917T200000
DTSTAMP:20260425T215113
CREATED:20250801T191455Z
LAST-MODIFIED:20260122T232135Z
UID:67356-1756922400-1758139200@coordinaciongenero.unam.mx
SUMMARY:Taller: «Aportes feministas a la literatura hispanoamericana»
DESCRIPTION:3\, 10 y 17 de septiembre de 2025 | 18:00 a 20:00 h \nTaller: «Aportes feministas a la literatura hispanoamericana» \nOrganizada por: Cátedra Carlos Fuentes UNAM. \nParticipante(s): Yanina Vidal. \nDirigida a: Todo público. \nActividad en línea. \nInformes e inscripciones: programacionccfunam@gmail.com
URL:https://coordinaciongenero.unam.mx/evento/taller-aportes-feministas-a-la-literatura-hispanoamericana/
LOCATION:Actividad en línea.
ATTACH;FMTTYPE=image/png:https://coordinaciongenero.unam.mx/wp-content/uploads/2025/08/Aportes-feministas-a-la-literatura.png
END:VEVENT
BEGIN:VEVENT
DTSTART;VALUE=DATE:20250905
DTEND;VALUE=DATE:20251001
DTSTAMP:20260425T215113
CREATED:20250905T191437Z
LAST-MODIFIED:20250905T194455Z
UID:68065-1757030400-1759276799@coordinaciongenero.unam.mx
SUMMARY:Exposición temporal: «Heroínas de la insurgencia»
DESCRIPTION:Del 5 al 30 de septiembre de 2025 \nExposición temporal: «Heroínas de la insurgencia» \nOrganizada por: Museo de la Mujer. \nLa inauguración de la exposición se llevará a cabo el 5 de septiembre a las 12:00 h. \nActividad presencial. \nLugar: Museo de la Mujer ubicado en República de Bolivia 17\, Centro Histórico\, Cuauhtémoc\, 06020\, Ciudad de México.
URL:https://coordinaciongenero.unam.mx/evento/exposicion-temporal-heroinas-de-la-insurgencia/
LOCATION:Museo de la Mujer.\, C. República de Bolivia 17\, Centro Histórico de la Cdad. de México\, Centro\, Cuauhtémoc\, 06020 Ciudad de México\, CDMX\, Cuauhtémoc\, Distrito Federal\, 06020\, Mexico
CATEGORIES:Perspectiva de género
ATTACH;FMTTYPE=image/jpeg:https://coordinaciongenero.unam.mx/wp-content/uploads/2025/09/heroinas-de-la-insurgencia.jpg
END:VEVENT
BEGIN:VEVENT
DTSTART;TZID=America/Chicago:20250908T150000
DTEND;TZID=America/Chicago:20250908T170000
DTSTAMP:20260425T215113
CREATED:20250905T183418Z
LAST-MODIFIED:20250905T183418Z
UID:68041-1757343600-1757350800@coordinaciongenero.unam.mx
SUMMARY:Conversatorio: «Resignificar el papel de la mujeres en el movimiento de la independencia»
DESCRIPTION:8 de septiembre de 2025 |15:00 h \nConversatorio: «Resignificar el papel de la mujeres en el movimiento de la independencia» \nOrganizada por: Facultad de Ciencias Políticas y Sociales (FCPyS). \nDirigida a: Todo público. \nActividad presencial. \nLugar: Auditorio Ricardo Flores Magón de la Facultad de Ciencias Políticas y Sociales (FCPyS)\, ubicado en Mario de La Cueva\, C.U.\, Coyoacán\, 04510\, Ciudad de México.
URL:https://coordinaciongenero.unam.mx/evento/conversatorio-resignificar-el-papel-de-la-mujeres-en-el-movimiento-de-la-independencia/
LOCATION:Auditorio Ricardo Flores Magón de la FCPyS
CATEGORIES:Perspectiva de género
ATTACH;FMTTYPE=image/jpeg:https://coordinaciongenero.unam.mx/wp-content/uploads/2025/09/resignificar-el-papel-de-las-mujeres-en-el-movimiento-de-la-independencia.jpg
END:VEVENT
END:VCALENDAR