BEGIN:VCALENDAR
VERSION:2.0
PRODID:-//Coordinación para la Igualdad de Género UNAM - ECPv6.15.20//NONSGML v1.0//EN
CALSCALE:GREGORIAN
METHOD:PUBLISH
X-WR-CALNAME:Coordinación para la Igualdad de Género UNAM
X-ORIGINAL-URL:https://coordinaciongenero.unam.mx
X-WR-CALDESC:Eventos para Coordinación para la Igualdad de Género UNAM
REFRESH-INTERVAL;VALUE=DURATION:PT1H
X-Robots-Tag:noindex
X-PUBLISHED-TTL:PT1H
BEGIN:VTIMEZONE
TZID:America/Chicago
BEGIN:DAYLIGHT
TZOFFSETFROM:-0600
TZOFFSETTO:-0500
TZNAME:CDT
DTSTART:20240310T080000
END:DAYLIGHT
BEGIN:STANDARD
TZOFFSETFROM:-0500
TZOFFSETTO:-0600
TZNAME:CST
DTSTART:20241103T070000
END:STANDARD
BEGIN:DAYLIGHT
TZOFFSETFROM:-0600
TZOFFSETTO:-0500
TZNAME:CDT
DTSTART:20250309T080000
END:DAYLIGHT
BEGIN:STANDARD
TZOFFSETFROM:-0500
TZOFFSETTO:-0600
TZNAME:CST
DTSTART:20251102T070000
END:STANDARD
BEGIN:DAYLIGHT
TZOFFSETFROM:-0600
TZOFFSETTO:-0500
TZNAME:CDT
DTSTART:20260308T080000
END:DAYLIGHT
BEGIN:STANDARD
TZOFFSETFROM:-0500
TZOFFSETTO:-0600
TZNAME:CST
DTSTART:20261101T070000
END:STANDARD
END:VTIMEZONE
BEGIN:VEVENT
DTSTART;VALUE=DATE:20250711
DTEND;VALUE=DATE:20250831
DTSTAMP:20260424T103634
CREATED:20250507T061658Z
LAST-MODIFIED:20250507T061658Z
UID:65667-1752192000-1756598399@coordinaciongenero.unam.mx
SUMMARY:Convocatoria: Haceres y Saberes del Cuidado 2025
DESCRIPTION:11 de julio al 30 de agosto de 2025 | Viernes de las 17:00 a las 20:00 horas y los Sábados de las 10:00 a las 13:00 horas. \nConvocatoria: Haceres y Saberes del Cuidado 2025\nProgra­ma de formación que tiene por objetivo que las personas participantes obtengan conocimien­tos teóricos y prácticos sobre los cuidados\, que les permitan identificar y replantear estrategias de cuidados más transformadoras y democra­tizadoras a partir de experiencias propias.  \nDirigida a: Público mexicano o personas con residencia en México. \nActividad en línea. \nFormulario de postulación  \nMás información
URL:https://coordinaciongenero.unam.mx/evento/convocatoria-haceres-y-saberes-del-cuidado-2025-2/
CATEGORIES:Convocatorias
ATTACH;FMTTYPE=image/jpeg:https://coordinaciongenero.unam.mx/wp-content/uploads/2025/05/imagen.jpg
END:VEVENT
BEGIN:VEVENT
DTSTART;VALUE=DATE:20250801
DTEND;VALUE=DATE:20250909
DTSTAMP:20260424T103634
CREATED:20250905T201610Z
LAST-MODIFIED:20250905T201610Z
UID:68085-1754006400-1757375999@coordinaciongenero.unam.mx
SUMMARY:Convocatoria para el XVI Diplomado Regional: «Fortalecimiento del liderazgo de las mujeres indígenas»
DESCRIPTION:1 de agosto al 8 de septiembre \nConvocatoria para el XVI Diplomado Regional: «Fortalecimiento del liderazgo de las mujeres indígenas» \nOrganizada por: Fondo para el Desarrollo de los Pueblos Indígenas de América Latina y el Caribe (FILAC)\, a través del Programa de Educación para la Equidad y la Universidad Indígena Intercultural (UII)\, el Programa Emblemático de Mujeres Indígenas de América Latina (MILAC)\, junto a las principales redes internacionales de mujeres de la región\, en colaboración con la Universidad Nacional Autónoma de México (UNAM) y Agencia Española de Cooperación Internacional para el Desarrollo (AECID). \nEste diplomado\, que se realizará del 6 de octubre al 28 de noviembre\, en modalidad virtual\, a través de la plataforma de educación a distancia de la UII\, responde al Objetivo Específico 4 del Plan de Acción de Iberoamérica para la Implementación de los Derechos de los Pueblos Indígenas\, orientado a visibilizar y fortalecer la participación plena y efectiva de las mujeres indígenas en la generación de políticas públicas para la prevención y erradicación de las diversas formas de violencias que les afectan. \nDirigida a: Mujeres indígenas de América Latina y el Caribe\, pertenecientes a países miembros del FILAC. \nActividad en línea. \nConsulta las bases en: https://www.filac.org/convocatoria-a-becas-xvi-edicion-del-diplomado-para-el-fortalecimiento-del-liderazgo-de-la-mujer-indigena/fbclid=IwY2xjawMbOUdleHRuA2FlbQIxMABicmlkETFFUWkwVEpjaWxzcGdWSzVQAR5u5q1zMkFDfSxozRDiv2kWdKENfhjpILmK7QdkAc_0VzgB_rEZ-ICuSzeDA_aem_hLS8Vfmw8BFtGtP5akFr9g
URL:https://coordinaciongenero.unam.mx/evento/convocatoria-para-el-xvi-diplomado-regional-fortalecimiento-del-liderazgo-de-las-mujeres-indigenas/
LOCATION:Actividad en línea.
CATEGORIES:Convocatorias
ATTACH;FMTTYPE=image/jpeg:https://coordinaciongenero.unam.mx/wp-content/uploads/2025/09/Liderazgo-mujeres-980x562-1.jpeg
END:VEVENT
BEGIN:VEVENT
DTSTART;VALUE=DATE:20250801
DTEND;VALUE=DATE:20250909
DTSTAMP:20260424T103634
CREATED:20250905T202221Z
LAST-MODIFIED:20250905T202221Z
UID:68091-1754006400-1757375999@coordinaciongenero.unam.mx
SUMMARY:Diplomado: «Construyendo puentes: feminismo\, igualdad\, cuidados y políticas públicas»
DESCRIPTION:1 de agosto al 8 de septiembre de 2025 \nDiplomado: «Construyendo puentes: feminismo\, igualdad\, cuidados y políticas públicas» \nOrganizada por: Programa de Posgrado en Ciencias Políticas y Sociales. \nDesde el siglo XIX\, las mujeres han impulsado movimientos para el reconocimiento de sus derechos. Tras la II Guerra Mundial\, la igualdad de género se consagra en la Carta de la ONU. En México\, leyes y reformas han transformado la participación de las mujeres en la política. Profundiza en estos temas en nuestro diplomado “Construyendo puentes”. El diplomado se llevará a cabo del 10 de octubre de 2025 al 18 de abril de 2026\, los días viernes de 15:00 a 19:00 horas\, y seis sesiones-taller los sábados de 9:00 a 13:00 horas. \nDirigido a: Personas que cuenten con un grado mínimo de licenciatura y estén interesadas en adquirir conocimientos teóricos y metodológicos para analizar las desigualdades de género desde los ámbitos social\, cultural\, jurídico\, económico y político\, así como los procesos de transversalización de la perspectiva de género en la agenda pública y en la construcción de políticas de igualdad para el pleno ejercicio de los derechos humanos de las mujeres. \nActividad en línea. \nInformes: educacion-continua@posgrado.unam.mx
URL:https://coordinaciongenero.unam.mx/evento/diplomado-construyendo-puentes-feminismo-igualdad-cuidados-y-politicas-publicas/
LOCATION:Actividad en línea.
CATEGORIES:Convocatorias
ATTACH;FMTTYPE=image/jpeg:https://coordinaciongenero.unam.mx/wp-content/uploads/2025/09/feminismo-igualdad-y-politicas-publicas.jpg
END:VEVENT
BEGIN:VEVENT
DTSTART;TZID=America/Chicago:20250807T080000
DTEND;TZID=America/Chicago:20250927T170000
DTSTAMP:20260424T103634
CREATED:20250801T201631Z
LAST-MODIFIED:20250801T201631Z
UID:67363-1754553600-1758992400@coordinaciongenero.unam.mx
SUMMARY:Muestra temporal: «Debate feminista\, 35 años»
DESCRIPTION:7 de agosto al 27 de septiembre \nMuestra temporal: «Debate feminista\, 35 años» \nOrganizada por: Centro de Investigaciones y Estudios de Género (CIEG) y Museo UNAM HOY. \nDirigida a: Todo público. \nActividad presencial. \nLugar: Moneda 2\, Centro Histórico\, Centro\, Cuauhtémoc\, 06060\, Ciudad de México.
URL:https://coordinaciongenero.unam.mx/evento/muestra-temporal-debate-feminista-35-anos/
LOCATION:Museo UNAM Hoy\, Calle Moneda 2\, Col. Centro\, Cuauhtémoc\,\, Ciudad de México\, 06060\, Mexico
CATEGORIES:Feminismos
ATTACH;FMTTYPE=image/png:https://coordinaciongenero.unam.mx/wp-content/uploads/2025/08/debate-feminista.png
END:VEVENT
BEGIN:VEVENT
DTSTART;VALUE=DATE:20250826
DTEND;VALUE=DATE:20250927
DTSTAMP:20260424T103634
CREATED:20250905T202633Z
LAST-MODIFIED:20250905T202633Z
UID:68094-1756166400-1758931199@coordinaciongenero.unam.mx
SUMMARY:Convocatoria. «Primer Congreso Internacional sobre Género y Masculinidades en el Espacio Público y Privado»
DESCRIPTION:26 de agosto al 26 de septiembre de 2025 \nConvocatoria. «Primer Congreso Internacional sobre Género y Masculinidades en el Espacio Público y Privado» \nOrganizada por: Facultad de Estudios Superiores Acatlán (FES-Acatlán). \nLa Facultad de Estudios Superiores Acatlán\, a través de sus instancias académicas y en colaboración con especialistas en estudios de género\, convoca a la comunidad académica\, estudiantil\, organizaciones civiles\, colectivos y personas interesadas en el análisis crítico de las masculinidades\, a participar en el Primer Congreso Internacional sobre Género y Masculinidades en el Espacio Público y Privado\, que se llevará a cabo los días 19\, 20 y 21 de noviembre de 2025. Este Congreso tiene como propósito generar un espacio de diálogo\, reflexión e intercambio de saberes en torno a las construcciones\, prácticas y representaciones de las masculinidades en los ámbitos públicos y privados\, desde una perspectiva crítica\, interdisciplinaria y con enfoque de derechos humanos. \nDirigido a: Comunidad académica\, estudiantil\, organizaciones civiles\, colectivos y personas interesadas en el análisis crítico de las masculinidades \nActividad híbrida. \nLugar: FES-Acatlán\, ubicada en Av. Jardines de San Mateo s/n\, Santa Cruz Acatlan\, 53150 Naucalpan de Juárez\, Estado de México. \nConsulta la convocatoria: https://www.pdffiller.com/jsfiller-desk14/?traceparent=00-ecb4e534c30ce90f5534d08a0dd0f4bc-131bc91c838f6c33-00&flat_pdf_quality=high&isShareViaLink=1&requestHash=1164dde1a7597ec43d77aae96039b8b63fc122cbab8407cec3489e35a9706a49&lang=es&projectId=1938678230&richTextFormatting=true&jsf-page-rearrange-v2=true&jsf-redesign-full=true&isSkipEditorLoadFrequency=true&jsf-probability-70=true&jsf-socket-io=true&jsf-simplified-modes-iteration-1=true&jsf-offline-mode=false&jsf-heading-bold=true&acc-share-button-in-editor=false&jsf-all-tools-tab=false&jsf-all-tools-tab-branch-b=false&jsf-editor-pdfjs-five=true&jsf-context-menu-to-right-panel=false&jsf-context-menu-to-right-panel-branch-b=false&jsf-disable-autosave=true&jsf-disable-browser-translation=false&jsf-web-mobile-newfillingexperience=false&routeId=5f6d37c3c324bdcea33d4e410a448c92#cc0a64ba6d1e447fb3b04fa573487764  \n 
URL:https://coordinaciongenero.unam.mx/evento/convocatoria-primer-congreso-internacional-sobre-genero-y-masculinidades-en-el-espacio-publico-y-privado/
LOCATION:FES Acatlán\, avenida Alcanfores y San Juan Totoltepec s/n\, Col. Santa Cruz Acatlán\, 53150\, Naucalpan de Juárez\, Estado de México.\, Estado de México\, Estado de México\, 53150\, Mexico
CATEGORIES:Convocatorias
ATTACH;FMTTYPE=image/jpeg:https://coordinaciongenero.unam.mx/wp-content/uploads/2025/09/genero-masculinidades-espacio-publico-y-privado.jpg
END:VEVENT
BEGIN:VEVENT
DTSTART;VALUE=DATE:20250827
DTEND;VALUE=DATE:20250901
DTSTAMP:20260424T103634
CREATED:20250902T193804Z
LAST-MODIFIED:20260121T214902Z
UID:67962-1756252800-1756684799@coordinaciongenero.unam.mx
SUMMARY:«XXI Muestra Internacional de Mujeres en el Cine y la Televisión»
DESCRIPTION:27 a 31 de agosto de 2025 \n«XXI Muestra Internacional de Mujeres en el Cine y la Televisión» \nOrganizada por: Asociación de Mujeres en el Cine y la Televisión y Cineteca Nacional México. \nDirigida a: Todo público. \nActividad presencial. \nLugar: Sala 7 de la Cineteca Nacional México\, Av. México Coyoacán 389\, Xoco\, Benito Juárez\, 03330\, Ciudad de México. \n  \nMiércoles 27 de agosto \n  \n14:00 h \nDocumental: «¡Ni una Carmen más!» \nDirectora: Gabriela Estrada (México-USA). \nDocumental: «Aguasal» \nDirectora: Camila Pardo (México). \nDocumental: «Mientras regresas» \nDirectora: Leonor Zúñiga (Nicaragua). \n  \n16:00 h \nFicción: «Passarinho» \nDirectora: Natalia García Agraz (México). \nFicción: «Escritor» \nDirectora: Paula de Luque (Argentina). \n  \n19:00 h \nInauguración de la muestra \nFicción: «Apnea» \nDirectora: Natalia Bermúdez (México). \nDocumental: «Los rostros de Ágata» \nDirectora: Malgorzata Kaszera (Polonia-Inglaterra). \n  \nJueves 28 de agosto \n  \n14:00 h \nFicción: «Cabeza de pez» \nDirectora: Ximena Rodríguez (México). \nDocumental: «Mujeres latinoamericanas en el cine documental» \nDirectoras: Saudhi Batalla y Kenia Rodríguez (Cuba). \nDocumental: «Madre de grulla siberianas» \nDirectora: Iiris Härmä (Finlandia-Irán) \n  \n16:30 h \nFicción: «El límite del cuerpo» \nDirectora: Berenice Ubeda (México). \nDocumental: «Boletín interno» \nDirectora: Meri Franco Mao (Argentina). \n  \n19:00 h \nAnimación: «Un velero al final de la calle» \nDirectora: Lucía Aimira Borjas (Croacia). \nDocumental: «Mácula» \nDirectora: Marina X. Rivera (México). \nDocumental: «Mi tía Peque» \nDirectora: Claudia Loredo (México). \n  \nViernes 29 de agosto  \n  \n14:00 h \nFicción: «Como un tren cuando se aleja» \nDirectora: Milagros Güemes (Australia-Argentina). \nDocumental: «La sirenita» \nDirectora: Verónica Palafox (México). \nDocumental: «Marta» \nDirectora: Irma Saucedo (México). \n  \n16:15 h \nFicción: «Pecas» \nDirectora: Nevena Nikólova (Bulgaria). \nFicción: «Casa chica» \nDirectora: Lau Charles (México). \nDocumental: «Andrómaco» \nDirectora: Vania Ramírez del Pozo (México) \n  \n19:00 h \nFicción: «La que se quedó» \nDirectora: María Garé y Luiza Pace (Brasil). \nDocumental: «Dedo de novia» \nDirectora: Giselle Elías Karam (México). \n  \nSábado 30 de agosto \n  \n14:00 h  \nFicción: «El papel de pared amarillo»  \nDirectora: Alicja Pahl(Suiza -Portugal). \nFicción: «La invención de las especies»  \nDirectora: Tania Hermida (Ecuador). \n  \n16:15 \nExperimental: «Cenizas» \nDirectora: Carmen Puché Moré (España). \nAnimación: «Los peces no sueñan» \nDirectora: Montserrat Reyna (México). \nExperimental: «H’iketeia» \nDirectora: Christiane Burkhard (México). \n  \n19:00 h \nDocumental: «Mujer de barro» \nDirectora: Concepción Vázquez (México). \nDocumental: «Li cham» \nDirectora: Ana Ts’uyeb (México). \nDomingo 31 de agosto \n  \n14:00 h \nAnimación: «Nada siempre» \nDirectora: Gabriela López Ruíz (México). \nFicción: «Patrona» \nDirectora: Esthefanie Soto (México). \nFicción: «Chicharras» \nDirectora: Luna Marán (México).  \n  \n16:30 h \nFicción: «Gatitos en casa» \nDirectora: Kenia Aquino (México).  \nFicción: «Nélida» \nDirectora: Marina Artigas y Celeste Lois (Uruguay). \nDocumental: «Tratado de invisibilidad» \nDirectora: Luciana Kaplan (México). \n  \n19:00 h \nDocumental: «Vientre de luna» \nDirectora: Liliana K’an (México). \nFicción: «Valentina o la serenidad» \nDirectora: Ángeles Cruz (México).
URL:https://coordinaciongenero.unam.mx/evento/xxi-muestra-internacional-de-mujeres-en-el-cine-y-la-television/
LOCATION:CINETECA\, Av. México Coyoacán 389\, Xoco\, Benito Juárez\, 03330\, Ciudad de México.\, Coyoacón\, Distrito Federal\, 03330\, Mexico
CATEGORIES:Cine con perspectiva de género
ATTACH;FMTTYPE=image/jpeg:https://coordinaciongenero.unam.mx/wp-content/uploads/2025/09/Afiche-evento-muestra-de-cine-745x1024-1.jpeg
END:VEVENT
BEGIN:VEVENT
DTSTART;TZID=America/Chicago:20250827T130000
DTEND;TZID=America/Chicago:20250827T170000
DTSTAMP:20260424T103634
CREATED:20250902T205144Z
LAST-MODIFIED:20250902T205144Z
UID:67986-1756299600-1756314000@coordinaciongenero.unam.mx
SUMMARY:Seminario permanente de Regresa: «Sesión 1: Perspectiva de Género\, Derechos Humanos e Interseccionalidad frente a las desapariciones de personas»
DESCRIPTION:27 de agosto de 2025 | 13:00 h \nSeminario permanente de Regresa: «Sesión 1: Perspectiva de Género\, Derechos Humanos e Interseccionalidad frente a las desapariciones de personas» \nOrganizada por: Facultad de Ciencias Políticas y Sociales (FCPyS) y Proyecto Regresa. \n¡Inicia el Seminario Permanente del Proyecto Regresa! Un espacio interdisciplinario que abre sus puertas al diálogo\, la reflexión y la acción colectiva en torno a la desaparición de personas y el uso ético de tecnologías en su búsqueda e identificación. \nParticipante(s): Mtra. Serena Chew Plascencia (CES-FCPyS). \nDirigida a: Todo público. \nActividad híbrida. \nRegistro: https://forms.gle/NU5Pu2KuqncrUTeq7  \nLugar: Sala Lucio Mendieta de la Facultad de Ciencias Políticas y Sociales (FCPyS)\, ubicada en Mario de La Cueva\, C.U.\, Coyoacán\, 04510\, Ciudad de México. \nSigue la transmisión: https://www.facebook.com/profile.php?id=61563161354079
URL:https://coordinaciongenero.unam.mx/evento/seminario-permanente-de-regresa-sesion-1-perspectiva-de-genero-derechos-humanos-e-interseccionalidad-frente-a-las-desapariciones-de-personas/
LOCATION:Sala «Lucio Mendieta» de la FCPyS\, Circuito Mario de La Cueva\, C.U.\, Coyoacán\,\, Ciudad de México\, 04510\, Mexico
CATEGORIES:Perspectiva de género
ATTACH;FMTTYPE=image/png:https://coordinaciongenero.unam.mx/wp-content/uploads/2025/09/Captura-de-pantalla-2025-09-02-144823.png
END:VEVENT
BEGIN:VEVENT
DTSTART;TZID=America/Chicago:20250827T160000
DTEND;TZID=America/Chicago:20250827T170000
DTSTAMP:20260424T103634
CREATED:20250815T020532Z
LAST-MODIFIED:20260121T200900Z
UID:67573-1756310400-1756314000@coordinaciongenero.unam.mx
SUMMARY:Presentación editorial: «“Puedo ser parte del cambio”: personal médico en la lucha por el aborto seguro en Latinoamérica»
DESCRIPTION:Presentación editorial: «“Puedo ser parte del cambio”: personal médico en la lucha por el aborto seguro en Latinoamérica» \nOrganizado por: El Colegio de la Frontera Sur. \nConoce cuál es el aporte del personal médico a las acciones efectuadas para ampliar el acceso al aborto seguro en la región latinoamericana. En un viaje entre experiencias y aprendizajes\, descubriremos cómo las y los profesionales de la medicina pueden influir no solamente a través de la atención médica\, sino también por medio de la incidencia política. \nParticipan: Suzanne Veldhuis\, Georgina Sánchez y Laura López Argoytia. \nLugar: Foro Matilde Montoya.
URL:https://coordinaciongenero.unam.mx/evento/presentacion-editorial-puedo-ser-parte-del-cambio-personal-medico-en-la-lucha-por-el-aborto-seguro-en-latinoamerica/
LOCATION:Centro de Exposciones y Congresos UNAM\, Av. del IMAN 10\, Ciudad Universitaria\, Ciudad de México\, 04510\, Mexico
CATEGORIES:Derechos sexuales y reproductivos
ATTACH;FMTTYPE=image/png:https://coordinaciongenero.unam.mx/wp-content/uploads/2025/08/puedo-ser-parte-del-cambio.png
END:VEVENT
BEGIN:VEVENT
DTSTART;TZID=America/Chicago:20250827T160000
DTEND;TZID=America/Chicago:20250827T170000
DTSTAMP:20260424T103634
CREATED:20250815T021146Z
LAST-MODIFIED:20260122T232946Z
UID:67576-1756310400-1756314000@coordinaciongenero.unam.mx
SUMMARY:Presentación editorial: «Aguas abajo de Marta Brunet»
DESCRIPTION:Presentación editorial: «Aguas abajo de Marta Brunet» \nOrganizado por: Universidad de Chile. \nNatalia Cisterna\, académica de la Universidad de Chile\, destacará la importancia de la escritora chilena Marta Brunet. En particular\, se referirá a la novela Aguas abajo\, la cual\, publicada en 1923\, se inscribe dentro de la corriente del criollismo o realismo rural\, género que retrata la vida en el campo con sus costumbres\, problemas y paisajes. \nParticipante(s): Natalia Cisterna y Alondra Carrillo. \nLugar: Foro Iberoamérica
URL:https://coordinaciongenero.unam.mx/evento/presentacion-editorial-aguas-abajo-de-marta-brunet/
LOCATION:Centro de Exposciones y Congresos UNAM\, Av. del IMAN 10\, Ciudad Universitaria\, Ciudad de México\, 04510\, Mexico
CATEGORIES:Literatura
ATTACH;FMTTYPE=image/png:https://coordinaciongenero.unam.mx/wp-content/uploads/2025/08/Filuni2025_poster_1.png
END:VEVENT
BEGIN:VEVENT
DTSTART;TZID=America/Chicago:20250827T160000
DTEND;TZID=America/Chicago:20250827T180000
DTSTAMP:20260424T103634
CREATED:20250826T174953Z
LAST-MODIFIED:20250826T175646Z
UID:67857-1756310400-1756317600@coordinaciongenero.unam.mx
SUMMARY:Conferencia Magistral: «Internacionalismo de las intelectuales amefricanas: tejidos de la memoria epistémica»
DESCRIPTION:Conferencia Magistral: «Internacionalismo de las intelectuales amefricanas: tejidos de la memoria epistémica»\n¡Tenemos semana de lujo! En compañía de Mara Viveros\nParticipan: Luciana Salazar\, Lorena Ardito (en línea)\, Geo Vidiella\, Gabriela González Ortuño e Isabela de León.\nNo te lo puedes perder.\n\n\nMiércoles 27 de agosto.\n¡TE ESPERAMOS CON EMOCIÓN!
URL:https://coordinaciongenero.unam.mx/evento/conferencia-magistral-internacionalismo-de-las-intelectuales-amefricanas-tejidos-de-la-memoria-epistemica/
LOCATION:Sala Lucio Mendieta y Núñez\, FCPyS-UNAM
CATEGORIES:Feminismos
ATTACH;FMTTYPE=image/png:https://coordinaciongenero.unam.mx/wp-content/uploads/2024/05/unam-cigu-texturas-eventos-3.png
END:VEVENT
BEGIN:VEVENT
DTSTART;TZID=America/Chicago:20250827T170000
DTEND;TZID=America/Chicago:20250827T170000
DTSTAMP:20260424T103634
CREATED:20250815T021520Z
LAST-MODIFIED:20250815T021520Z
UID:67580-1756314000-1756314000@coordinaciongenero.unam.mx
SUMMARY:Presentación editorial: «Treinta ensayos mínimos ante el vacío: Ausencia compartida de Marina Azahua\, colección Hilo de Aracne»
DESCRIPTION:Organizado por: Dirección General de Publicaciones y Fomento Editorial. \nPartiendo de una serie de palabras clave\, las cuales son usadas como disparador\, la autora recupera el espíritu de Montaigne —creador del género ensayístico— para ofrecernos una serie de textos que nos impulsan a reflexionar sobre el propio arte del ensayo\, así como a mirar la realidad circundante y algunas figuras notables del arte en general. \nParticipante(s): Marina Azahua\, Julia Reyes Retana C. y Andrea Fuentes. \nLugar: Foro Iberoamérica.
URL:https://coordinaciongenero.unam.mx/evento/presentacion-editorial-treinta-ensayos-minimos-ante-el-vacio-ausencia-compartida-de-marina-azahua-coleccion-hilo-de-aracne/
LOCATION:Centro de Exposciones y Congresos UNAM\, Av. del IMAN 10\, Ciudad Universitaria\, Ciudad de México\, 04510\, Mexico
CATEGORIES:Literatura
ATTACH;FMTTYPE=image/png:https://coordinaciongenero.unam.mx/wp-content/uploads/2025/08/Filuni2025_poster_1.png
END:VEVENT
BEGIN:VEVENT
DTSTART;TZID=America/Chicago:20250827T180000
DTEND;TZID=America/Chicago:20250827T180000
DTSTAMP:20260424T103634
CREATED:20250606T061838Z
LAST-MODIFIED:20250613T165230Z
UID:66628-1756317600-1756317600@coordinaciongenero.unam.mx
SUMMARY:Retransmisión de Charla en línea: «Derechos políticos y electorales de las personas LGBTIQ+»
DESCRIPTION:27 de agosto de 2024 | 18:00 h\n \nRetransmisión de Charla en línea: «Derechos políticos y electorales de las personas LGBTIQ+»\n\n  \nRoberto Zedillo hace un análisis del reconocimiento de género y su relación con el ejercicio del derecho al voto en personas con identidades no binarias.\n \nParticipante(s): Roberto Zedillo.\n \nDirigida a: Todo público.\n \nActividad en línea.\n \nDisponible en: https://youtu.be/ZLefuUcxxyw
URL:https://coordinaciongenero.unam.mx/evento/retransmision-de-charla-en-linea-derechos-politicos-y-electorales-de-las-personas-lgbtiq/
CATEGORIES:Diversidades y disidencias,Orgullo PUMA 2025
ATTACH;FMTTYPE=image/png:https://coordinaciongenero.unam.mx/wp-content/uploads/2024/05/orgullo2024-2.png
END:VEVENT
END:VCALENDAR