BEGIN:VCALENDAR
VERSION:2.0
PRODID:-//Coordinación para la Igualdad de Género UNAM - ECPv6.15.20//NONSGML v1.0//EN
CALSCALE:GREGORIAN
METHOD:PUBLISH
X-WR-CALNAME:Coordinación para la Igualdad de Género UNAM
X-ORIGINAL-URL:https://coordinaciongenero.unam.mx
X-WR-CALDESC:Eventos para Coordinación para la Igualdad de Género UNAM
REFRESH-INTERVAL;VALUE=DURATION:PT1H
X-Robots-Tag:noindex
X-PUBLISHED-TTL:PT1H
BEGIN:VTIMEZONE
TZID:America/Chicago
BEGIN:DAYLIGHT
TZOFFSETFROM:-0600
TZOFFSETTO:-0500
TZNAME:CDT
DTSTART:20240310T080000
END:DAYLIGHT
BEGIN:STANDARD
TZOFFSETFROM:-0500
TZOFFSETTO:-0600
TZNAME:CST
DTSTART:20241103T070000
END:STANDARD
BEGIN:DAYLIGHT
TZOFFSETFROM:-0600
TZOFFSETTO:-0500
TZNAME:CDT
DTSTART:20250309T080000
END:DAYLIGHT
BEGIN:STANDARD
TZOFFSETFROM:-0500
TZOFFSETTO:-0600
TZNAME:CST
DTSTART:20251102T070000
END:STANDARD
BEGIN:DAYLIGHT
TZOFFSETFROM:-0600
TZOFFSETTO:-0500
TZNAME:CDT
DTSTART:20260308T080000
END:DAYLIGHT
BEGIN:STANDARD
TZOFFSETFROM:-0500
TZOFFSETTO:-0600
TZNAME:CST
DTSTART:20261101T070000
END:STANDARD
END:VTIMEZONE
BEGIN:VEVENT
DTSTART;VALUE=DATE:20250616
DTEND;VALUE=DATE:20250809
DTSTAMP:20260424T045622
CREATED:20250807T173359Z
LAST-MODIFIED:20250807T173359Z
UID:67410-1750032000-1754697599@coordinaciongenero.unam.mx
SUMMARY:Primer Congreso Internacional de Ciberfeminismo: «Resistencias y cuidados en tiempos de violencia digital»
DESCRIPTION:16 de junio al 8 de agosto de 2025 \nPrimer Congreso Internacional de Ciberfeminismo: «Resistencias y cuidados en tiempos de violencia digital»\n  \nEl objetivo de este coloquio es impulsar la reflexión y producción del conocimiento sobre violencias digitales\, para orientar políticas y prácticas transformadoras con perspectiva de género. El congreso se llevará a cabo del 9 al 13 de febrero de 2026.  \nActividad en línea. \nConsulta las bases en: https://drive.google.com/file/d/1RZ0yH-Y1Y3iytNeDgV5tRc18nqDTYpCN/view?pli=1  \nRegistro: https://docs.google.com/forms/d/e/1FAIpQLSe03_vFLljYzn1kCLw23jbDzt31uFuzrWImKWCCZhwVC_RIZA/viewform?pli=1  \n 
URL:https://coordinaciongenero.unam.mx/evento/primer-congreso-internacional-de-ciberfeminismo-resistencias-y-cuidados-en-tiempos-de-violencia-digital/
CATEGORIES:Feminismos
END:VEVENT
BEGIN:VEVENT
DTSTART;VALUE=DATE:20250630
DTEND;VALUE=DATE:20250823
DTSTAMP:20260424T045622
CREATED:20250905T195827Z
LAST-MODIFIED:20250905T195827Z
UID:68073-1751241600-1755907199@coordinaciongenero.unam.mx
SUMMARY:Curso: «Mujeres míticas: Ecos de figuras mitológicas femeninas en la voz de escritoras contemporáneas»
DESCRIPTION:30 de junio al 22 de agosto de 2025 \nCurso: «Mujeres míticas: Ecos de figuras mitológicas femeninas en la voz de escritoras contemporáneas» \nOrganizada por: Instituto de Investigaciones Filológicas (IIFL). \n«Mujeres míticas: Ecos de figuras mitológicas femeninas en la voz de escritoras contemporáneas» es un curso de 20 horas que examina la reelaboración de arquetipos femeninos de la mitología griega —como Afrodita\, Medea\, Penélope y Casandra— en la obra de cinco destacadas poetas de los siglos XX y XXI: Anne Carson\, Sylvia Plath\, Margaret Atwood\, H.D. (Hilda Doolittle) y Carol Ann Duffy. A través de un enfoque interdisciplinario que combina tradición\, recepción clásica y análisis intertextual\, el curso explora cómo estas autoras resignifican los mitos clásicos para cuestionar roles de género\, expresar experiencias femeninas y construir nuevas narrativas de poder. Cada sesión analiza obras fundamentales —desde los poemas helénicos de H.D. hasta las reescrituras irónicas de Duffy—\, revelando cómo el diálogo entre las poetas y las heroínas míticas permite abrir nuevas perspectivas sobre el cuerpo\, la voz\, el exilio y la resistencia mientras amplía nuestro conocimiento sobre el mundo clásico y la literatura moderna y contemporánea. El curso inicia el 25 de agosto y termina el 3 de noviembre de 2025. \nDirigida a: Estudiantes de licenciatura y posgrado en humanidades y también para el público general. \nCuota de recuperación: $1\,200.00 \nActividad en línea. \nInscripción: https://docs.google.com/forms/d/e/1FAIpQLSeOFxf8XO77OQXMIGJ0lbaXLbSwo2BCmujMD9lF9NxEiNuZ0Q/viewform
URL:https://coordinaciongenero.unam.mx/evento/curso-mujeres-miticas-ecos-de-figuras-mitologicas-femeninas-en-la-voz-de-escritoras-contemporaneas/
LOCATION:Actividad en línea.
CATEGORIES:Convocatorias
ATTACH;FMTTYPE=image/png:https://coordinaciongenero.unam.mx/wp-content/uploads/2025/09/mujeres-miticas.png
END:VEVENT
BEGIN:VEVENT
DTSTART;VALUE=DATE:20250704
DTEND;VALUE=DATE:20250809
DTSTAMP:20260424T045622
CREATED:20250807T175623Z
LAST-MODIFIED:20250807T175623Z
UID:67417-1751587200-1754697599@coordinaciongenero.unam.mx
SUMMARY:2º Encuentro sobre Belleza y Cuerpo: «Bio/Necropolíticas y capitalismos de belleza: ideando horizontes sostenibles»
DESCRIPTION:4 de julio al 8 de agosto de 2025 \n2º Encuentro sobre Belleza y Cuerpo: «Bio/Necropolíticas y capitalismos de belleza: ideando horizontes sostenibles»\nEl presente evento propone generar un espacio híbrido\, donde investigadores\, artistas\, activistas y demás personas presenten sus hallazgos\, reflexiones e indagaciones sobre belleza en México y Latinoamérica. En particular\, esta edición del Encuentro se sitúa en Monterrey\, y será co-organizada con el Instituto de Investigaciones Sociales (IINSO) – Universidad Autónoma de Nuevo León. El encuentro tendrá como invitado al Grupo de Trabajo Belleza y Cuerpo del Seminario Permanente de Corporalidades – SEPCORP\, del Centro de Investigaciones y Estudios Superiores en Antropología Social – CIESAS Occidente.\nEl encuentro se llevará a cabo el 9 y 10 de octubre en modalidad híbrida. \nDirigido a: Investigadoras\, artistas\, activistas y demás personas. \nActividad híbrida. \nConsulta las bases en: https://cimsur.unam.mx/public/2025/actividades/516_conv.pdf?fbclid=IwY2xjawL6Kl1leHRuA2FlbQIxMQABHvronIy67snfd6OiVsX7aZTbZzg08zp8mMYjxHjKIayoDdJ-n-iRmbsW5RC__aem_gqWTwQmdXwggYlbVDyYi5g 
URL:https://coordinaciongenero.unam.mx/evento/2o-encuentro-sobre-belleza-y-cuerpo-bio-necropoliticas-y-capitalismos-de-belleza-ideando-horizontes-sostenibles/
LOCATION:Instituto de Investigaciones Sociales (IINSO)\, s/n\, Mederos Uanl\, Nuevo León\, Monterrey\, 64930\, Mexico
END:VEVENT
BEGIN:VEVENT
DTSTART;VALUE=DATE:20250711
DTEND;VALUE=DATE:20250831
DTSTAMP:20260424T045622
CREATED:20250507T061658Z
LAST-MODIFIED:20250507T061658Z
UID:65667-1752192000-1756598399@coordinaciongenero.unam.mx
SUMMARY:Convocatoria: Haceres y Saberes del Cuidado 2025
DESCRIPTION:11 de julio al 30 de agosto de 2025 | Viernes de las 17:00 a las 20:00 horas y los Sábados de las 10:00 a las 13:00 horas. \nConvocatoria: Haceres y Saberes del Cuidado 2025\nProgra­ma de formación que tiene por objetivo que las personas participantes obtengan conocimien­tos teóricos y prácticos sobre los cuidados\, que les permitan identificar y replantear estrategias de cuidados más transformadoras y democra­tizadoras a partir de experiencias propias.  \nDirigida a: Público mexicano o personas con residencia en México. \nActividad en línea. \nFormulario de postulación  \nMás información
URL:https://coordinaciongenero.unam.mx/evento/convocatoria-haceres-y-saberes-del-cuidado-2025-2/
CATEGORIES:Convocatorias
ATTACH;FMTTYPE=image/jpeg:https://coordinaciongenero.unam.mx/wp-content/uploads/2025/05/imagen.jpg
END:VEVENT
BEGIN:VEVENT
DTSTART;VALUE=DATE:20250801
DTEND;VALUE=DATE:20250808
DTSTAMP:20260424T045622
CREATED:20250811T171840Z
LAST-MODIFIED:20250811T171840Z
UID:67526-1754006400-1754611199@coordinaciongenero.unam.mx
SUMMARY:Carrusel: «Lactancia: un derecho humano»
DESCRIPTION:Carrusel: «Lactancia: un derecho humano»\nIgualdad de Género de la Facultad de Medicina. \nLa lactancia es un derecho humano fundamental que beneficia a las mujeres\, lxs niñxs y a la sociedad en general. La Organización mundial de la Salud (OMS) y la Convención sobre lo Derechos del Niño reconocen la lactancia como un derecho humano esencial para la salud y el bienestar de los niños. La lactancia tiene numerosos beneficios para la salud y el bienestar de lxs nñxs y las mujeres\, incluyendo protección contra enfermedades\, fomento del vínculo afectivo y crecimiento y desarrollo de la persona lactante. Las mujeres deben tener acceso a la información y educación sobre la lactancia y sus beneficios\, así como apoyo y asesoramiento para mejorar la salud infantil y que las mujeres tomen decisiones sobre su propio cuerpo y salud. \nDisponible en: https://www.instagram.com/p/DM76kJYuYTq/?igsh=czJ0enJsOHp1dms4
URL:https://coordinaciongenero.unam.mx/evento/carrusel-lactancia-un-derecho-humano/
CATEGORIES:Feminismos
END:VEVENT
BEGIN:VEVENT
DTSTART;VALUE=DATE:20250801
DTEND;VALUE=DATE:20250909
DTSTAMP:20260424T045622
CREATED:20250905T201610Z
LAST-MODIFIED:20250905T201610Z
UID:68085-1754006400-1757375999@coordinaciongenero.unam.mx
SUMMARY:Convocatoria para el XVI Diplomado Regional: «Fortalecimiento del liderazgo de las mujeres indígenas»
DESCRIPTION:1 de agosto al 8 de septiembre \nConvocatoria para el XVI Diplomado Regional: «Fortalecimiento del liderazgo de las mujeres indígenas» \nOrganizada por: Fondo para el Desarrollo de los Pueblos Indígenas de América Latina y el Caribe (FILAC)\, a través del Programa de Educación para la Equidad y la Universidad Indígena Intercultural (UII)\, el Programa Emblemático de Mujeres Indígenas de América Latina (MILAC)\, junto a las principales redes internacionales de mujeres de la región\, en colaboración con la Universidad Nacional Autónoma de México (UNAM) y Agencia Española de Cooperación Internacional para el Desarrollo (AECID). \nEste diplomado\, que se realizará del 6 de octubre al 28 de noviembre\, en modalidad virtual\, a través de la plataforma de educación a distancia de la UII\, responde al Objetivo Específico 4 del Plan de Acción de Iberoamérica para la Implementación de los Derechos de los Pueblos Indígenas\, orientado a visibilizar y fortalecer la participación plena y efectiva de las mujeres indígenas en la generación de políticas públicas para la prevención y erradicación de las diversas formas de violencias que les afectan. \nDirigida a: Mujeres indígenas de América Latina y el Caribe\, pertenecientes a países miembros del FILAC. \nActividad en línea. \nConsulta las bases en: https://www.filac.org/convocatoria-a-becas-xvi-edicion-del-diplomado-para-el-fortalecimiento-del-liderazgo-de-la-mujer-indigena/fbclid=IwY2xjawMbOUdleHRuA2FlbQIxMABicmlkETFFUWkwVEpjaWxzcGdWSzVQAR5u5q1zMkFDfSxozRDiv2kWdKENfhjpILmK7QdkAc_0VzgB_rEZ-ICuSzeDA_aem_hLS8Vfmw8BFtGtP5akFr9g
URL:https://coordinaciongenero.unam.mx/evento/convocatoria-para-el-xvi-diplomado-regional-fortalecimiento-del-liderazgo-de-las-mujeres-indigenas/
LOCATION:Actividad en línea.
CATEGORIES:Convocatorias
ATTACH;FMTTYPE=image/jpeg:https://coordinaciongenero.unam.mx/wp-content/uploads/2025/09/Liderazgo-mujeres-980x562-1.jpeg
END:VEVENT
BEGIN:VEVENT
DTSTART;VALUE=DATE:20250801
DTEND;VALUE=DATE:20250909
DTSTAMP:20260424T045622
CREATED:20250905T202221Z
LAST-MODIFIED:20250905T202221Z
UID:68091-1754006400-1757375999@coordinaciongenero.unam.mx
SUMMARY:Diplomado: «Construyendo puentes: feminismo\, igualdad\, cuidados y políticas públicas»
DESCRIPTION:1 de agosto al 8 de septiembre de 2025 \nDiplomado: «Construyendo puentes: feminismo\, igualdad\, cuidados y políticas públicas» \nOrganizada por: Programa de Posgrado en Ciencias Políticas y Sociales. \nDesde el siglo XIX\, las mujeres han impulsado movimientos para el reconocimiento de sus derechos. Tras la II Guerra Mundial\, la igualdad de género se consagra en la Carta de la ONU. En México\, leyes y reformas han transformado la participación de las mujeres en la política. Profundiza en estos temas en nuestro diplomado “Construyendo puentes”. El diplomado se llevará a cabo del 10 de octubre de 2025 al 18 de abril de 2026\, los días viernes de 15:00 a 19:00 horas\, y seis sesiones-taller los sábados de 9:00 a 13:00 horas. \nDirigido a: Personas que cuenten con un grado mínimo de licenciatura y estén interesadas en adquirir conocimientos teóricos y metodológicos para analizar las desigualdades de género desde los ámbitos social\, cultural\, jurídico\, económico y político\, así como los procesos de transversalización de la perspectiva de género en la agenda pública y en la construcción de políticas de igualdad para el pleno ejercicio de los derechos humanos de las mujeres. \nActividad en línea. \nInformes: educacion-continua@posgrado.unam.mx
URL:https://coordinaciongenero.unam.mx/evento/diplomado-construyendo-puentes-feminismo-igualdad-cuidados-y-politicas-publicas/
LOCATION:Actividad en línea.
CATEGORIES:Convocatorias
ATTACH;FMTTYPE=image/jpeg:https://coordinaciongenero.unam.mx/wp-content/uploads/2025/09/feminismo-igualdad-y-politicas-publicas.jpg
END:VEVENT
BEGIN:VEVENT
DTSTART;TZID=America/Chicago:20250805T100000
DTEND;TZID=America/Chicago:20250805T170000
DTSTAMP:20260424T045622
CREATED:20250808T234819Z
LAST-MODIFIED:20250808T234819Z
UID:67509-1754388000-1754413200@coordinaciongenero.unam.mx
SUMMARY:Conferencia Magistral: «La igualdad sustantiva como derecho: Reforma constitucional y sus implicaciones»
DESCRIPTION:5 de agosto de 2025 | 10:00 h \nConferencia Magistral: «La igualdad sustantiva como derecho: Reforma constitucional y sus implicaciones» \nOrganizada por: Violetas del Anáhuac STUNAM. \nParticipante(s): Mtra. Brenda Hernández Arana. \nDirigida a: Todo público. \nActividad presencial. \nLugar: Auditorio Comisiones Mixtas de la STUNAM\, ubicado en Centeno No. 145\, Col. Granjas Esmeralda\, Del. Iztapalapa\, CP. 098110
URL:https://coordinaciongenero.unam.mx/evento/conferencia-magistral-la-igualdad-sustantiva-como-derecho-reforma-constitucional-y-sus-implicaciones/
LOCATION:STUNAM\, Centeno No. 145\, Col. Granjas Esmeralda\, Del. Iztapalapa\, CP. 098110\, Ciudad de México\, Distrito Federal\, 098110\, Mexico
ATTACH;FMTTYPE=image/png:https://coordinaciongenero.unam.mx/wp-content/uploads/2024/05/unam-cigu-texturas-eventos-3.png
END:VEVENT
BEGIN:VEVENT
DTSTART;TZID=America/Chicago:20250805T120000
DTEND;TZID=America/Chicago:20250805T120000
DTSTAMP:20260424T045622
CREATED:20250807T190922Z
LAST-MODIFIED:20250807T190922Z
UID:67443-1754395200-1754395200@coordinaciongenero.unam.mx
SUMMARY:Conversatorio: «Influencia de las creencias de género en la trayectoria sexual y reproductiva de las mujeres jóvenes mexicanas»
DESCRIPTION:5 de agosto de 2025 | 12:00 h \nConversatorio: «Influencia de las creencias de género en la trayectoria sexual y reproductiva de las mujeres jóvenes mexicanas»\n¿Cómo influyen las creencias de género en la salud sexual y reproductiva de las jóvenes mexicanas. Las normas sociales no solo educan: limitan decisiones vitales. \nParticipante(s): Dra. Cecilia Inés Gayet (FLACSO-Mexico) y Mtra. Regina Esperanza Sampeiro (FEMU). \nDirigido a: Todo público. \nActividad en línea. \nRegistro: https://docs.google.com/forms/d/e/1FAIpQLSdM-MuE2C3eh2MjzuR9cok6XHJFjhZeiCw40MtsB2EbfFARkA/viewform?fbclid=IwQ0xDSwL6QGlleHRuA2FlbQIxMAABHniOA3qzkB4PvJUEfRExHB-belpR75zLtCVZGS3EClEjB_Y9YAydDKAgHwA1_aem_WN8SduBvNo6tYfyxvXvfH
URL:https://coordinaciongenero.unam.mx/evento/conversatorio-influencia-de-las-creencias-de-genero-en-la-trayectoria-sexual-y-reproductiva-de-las-mujeres-jovenes-mexicanas/
CATEGORIES:Feminismos
END:VEVENT
BEGIN:VEVENT
DTSTART;TZID=America/Chicago:20250805T120000
DTEND;TZID=America/Chicago:20250805T130000
DTSTAMP:20260424T045622
CREATED:20250807T190246Z
LAST-MODIFIED:20250807T190246Z
UID:67439-1754395200-1754398800@coordinaciongenero.unam.mx
SUMMARY:Sesión 117 del Seminario Permanente de Género en Salud: «Violencia a lo largo de la vida y sus efectos en la salud y discapacidad. El caso de las mujeres adultas mayores»
DESCRIPTION:5 de agosto de 2025 | 12:00 a 13:00 h \nSesión 117 del Seminario Permanente de Género en Salud: «Violencia a lo largo de la vida y sus efectos en la salud y discapacidad. El caso de las mujeres adultas mayores»\nParticipante(s): Dra. Martha Liliana Giraldo Rodríguez. \nDirigido a: Todo público. \nActividad en línea.
URL:https://coordinaciongenero.unam.mx/evento/sesion-117-del-seminario-permanente-de-genero-en-salud-violencia-a-lo-largo-de-la-vida-y-sus-efectos-en-la-salud-y-discapacidad-el-caso-de-las-mujeres-adultas-mayores/
CATEGORIES:Prevención de la Violencia de Género
END:VEVENT
END:VCALENDAR