BEGIN:VCALENDAR
VERSION:2.0
PRODID:-//Coordinación para la Igualdad de Género UNAM - ECPv6.15.20//NONSGML v1.0//EN
CALSCALE:GREGORIAN
METHOD:PUBLISH
X-WR-CALNAME:Coordinación para la Igualdad de Género UNAM
X-ORIGINAL-URL:https://coordinaciongenero.unam.mx
X-WR-CALDESC:Eventos para Coordinación para la Igualdad de Género UNAM
REFRESH-INTERVAL;VALUE=DURATION:PT1H
X-Robots-Tag:noindex
X-PUBLISHED-TTL:PT1H
BEGIN:VTIMEZONE
TZID:America/Chicago
BEGIN:DAYLIGHT
TZOFFSETFROM:-0600
TZOFFSETTO:-0500
TZNAME:CDT
DTSTART:20240310T080000
END:DAYLIGHT
BEGIN:STANDARD
TZOFFSETFROM:-0500
TZOFFSETTO:-0600
TZNAME:CST
DTSTART:20241103T070000
END:STANDARD
BEGIN:DAYLIGHT
TZOFFSETFROM:-0600
TZOFFSETTO:-0500
TZNAME:CDT
DTSTART:20250309T080000
END:DAYLIGHT
BEGIN:STANDARD
TZOFFSETFROM:-0500
TZOFFSETTO:-0600
TZNAME:CST
DTSTART:20251102T070000
END:STANDARD
BEGIN:DAYLIGHT
TZOFFSETFROM:-0600
TZOFFSETTO:-0500
TZNAME:CDT
DTSTART:20260308T080000
END:DAYLIGHT
BEGIN:STANDARD
TZOFFSETFROM:-0500
TZOFFSETTO:-0600
TZNAME:CST
DTSTART:20261101T070000
END:STANDARD
END:VTIMEZONE
BEGIN:VEVENT
DTSTART;VALUE=DATE:20250401
DTEND;VALUE=DATE:20250628
DTSTAMP:20260425T150102
CREATED:20250807T172241Z
LAST-MODIFIED:20250807T172241Z
UID:67402-1743465600-1751068799@coordinaciongenero.unam.mx
SUMMARY:Curso: «Feminismos. Crítica de género y violencias»
DESCRIPTION:1 de abril al 27 de junio de 2025 \nCurso: «Feminismos. Crítica de género y violencias»\nEl objetivo de este curso es construir conocimientos básicos de género y feminismo como herramientas de análisis de problemas sociales\, del derecho y de políticas públicas. El curso se llevará a cabo del 13 de agosto al 5 de noviembre\, los miércoles de 17:00 a 20:00 h. \nDirigido a: Profesionistas\, funcionariado público e integrantes de ONGs o estudiantes de posgrado\, con interés en feminismos\, género\, derecho y justicia\, derechos humanos. \nActividad híbrida. \nInformes en: https://www.juridicas.unam.mx/educacion/diplomado/189-curso-feminismos-critica-de-genero-al-derecho-y-violencias-2a-edicion-2025 
URL:https://coordinaciongenero.unam.mx/evento/curso-feminismos-critica-de-genero-y-violencias/
LOCATION:Instituto de Investigaciones Jurídicas
CATEGORIES:Feminismos
END:VEVENT
BEGIN:VEVENT
DTSTART;TZID=America/Chicago:20250503T110000
DTEND;TZID=America/Chicago:20250628T120000
DTSTAMP:20260425T150102
CREATED:20250502T232335Z
LAST-MODIFIED:20250505T194023Z
UID:65569-1746270000-1751112000@coordinaciongenero.unam.mx
SUMMARY:Taller: «Salud emocional para tu bienestar»
DESCRIPTION:3 de mayo de 2025 | 11:00 h\nTaller: «Salud emocional para tu bienestar»\nOrganizada por: Museo de las Constituciones (MuCo).\nActividad con el objetivo de incentivar la adopción de herramientas que ayuden a las y los asistentes a cultivar relaciones saludables\, mejorar sus relaciones interpersonales de familia\, trabajo\, amistad o pareja\, y a que puedan identificar signos de maltrato\, dependencia o toxicidad para prevenir situaciones de violencia. El taller tendrá lugar los días sábados\, en sesiones consecutivas\, del 3 de mayo al 28 de junio.\nParticipante(s): Público en general.\nDirigida a: Todo público.\nActividad presencial.\nRegistro en: https://bit.ly/relacionesasertivas\nLugar: Calle del Carmen esquina con San Ildefonso\, Centro Histórico\, Cuauhtémoc. 06010\, Ciudad de México. 
URL:https://coordinaciongenero.unam.mx/evento/taller-salud-emocional-para-tu-bienestar/
LOCATION:Museo de las Constituciones.
CATEGORIES:Salud mental
ATTACH;FMTTYPE=image/png:https://coordinaciongenero.unam.mx/wp-content/uploads/2021/01/unam-cigu-personas-orientadoras-textura2-e1630595419981.png
END:VEVENT
BEGIN:VEVENT
DTSTART;TZID=America/Chicago:20250522T000000
DTEND;TZID=America/Chicago:20250721T000000
DTSTAMP:20260425T150102
CREATED:20250520T182807Z
LAST-MODIFIED:20260121T204041Z
UID:65909-1747872000-1753056000@coordinaciongenero.unam.mx
SUMMARY:Campaña visual: «Coloreamos el conocimiento con la fuerza del orgullo»
DESCRIPTION:Campaña visual: «Coloreamos el conocimiento con la fuerza del orgullo»\nCampaña visual a través de carteles distribuidos por toda la Facultad\, además de difusión en redes sociales institucionales. La campaña estará disponible desde el 1 de mayo hasta el 30 de junio de 2025.\n \nParticipante(s): Integrantes de la CInIG de FES Acatlán.\n \nDirigida a: Todo público.\n \nActividad híbrida.\nSigue transmisión: https://www.facebook.com/unamacatlan\n \nLugar: Instalaciones de la FES Acatlán\, ubicada en avenida Alcanfores y San Juan Totoltepec s/n\, Col. Santa Cruz Acatlán\, 53150\, Naucalpan de Juárez\, Estado de México.
URL:https://coordinaciongenero.unam.mx/evento/campana-visual-coloreamos-el-conocimiento-con-la-fuerza-del-orgullo/
LOCATION:FES Acatlán\, avenida Alcanfores y San Juan Totoltepec s/n\, Col. Santa Cruz Acatlán\, 53150\, Naucalpan de Juárez\, Estado de México.\, Estado de México\, Estado de México\, 53150\, Mexico
CATEGORIES:Diversidades y disidencias,Orgullo PUMA 2025
ATTACH;FMTTYPE=image/png:https://coordinaciongenero.unam.mx/wp-content/uploads/2024/05/orgullo2024.png
END:VEVENT
BEGIN:VEVENT
DTSTART;TZID=America/Chicago:20250530T083000
DTEND;TZID=America/Chicago:20250630T180000
DTSTAMP:20260425T150102
CREATED:20250623T235707Z
LAST-MODIFIED:20250623T235707Z
UID:67026-1748593800-1751306400@coordinaciongenero.unam.mx
SUMMARY:Exposición documental: «Diversidad Sexual»
DESCRIPTION:30 de mayo al 30 de junio de 2025 | 8:30 a 18:00 h\n \nExposición documental: «Diversidad Sexual»\nLa exposición ofrece un recorrido por en formato impreso y electrónico que abordan\, desde múltiples enfoques y disciplinas\, las realidades\, luchas\, experiencias y expresiones de las personas y comunidades LGBTIQ+. A través de esta muestra se busca abrir un espacio de diálogo\, reflexión y encuentro en torno a la pluralidad de identidades sexuales y de género\, fomentando la comprensión crítica\, el respeto a los derechos humanos y la construcción de una cultura incluyente. Esta exposición estará del 30 de mayo al 30 de junio de 2025.\n\nParticipante(s): Integrantes de la CInIG del CEIICH.\n\nDirigida a: Todo público.\n \nActividad presencial.
URL:https://coordinaciongenero.unam.mx/evento/exposicion-documental-diversidad-sexual/
LOCATION:Biblioteca «Pablo González Casanova» de la Torre II de Humanidades\, 6to. piso\, Circuito Interior s/n\, C.U.\, Coyoacán\, Ciudad de México.\, CDMX\, 04510\, Mexico
CATEGORIES:Diversidades y disidencias,Orgullo PUMA 2025
ATTACH;FMTTYPE=image/png:https://coordinaciongenero.unam.mx/wp-content/uploads/2024/05/orgullo2024-2.png
END:VEVENT
BEGIN:VEVENT
DTSTART;VALUE=DATE:20250601
DTEND;VALUE=DATE:20250701
DTSTAMP:20260425T150102
CREATED:20250825T184601Z
LAST-MODIFIED:20260121T205011Z
UID:67835-1748736000-1751327999@coordinaciongenero.unam.mx
SUMMARY:Campaña especial: «Visualizar y reconocer la diversidad y la disidencia sexogenérica: personas LGBTIQ+ que han brindado aportaciones históricas en diversos aspectos de la sociedad»
DESCRIPTION:Campaña especial: «Visualizar y reconocer la diversidad y la disidencia sexogenérica: personas LGBTIQ+\nque han brindado aportaciones históricas en diversos aspectos de la sociedad»\nEn el marco de la conmemoración del Día Internacional del Orgullo LGBTIQ+\, esta campaña visual en\nformato tipo ebook que reconoce las contribuciones históricas de las personas de la comunidad LGBTIQ+ a\nlas ciencias sociales y humanas\, en México y el mundo. Con esta actividad se busca promover la inclusión\,\nla equidad y el respeto por las diferencias dentro de nuestros espacios de trabajo universitarios. \nParticipante(s): Comunidad SPAMSU.\nDirigida a: Todo público.\nActividad en línea \nDisponible en: https://serviciosalacomunidad.unam.mx/igualdad%20de%20genero.htm \n\n 
URL:https://coordinaciongenero.unam.mx/evento/campana-especial-visualizar-y-reconocer-la-diversidad-y-la-disidencia-sexogenerica-personas-lgbtiq-que-han-brindado-aportaciones-historicas-en-diversos-aspectos-de-la-sociedad/
CATEGORIES:Diversidades y disidencias,Orgullo PUMA 2025
ATTACH;FMTTYPE=image/png:https://coordinaciongenero.unam.mx/wp-content/uploads/2024/05/orgullo2024-2.png
END:VEVENT
BEGIN:VEVENT
DTSTART;TZID=America/Chicago:20250602T110000
DTEND;TZID=America/Chicago:20250602T110000
DTSTAMP:20260425T150102
CREATED:20250523T192734Z
LAST-MODIFIED:20260121T205011Z
UID:66185-1748862000-1748862000@coordinaciongenero.unam.mx
SUMMARY:Ciclo de charlas en línea: «De lo “normal” a lo diverso»
DESCRIPTION:2 de junio de 2025 | 11:00 h \nCiclo de charlas en línea: «De lo “normal” a lo diverso»\n\n\nAbordamos la diversidad y la inclusión con cuatro charlas sobre sexualidad\, infancias diversas\, infancias trans*\, vejeces y familias diversas. \nParticipante(s): Nadia Sierra Campos (Comisión de Derechos Humanos de la Ciudad de México); Paulina Anaya (Cuenta Conmigo A.C.); César Torres Cruz (CIEG UNAM); Tania Morales Olvera (Asociación por las Infancias Transgénero A.C.)\, y Maricela Rangel (Instituto Nacional de las Personas y Adultas Mayores). \nDirigida a: Todo público. \nActividad en línea. \nDisponible aquí: https://www.youtube.com/playlist?list=PLTv20senL6Qu8RUL7ScAMsMf_FiVwURpy  \n 
URL:https://coordinaciongenero.unam.mx/evento/ciclo-de-charlas-en-linea-de-lo-normal-a-lo-diverso/
LOCATION:Actividad en línea.
CATEGORIES:Diversidades y disidencias,Orgullo PUMA 2025
ATTACH;FMTTYPE=image/png:https://coordinaciongenero.unam.mx/wp-content/uploads/2024/05/orgullo2024-2.png
END:VEVENT
BEGIN:VEVENT
DTSTART;TZID=America/Chicago:20250602T130000
DTEND;TZID=America/Chicago:20250604T180000
DTSTAMP:20260425T150102
CREATED:20250606T005157Z
LAST-MODIFIED:20260121T203840Z
UID:66607-1748869200-1749060000@coordinaciongenero.unam.mx
SUMMARY:Jornada: «Día Internacional del Orgullo LGBT»
DESCRIPTION:2 y 4 de junio | 13:00 a 18:00 h \nJornada: «Día Internacional del Orgullo LGBT» \nOrganizada por: Departamento de Difusión Cultural de la Facultad de Estudios Superiores Cuautitlán (FES Cuautitlán). \nLunes 2 de junio \n13:00 h Expresión corporal: Buena suerte en el amor. \n18:00 h Teatro: Orgullo de ser \nMiércoles 4 de junio \n13:00 h Danza contemporánea y artes de cuerpo: Escarlata carmesí \n13:30 h Canto: Homenaje a Queen. \nDirigida a: Comunidad de la FES Cuautitlán. \nActividad presencial. \nLugar: Auditorio de Extensión Universitaria\, Campo 4\, de la FES Cuautitlán\, ubicado en Teoloyucan Km 2.5\, San Sebastián Xhala\, 54714\, Cuautitlán Izcalli\, Estado de México.
URL:https://coordinaciongenero.unam.mx/evento/jornada-dia-internacional-del-orgullo-lgbt/
LOCATION:Campo 4\, Auditorio de Extensión Universitaria\, FES Cuautitlán.
CATEGORIES:Diversidades y disidencias,Orgullo PUMA 2025
ATTACH;FMTTYPE=image/png:https://coordinaciongenero.unam.mx/wp-content/uploads/2024/05/orgullo2024.png
END:VEVENT
BEGIN:VEVENT
DTSTART;TZID=America/Chicago:20250602T130000
DTEND;TZID=America/Chicago:20250706T150000
DTSTAMP:20260425T150102
CREATED:20250510T060227Z
LAST-MODIFIED:20250510T063918Z
UID:65706-1748869200-1751814000@coordinaciongenero.unam.mx
SUMMARY:Curso: «Capacitación docente para impartir la asignatura de igualdad de género»
DESCRIPTION:2 al 6 de junio de 2025 | 13:00 a 15:00 h  \nCurso: «Capacitación docente para impartir la asignatura de igualdad de género»\nEste curso tiene como objetivo proporcionar a los y las docentes las herramientas teóricas y metodológicas necesarias para abordar\, desde una perspectiva crítica y actualizada\, los temas relacionados con la igualdad de género en el aula. \nParticipante(s): Alba Luz Robles Mendoza y Dra. Oliva López Sánchez. \nDirigida a: Académicos de la Facultad de Estudios Superiores Iztacala (FES Iztacala). \nActividad en línea. \n  \nMás información
URL:https://coordinaciongenero.unam.mx/evento/curso-capacitacion-docente-para-impartir-la-asignatura-de-igualdad-de-genero/
ATTACH;FMTTYPE=image/webp:https://coordinaciongenero.unam.mx/wp-content/uploads/2025/05/imagen.webp
END:VEVENT
END:VCALENDAR