BEGIN:VCALENDAR
VERSION:2.0
PRODID:-//Coordinación para la Igualdad de Género UNAM - ECPv6.15.20//NONSGML v1.0//EN
CALSCALE:GREGORIAN
METHOD:PUBLISH
X-WR-CALNAME:Coordinación para la Igualdad de Género UNAM
X-ORIGINAL-URL:https://coordinaciongenero.unam.mx
X-WR-CALDESC:Eventos para Coordinación para la Igualdad de Género UNAM
REFRESH-INTERVAL;VALUE=DURATION:PT1H
X-Robots-Tag:noindex
X-PUBLISHED-TTL:PT1H
BEGIN:VTIMEZONE
TZID:America/Chicago
BEGIN:DAYLIGHT
TZOFFSETFROM:-0600
TZOFFSETTO:-0500
TZNAME:CDT
DTSTART:20240310T080000
END:DAYLIGHT
BEGIN:STANDARD
TZOFFSETFROM:-0500
TZOFFSETTO:-0600
TZNAME:CST
DTSTART:20241103T070000
END:STANDARD
BEGIN:DAYLIGHT
TZOFFSETFROM:-0600
TZOFFSETTO:-0500
TZNAME:CDT
DTSTART:20250309T080000
END:DAYLIGHT
BEGIN:STANDARD
TZOFFSETFROM:-0500
TZOFFSETTO:-0600
TZNAME:CST
DTSTART:20251102T070000
END:STANDARD
BEGIN:DAYLIGHT
TZOFFSETFROM:-0600
TZOFFSETTO:-0500
TZNAME:CDT
DTSTART:20260308T080000
END:DAYLIGHT
BEGIN:STANDARD
TZOFFSETFROM:-0500
TZOFFSETTO:-0600
TZNAME:CST
DTSTART:20261101T070000
END:STANDARD
END:VTIMEZONE
BEGIN:VEVENT
DTSTART;VALUE=DATE:20250401
DTEND;VALUE=DATE:20250628
DTSTAMP:20260425T142657
CREATED:20250807T172241Z
LAST-MODIFIED:20250807T172241Z
UID:67402-1743465600-1751068799@coordinaciongenero.unam.mx
SUMMARY:Curso: «Feminismos. Crítica de género y violencias»
DESCRIPTION:1 de abril al 27 de junio de 2025 \nCurso: «Feminismos. Crítica de género y violencias»\nEl objetivo de este curso es construir conocimientos básicos de género y feminismo como herramientas de análisis de problemas sociales\, del derecho y de políticas públicas. El curso se llevará a cabo del 13 de agosto al 5 de noviembre\, los miércoles de 17:00 a 20:00 h. \nDirigido a: Profesionistas\, funcionariado público e integrantes de ONGs o estudiantes de posgrado\, con interés en feminismos\, género\, derecho y justicia\, derechos humanos. \nActividad híbrida. \nInformes en: https://www.juridicas.unam.mx/educacion/diplomado/189-curso-feminismos-critica-de-genero-al-derecho-y-violencias-2a-edicion-2025 
URL:https://coordinaciongenero.unam.mx/evento/curso-feminismos-critica-de-genero-y-violencias/
LOCATION:Instituto de Investigaciones Jurídicas
CATEGORIES:Feminismos
END:VEVENT
BEGIN:VEVENT
DTSTART;TZID=America/Chicago:20250503T110000
DTEND;TZID=America/Chicago:20250628T120000
DTSTAMP:20260425T142657
CREATED:20250502T232335Z
LAST-MODIFIED:20250505T194023Z
UID:65569-1746270000-1751112000@coordinaciongenero.unam.mx
SUMMARY:Taller: «Salud emocional para tu bienestar»
DESCRIPTION:3 de mayo de 2025 | 11:00 h\nTaller: «Salud emocional para tu bienestar»\nOrganizada por: Museo de las Constituciones (MuCo).\nActividad con el objetivo de incentivar la adopción de herramientas que ayuden a las y los asistentes a cultivar relaciones saludables\, mejorar sus relaciones interpersonales de familia\, trabajo\, amistad o pareja\, y a que puedan identificar signos de maltrato\, dependencia o toxicidad para prevenir situaciones de violencia. El taller tendrá lugar los días sábados\, en sesiones consecutivas\, del 3 de mayo al 28 de junio.\nParticipante(s): Público en general.\nDirigida a: Todo público.\nActividad presencial.\nRegistro en: https://bit.ly/relacionesasertivas\nLugar: Calle del Carmen esquina con San Ildefonso\, Centro Histórico\, Cuauhtémoc. 06010\, Ciudad de México. 
URL:https://coordinaciongenero.unam.mx/evento/taller-salud-emocional-para-tu-bienestar/
LOCATION:Museo de las Constituciones.
CATEGORIES:Salud mental
ATTACH;FMTTYPE=image/png:https://coordinaciongenero.unam.mx/wp-content/uploads/2021/01/unam-cigu-personas-orientadoras-textura2-e1630595419981.png
END:VEVENT
BEGIN:VEVENT
DTSTART;TZID=America/Chicago:20250507T180000
DTEND;TZID=America/Chicago:20250528T200000
DTSTAMP:20260425T142657
CREATED:20250506T001922Z
LAST-MODIFIED:20260121T214903Z
UID:65625-1746640800-1748462400@coordinaciongenero.unam.mx
SUMMARY:Ciclo de cine «Madres Buscadoras»
DESCRIPTION:Maternidades \n7\, 14\, 21 y 28 de mayo de 2025 | 18:00 h \nCiclo de cine «Madres Buscadoras» \nOrganizada por: Radio UNAM. \nCineclub Radiocinema presenta el ciclo de cine «Madres Buscadoras» con la siguiente programación: \n\n7 de mayo Rosario (2013) de Shura Erenberg.\n14 de mayo Tempestad (2016) de Tatiana Huezo.\n21 de mayo Sin señas particulares (2020) de Fernanda Valadez.\n28 de mayo Volverte a ver (2020) de Carolina Corral.\n\nDirigida a: Público en general. \nActividad presencial. \nLugar: Adolfo Prieto 133\, Col. Del Valle\, C.P. 03103\, Alc. Benito Juárez\, Ciudad de México.
URL:https://coordinaciongenero.unam.mx/evento/ciclo-de-cine-madres-buscadoras/
LOCATION:RADIO UNAM\, Adolfo Prieto 133\, Col. Del Valle\, Delegación Benito Juárez\, 03100\, Ciudad de México\, Ciudad de México\, Distrito Federal\, 03100\, Mexico
CATEGORIES:Cine con perspectiva de género,Maternidades
ATTACH;FMTTYPE=image/jpeg:https://coordinaciongenero.unam.mx/wp-content/uploads/2021/03/TEXTURA-1AÑO_ytthumbnail.jpg
END:VEVENT
BEGIN:VEVENT
DTSTART;TZID=America/Chicago:20250521T200000
DTEND;TZID=America/Chicago:20250526T181542
DTSTAMP:20260425T142657
CREATED:20250526T181541Z
LAST-MODIFIED:20260121T204041Z
UID:66272-1747857600-1748283342@coordinaciongenero.unam.mx
SUMMARY:Programa de radio Tiempo de Análisis: «Día Internacional Contra la Homofobia\, la Transfobia y la Bifobia»
DESCRIPTION:21 de mayo de 2025 | 20:00 h \nPrograma de radio Tiempo de Análisis: «Día Internacional Contra la Homofobia\, la Transfobia y la Bifobia» \nOrganizada por: Facultad de Ciencias Políticas y Sociales (FCPyS) y Radio UNAM. \nParticipante(s): Mónica Amilpas\, Raúl Olmedo y Sofía Gamboa. \nDirigida a:Todo público. \nActividad en línea. \nDisponible en: https://www.facebook.com/TiempoAnalisis/videos/1428482054814544?locale=es_LA
URL:https://coordinaciongenero.unam.mx/evento/programa-de-radio-tiempo-de-analisis-dia-internacional-contra-la-homofobia-la-transfobia-y-la-bifobia/
LOCATION:Actividad en línea.
CATEGORIES:Diversidades y disidencias,Orgullo PUMA 2025
ATTACH;FMTTYPE=image/png:https://coordinaciongenero.unam.mx/wp-content/uploads/2024/05/orgullo2024-2.png
END:VEVENT
BEGIN:VEVENT
DTSTART;TZID=America/Chicago:20250522T000000
DTEND;TZID=America/Chicago:20250721T000000
DTSTAMP:20260425T142657
CREATED:20250520T182807Z
LAST-MODIFIED:20260121T204041Z
UID:65909-1747872000-1753056000@coordinaciongenero.unam.mx
SUMMARY:Campaña visual: «Coloreamos el conocimiento con la fuerza del orgullo»
DESCRIPTION:Campaña visual: «Coloreamos el conocimiento con la fuerza del orgullo»\nCampaña visual a través de carteles distribuidos por toda la Facultad\, además de difusión en redes sociales institucionales. La campaña estará disponible desde el 1 de mayo hasta el 30 de junio de 2025.\n \nParticipante(s): Integrantes de la CInIG de FES Acatlán.\n \nDirigida a: Todo público.\n \nActividad híbrida.\nSigue transmisión: https://www.facebook.com/unamacatlan\n \nLugar: Instalaciones de la FES Acatlán\, ubicada en avenida Alcanfores y San Juan Totoltepec s/n\, Col. Santa Cruz Acatlán\, 53150\, Naucalpan de Juárez\, Estado de México.
URL:https://coordinaciongenero.unam.mx/evento/campana-visual-coloreamos-el-conocimiento-con-la-fuerza-del-orgullo/
LOCATION:FES Acatlán\, avenida Alcanfores y San Juan Totoltepec s/n\, Col. Santa Cruz Acatlán\, 53150\, Naucalpan de Juárez\, Estado de México.\, Estado de México\, Estado de México\, 53150\, Mexico
CATEGORIES:Diversidades y disidencias,Orgullo PUMA 2025
ATTACH;FMTTYPE=image/png:https://coordinaciongenero.unam.mx/wp-content/uploads/2024/05/orgullo2024.png
END:VEVENT
BEGIN:VEVENT
DTSTART;TZID=America/Chicago:20250525T110000
DTEND;TZID=America/Chicago:20250525T113000
DTSTAMP:20260425T142657
CREATED:20250522T163035Z
LAST-MODIFIED:20260121T232203Z
UID:66310-1748170800-1748172600@coordinaciongenero.unam.mx
SUMMARY:Violeta y Oro: Con M de Menstruación. Un libro que derrumba mitos y tabúes
DESCRIPTION:En este #VioletaYOro\, conversamos con la periodista y escritora Celia Gómez Ramos sobre su libro Con M de Menstruación\, una obra ilustrada para niñeces y adolescentes que busca romper los tabúes en torno a la menstruación. Hablamos sobre el origen del proyecto\, la importancia de la educación sexual desde edades tempranas y la necesidad de visibilizar la gestión menstrual. \nSobre el libro\, la autora explica que la idea de crear un libro colectivo surgió al cuestionarse si\, en su propia infancia y adolescencia\, recibió la información necesaria sobre este proceso. Recuerda un episodio incómodo durante su adolescencia en el que se manchó porque no comprendía del todo qué era la menstruación. A partir de esa experiencia\, identificó que los mitos\, la desinformación y el silencio sobre el tema se transmiten de generación en generación\, generando consecuencias negativas. Al tiempo que también le interesó profundizar en los alcances que tenían los hombres sobre el tema\, ampliando así el enfoque del libro. \nEn la sección «Chiques Violeta»\, preguntamos a la comunidad estudiantil de la Facultad de Medicina acerca de sus primeros acercamientos con la menstruación\, respondiendo a preguntas como: ¿quién te habló por primera vez de la menstruación? y ¿qué información te habría gustado recibir antes de tu primera menstruación? \nPieza musical «Spanish Bombs» a cargo de The Clash. \nConduce: Olivia Zerón Tena (CIGU). 
URL:https://coordinaciongenero.unam.mx/evento/violeta-y-oro-con-m-de-menstruacion-un-libro-que-derrumba-mitos-y-tabues/
CATEGORIES:Derechos sexuales y reproductivos,Mujeres y niñas en las ciencias,violeta y oro
ATTACH;FMTTYPE=image/jpeg:https://coordinaciongenero.unam.mx/wp-content/uploads/2025/05/WEB-CELIA.jpg
END:VEVENT
BEGIN:VEVENT
DTSTART;TZID=America/Chicago:20250525T140000
DTEND;TZID=America/Chicago:20250525T160000
DTSTAMP:20260425T142657
CREATED:20250516T235200Z
LAST-MODIFIED:20250516T235200Z
UID:65852-1748181600-1748188800@coordinaciongenero.unam.mx
SUMMARY:Cine-debate feminista: «Hannah Arendt (2012)\, Dirección: Margarethe von Trotta»
DESCRIPTION:Cine y género \n25 de mayo de 2025 | 14:00 h \nCine-debate feminista: «Hannah Arendt (2012)\, Dirección: Margarethe von Trotta» \nOrganizada por: Museo de la Mujer y Federación Mexicana de Universitarias A.C. \nRetrata un episodio clave en la vida de la filósofa alemana\, mientras cubre el juicio de Adolf Eichmann y desarrolla su controvertida teoría sobre la “banalidad del mal”. Se promoverá una reflexión crítica sobre el pensamiento político de Arendt\, su vigencia y aportaciones desde una mirada feminista. \nParticipante(s): Dra. Rocío García Rey (FEMU). \nDirigida a: Todo público. \nActividad presencial. \nLugar: República de Bolivia 17 entre calles Brasil y Argentina Vestíbulo\, Col. Centro\, Cuauhtémoc\, 06020\, Ciudad de México.
URL:https://coordinaciongenero.unam.mx/evento/cine-debate-feminista-hannah-arendt-2012-direccion-margarethe-von-trotta/
LOCATION:Museo de la Mujer\, República de Bolivia 17\, Centro Histórico\, Alcaldía Cuauhtémoc\, Ciudad de México\, 06020\, Mexico
CATEGORIES:Cine con perspectiva de género
ATTACH;FMTTYPE=image/png:https://coordinaciongenero.unam.mx/wp-content/uploads/2024/05/unam-cigu-texturas-eventos-3.png
END:VEVENT
BEGIN:VEVENT
DTSTART;TZID=America/Chicago:20250525T160000
DTEND;TZID=America/Chicago:20250525T170000
DTSTAMP:20260425T142657
CREATED:20250517T000946Z
LAST-MODIFIED:20260122T002342Z
UID:65856-1748188800-1748192400@coordinaciongenero.unam.mx
SUMMARY:Concierto: «Concierto Grever & Velázquez»
DESCRIPTION:Mujeres en la música \n25 de mayo de 2025 | 16:00 h \nConcierto: «Concierto Grever & Velázquez» \nOrganizada por: Museo de la Mujer y Federación Mexicana de Universitarias A.C. \nCanciones mexicanas de concierto y boleros clásicos de las compositoras mexicanas María Grever y Consuelo Velázquez. \nParticipante(s): Colectivo “El Viaje de un Intérprete”. Dirección musical por Jair Arellano. Presenta Mtra. Regina Esperanza Samperio Rodríguez (FEMU). \nDirigida a: Todo público. \nActividad híbrida. \nRegistro: recepcionmuseomujer@gmail.com \nLugar: República de Bolivia 17 entre calles Brasil y Argentina Vestíbulo\, Col. Centro\, Cuauhtémoc\, 06020\, Ciudad de México. \n  ﻿
URL:https://coordinaciongenero.unam.mx/evento/concierto-concierto-grever-velazquez/
LOCATION:Museo de la Mujer\, República de Bolivia 17\, Centro Histórico\, Alcaldía Cuauhtémoc\, Ciudad de México\, 06020\, Mexico
CATEGORIES:Música
ATTACH;FMTTYPE=image/png:https://coordinaciongenero.unam.mx/wp-content/uploads/2024/05/unam-cigu-texturas-eventos-3.png
END:VEVENT
END:VCALENDAR