BEGIN:VCALENDAR
VERSION:2.0
PRODID:-//Coordinación para la Igualdad de Género UNAM - ECPv6.15.20//NONSGML v1.0//EN
CALSCALE:GREGORIAN
METHOD:PUBLISH
X-WR-CALNAME:Coordinación para la Igualdad de Género UNAM
X-ORIGINAL-URL:https://coordinaciongenero.unam.mx
X-WR-CALDESC:Eventos para Coordinación para la Igualdad de Género UNAM
REFRESH-INTERVAL;VALUE=DURATION:PT1H
X-Robots-Tag:noindex
X-PUBLISHED-TTL:PT1H
BEGIN:VTIMEZONE
TZID:America/Chicago
BEGIN:DAYLIGHT
TZOFFSETFROM:-0600
TZOFFSETTO:-0500
TZNAME:CDT
DTSTART:20240310T080000
END:DAYLIGHT
BEGIN:STANDARD
TZOFFSETFROM:-0500
TZOFFSETTO:-0600
TZNAME:CST
DTSTART:20241103T070000
END:STANDARD
BEGIN:DAYLIGHT
TZOFFSETFROM:-0600
TZOFFSETTO:-0500
TZNAME:CDT
DTSTART:20250309T080000
END:DAYLIGHT
BEGIN:STANDARD
TZOFFSETFROM:-0500
TZOFFSETTO:-0600
TZNAME:CST
DTSTART:20251102T070000
END:STANDARD
BEGIN:DAYLIGHT
TZOFFSETFROM:-0600
TZOFFSETTO:-0500
TZNAME:CDT
DTSTART:20260308T080000
END:DAYLIGHT
BEGIN:STANDARD
TZOFFSETFROM:-0500
TZOFFSETTO:-0600
TZNAME:CST
DTSTART:20261101T070000
END:STANDARD
END:VTIMEZONE
BEGIN:VTIMEZONE
TZID:UTC
BEGIN:STANDARD
TZOFFSETFROM:+0000
TZOFFSETTO:+0000
TZNAME:UTC
DTSTART:20240101T000000
END:STANDARD
END:VTIMEZONE
BEGIN:VEVENT
DTSTART;VALUE=DATE:20250401
DTEND;VALUE=DATE:20250628
DTSTAMP:20260425T110038
CREATED:20250807T172241Z
LAST-MODIFIED:20250807T172241Z
UID:67402-1743465600-1751068799@coordinaciongenero.unam.mx
SUMMARY:Curso: «Feminismos. Crítica de género y violencias»
DESCRIPTION:1 de abril al 27 de junio de 2025 \nCurso: «Feminismos. Crítica de género y violencias»\nEl objetivo de este curso es construir conocimientos básicos de género y feminismo como herramientas de análisis de problemas sociales\, del derecho y de políticas públicas. El curso se llevará a cabo del 13 de agosto al 5 de noviembre\, los miércoles de 17:00 a 20:00 h. \nDirigido a: Profesionistas\, funcionariado público e integrantes de ONGs o estudiantes de posgrado\, con interés en feminismos\, género\, derecho y justicia\, derechos humanos. \nActividad híbrida. \nInformes en: https://www.juridicas.unam.mx/educacion/diplomado/189-curso-feminismos-critica-de-genero-al-derecho-y-violencias-2a-edicion-2025 
URL:https://coordinaciongenero.unam.mx/evento/curso-feminismos-critica-de-genero-y-violencias/
LOCATION:Instituto de Investigaciones Jurídicas
CATEGORIES:Feminismos
END:VEVENT
BEGIN:VEVENT
DTSTART;VALUE=DATE:20250407
DTEND;VALUE=DATE:20250509
DTSTAMP:20260425T110038
CREATED:20250402T224245Z
LAST-MODIFIED:20260121T223020Z
UID:65174-1743984000-1746748799@coordinaciongenero.unam.mx
SUMMARY:Cursos para personal académico de la UNAM (CIGU-PASD) abril 2025
DESCRIPTION:La Coordinación para la Igualdad de Género y el Programa de Actualización y Superación Docente (DGAPA-PASD) invitan al personal académico de la UNAM a los cursos:  \nPrevención y erradicación de la discriminación y la violencia por razones de género en espacios universitarios\nFacilita: Mtra. Lourdes Enríquez Rosas.\nID: 14397\nFechas y horarios: Lunes a viernes\, del 07 al 11 de abril de 2025\, en un horario de 16:00 a 20:00 h\nCurso a distancia por plataforma Zoom. \n\nKit de herramientas para la promoción de la salud mental en la docencia: guIAR para docentes\nFacilita: Mtra. Alejandra López Montoya y Mtra. Sandra Ivonne Ferrer Reyes.\nID: 14398\nFechas y horarios: Lunes a viernes\, del 07 al 11 de abril de 2025\, en un horario de 10:00 a 14:00 h\nCurso SEMI VIRTUAL. \n\nEducar desde el Arcoíris. Docencia universitaria desde una perspectiva de la disidencia sexual y de género\nFacilita: Dra. Claudia Ivette Navarro Corona.\nID: 14399\nFechas y horarios: Lunes\, del 21 de abril al 19 de mayo de 2025\, en un horario de 10:00 a 13:00 h\nCurso a distancia por plataforma Zoom.\n \n \nClaves epistemológicas para abordar las violencias\, desigualdades y discriminaciones por razones de género\nFacilita: Mtra. Tania Jimena Hernández Crespo.\nID: 14400\nFechas y horarios: Lunes y miércoles\, del 21 de abril al 05 de mayo de 2025\, en un horario de 10:00 – 14:00 h\nCurso a distancia por plataforma Zoom. \n\nLenguaje no sexista de género incluyente en las aulas\nFacilita: Mtro. Matías Florencio.\nID: 14402\nFechas y horarios: Martes y jueves\, del 22 de abril al 08 de mayo de 2025\, en un horario de 16:00 a 19:00 h\nCurso a distancia por plataforma Zoom. \n \n¿Quiénes se puede inscribir a estos cursos?\nTe comentamos que los cursos del Programa de Actualización y Superación Docente contemplan únicamente al personal académico de la UNAM\, adscrito con número de trabajador(a/e) y que esté en la nómina. \nSin embargo\, existen otros casos que también se toman en cuenta y estos tienen sus propios requisitos: \nCASO 1: Persona académica en proceso de adscripción o docente en la UNAM\nSi existe una adscripción como Académico o Académica en proceso\, o bien\, que la persona postulante ha sido docente\, al menos en el semestre anterior inmediato en la Universidad. \nPara poder comprobar dicho proceso es necesario: \n\nContar con un documento oficial firmado y sellado por la autoridad competente (puede ser: copia de la hoja única de contratación\, credencial resellada\, talón de pago\, constancia de asignación de grupos vigente firmada y sellada por la entidad de adscripción). Esto aplicaría\, en todo caso\, para las\, los y les docentes o académicos que no se encuentren vigentes en nómina (pero que hayan tenido adscripción en el semestre inmediato anterior)\, los profesores cuya adscripción se encuentra en trámite y personas docentes jubiladas.\nPara efectuar este tipo de inscripción será necesario escribir a los correos electrónicos: actlic@dgapa.unam.mx y pasd@dgapa.unam.mx\, con la documentación anteriormente mencionada\, más los siguientes datos:\n\nel nombre del curso al que se desea inscribir\nnombre\nRFC\nCURP\ncorreo electrónico\nnúmero telefónico de contacto\n\n\n\nNota: Para que se les considere como personal académico de la UNAM\, la inscripción se llevará a cabo siempre y cuando la solicitud cumpla con lo antes descrito\, el curso tenga cupo y se realice dentro de los tiempos establecidos (a más tardar el día del inicio del curso). \nCASO 2: “Persona académica externa” adscrita o no a la UNAM\nEn el caso de que no se cuente con algún documento de esta índole\, debes registrarte bajo el procedimiento de “Persona académica externa”. Las personas docentes externas pueden ser académicas en otra institución adscrita a la UNAM (Medio Superior o Licenciatura)\, o bien\, de otra entidad educativa no adscrita a la Universidad. \nEn este caso\, los cursos tendrán costo. \n\nSi es por parte de una escuela incorporada el costo del curso es de 35 pesos por hora.\nPara escuelas no incorporadas el costo es de 50 por hora.\n\nImportante: El pago es único y no hay devolución. \nMayor información: \nCorreo de los cursos PASD: pasd@dgapa.unam.mx \n  \nINSCRIPCIONES Y PROGRAMAS AQUÍ\n  \nGuia de inscripción\n  \nPodría interesarte
URL:https://coordinaciongenero.unam.mx/evento/cursos-para-personal-academico-de-la-unam-cigu-pasd-abril-2025/
CATEGORIES:Curso,Educación para la igualdad,Prevención de la Violencia de Género,Violencia de Género
ATTACH;FMTTYPE=image/png:https://coordinaciongenero.unam.mx/wp-content/uploads/2022/04/cursosdocentes-imagenweb-04.png
END:VEVENT
BEGIN:VEVENT
DTSTART;TZID=America/Chicago:20250503T110000
DTEND;TZID=America/Chicago:20250628T120000
DTSTAMP:20260425T110038
CREATED:20250502T232335Z
LAST-MODIFIED:20250505T194023Z
UID:65569-1746270000-1751112000@coordinaciongenero.unam.mx
SUMMARY:Taller: «Salud emocional para tu bienestar»
DESCRIPTION:3 de mayo de 2025 | 11:00 h\nTaller: «Salud emocional para tu bienestar»\nOrganizada por: Museo de las Constituciones (MuCo).\nActividad con el objetivo de incentivar la adopción de herramientas que ayuden a las y los asistentes a cultivar relaciones saludables\, mejorar sus relaciones interpersonales de familia\, trabajo\, amistad o pareja\, y a que puedan identificar signos de maltrato\, dependencia o toxicidad para prevenir situaciones de violencia. El taller tendrá lugar los días sábados\, en sesiones consecutivas\, del 3 de mayo al 28 de junio.\nParticipante(s): Público en general.\nDirigida a: Todo público.\nActividad presencial.\nRegistro en: https://bit.ly/relacionesasertivas\nLugar: Calle del Carmen esquina con San Ildefonso\, Centro Histórico\, Cuauhtémoc. 06010\, Ciudad de México. 
URL:https://coordinaciongenero.unam.mx/evento/taller-salud-emocional-para-tu-bienestar/
LOCATION:Museo de las Constituciones.
CATEGORIES:Salud mental
ATTACH;FMTTYPE=image/png:https://coordinaciongenero.unam.mx/wp-content/uploads/2021/01/unam-cigu-personas-orientadoras-textura2-e1630595419981.png
END:VEVENT
BEGIN:VEVENT
DTSTART;VALUE=DATE:20250505
DTEND;VALUE=DATE:20250524
DTSTAMP:20260425T110038
CREATED:20250505T235105Z
LAST-MODIFIED:20250506T190410Z
UID:65615-1746403200-1748044799@coordinaciongenero.unam.mx
SUMMARY:Convocatoria: «Haceres y saberes del cuidado 2025»
DESCRIPTION:5 al 23 de mayo de 2025 \nPrograma de formación «Haceres y saberes del cuidado 2025» \nOrganizada por: Friedrich-Ebert-Stiftung en México. \nHaceres y Saberes del Cuidado es un progra­ma de formación que tiene por objetivo que las personas participantes obtengan conocimien­tos teóricos y prácticos sobre los cuidados\, que les permitan identificar y replantear estrategias de cuidados más transformadoras y democra­tizadoras a partir de experiencias propias. \nEste programa se distingue por ser un espacio de aprendizaje colectivo\, con una base teórica sólida que incorpora técnicas participativas en todas sus sesiones. A todas las personas seleccionadas se les otorga una beca del 100% que exige un compromiso de asistencia y participación a todas las sesiones. La constancia se entrega con la acreditación del 80% de asistencia. \nFormato 100% virtual y sincrónico vía Zoom\, con una duración de 48 horas en total\, distribuidas en 16 sesiones semanales durante dos meses: del viernes 11 de julio al sábado 30 de agosto de 2025. Los días y horarios de las sesiones son los viernes de las 17:00 a las 20:00 horas y los sábados de las 10:00 a las 13:00 horas. \nEjes temáticos: \n\nConceptualización de los cuidados\nEconomía feminista y economía del cuidado\nDerecho al cuidado\nLa sociedad del cuidado para la autonomía de las personas\n\nDirigida a: Integrantes de la academia\, el sector privado\, el servicio público\, la socie­dad civil o público en general. \nActividad en línea. \nRegistro de postulación: https://bit.ly/HyS2025 \nDetalles del programa aquí\n 
URL:https://coordinaciongenero.unam.mx/evento/convocatoria-haceres-y-saberes-del-cuidado-2025/
CATEGORIES:Convocatorias,Cuidados
ATTACH;FMTTYPE=image/jpeg:https://coordinaciongenero.unam.mx/wp-content/uploads/2020/11/fodo-textura.jpg
END:VEVENT
BEGIN:VEVENT
DTSTART;TZID=America/Chicago:20250505T090000
DTEND;TZID=America/Chicago:20250509T170000
DTSTAMP:20260425T110038
CREATED:20250520T181306Z
LAST-MODIFIED:20260121T205016Z
UID:65904-1746435600-1746810000@coordinaciongenero.unam.mx
SUMMARY:Evento: «Semana del Orgullo - ENES J 2025»
DESCRIPTION:Diversidades y disidencias sexo-genéricas \n5 a 9 de mayo de 2025 | 9:00 h a 17:00 h \nEvento: «Semana del Orgullo – ENES J 2025» \nOrganizada por: CInIG y POC de la Escuela Nacional de Estudios Superiores Unidad Juriquilla (ENES Juriquilla).\n \nDel lunes 5 al viernes 9 de mayo habrá junta de banderas\, carteles colaborativos\, pláticas\, conversatorios\, cine-club\, exposición de arte\, stand médico\, kermés y espacios de expresión disidente para visibilizar y celebrar la diversidad sexo-genérica. \nParticipante(s): No aplica. \nDirigida a: Todo público. \nActividad presencial. \nConsulta el programa: https://liveatteduunam-my.sharepoint.com/:b:/g/personal/javier_sanchezlopez_unam_mx/EXYjjhrJJsdPgjH0TINNI2oBMd6nNvD4mTvh3DNOdDrunA?e=MjcQ1u \nLugar: ENES Juriquilla\, ubicada en Boulevard Juriquilla 3001\, Juriquilla\, 76230\, Querétaro.
URL:https://coordinaciongenero.unam.mx/evento/evento-semana-del-orgullo-enes-j-2025/
LOCATION:Escuela Nacional de Estudios Superiores Unidad Juriquilla (ENES Juriquilla)\, Boulevard Juriquilla 3001\, Querétaro\, 76230\, Mexico
CATEGORIES:Diversidades y disidencias,Orgullo PUMA 2025
ATTACH;FMTTYPE=image/png:https://coordinaciongenero.unam.mx/wp-content/uploads/2024/05/orgullo2024-2.png
END:VEVENT
END:VCALENDAR