BEGIN:VCALENDAR
VERSION:2.0
PRODID:-//Coordinación para la Igualdad de Género UNAM - ECPv6.15.20//NONSGML v1.0//EN
CALSCALE:GREGORIAN
METHOD:PUBLISH
X-WR-CALNAME:Coordinación para la Igualdad de Género UNAM
X-ORIGINAL-URL:https://coordinaciongenero.unam.mx
X-WR-CALDESC:Eventos para Coordinación para la Igualdad de Género UNAM
REFRESH-INTERVAL;VALUE=DURATION:PT1H
X-Robots-Tag:noindex
X-PUBLISHED-TTL:PT1H
BEGIN:VTIMEZONE
TZID:America/Chicago
BEGIN:DAYLIGHT
TZOFFSETFROM:-0600
TZOFFSETTO:-0500
TZNAME:CDT
DTSTART:20240310T080000
END:DAYLIGHT
BEGIN:STANDARD
TZOFFSETFROM:-0500
TZOFFSETTO:-0600
TZNAME:CST
DTSTART:20241103T070000
END:STANDARD
BEGIN:DAYLIGHT
TZOFFSETFROM:-0600
TZOFFSETTO:-0500
TZNAME:CDT
DTSTART:20250309T080000
END:DAYLIGHT
BEGIN:STANDARD
TZOFFSETFROM:-0500
TZOFFSETTO:-0600
TZNAME:CST
DTSTART:20251102T070000
END:STANDARD
BEGIN:DAYLIGHT
TZOFFSETFROM:-0600
TZOFFSETTO:-0500
TZNAME:CDT
DTSTART:20260308T080000
END:DAYLIGHT
BEGIN:STANDARD
TZOFFSETFROM:-0500
TZOFFSETTO:-0600
TZNAME:CST
DTSTART:20261101T070000
END:STANDARD
END:VTIMEZONE
BEGIN:VEVENT
DTSTART;VALUE=DATE:20250401
DTEND;VALUE=DATE:20250628
DTSTAMP:20260424T214543
CREATED:20250807T172241Z
LAST-MODIFIED:20250807T172241Z
UID:67402-1743465600-1751068799@coordinaciongenero.unam.mx
SUMMARY:Curso: «Feminismos. Crítica de género y violencias»
DESCRIPTION:1 de abril al 27 de junio de 2025 \nCurso: «Feminismos. Crítica de género y violencias»\nEl objetivo de este curso es construir conocimientos básicos de género y feminismo como herramientas de análisis de problemas sociales\, del derecho y de políticas públicas. El curso se llevará a cabo del 13 de agosto al 5 de noviembre\, los miércoles de 17:00 a 20:00 h. \nDirigido a: Profesionistas\, funcionariado público e integrantes de ONGs o estudiantes de posgrado\, con interés en feminismos\, género\, derecho y justicia\, derechos humanos. \nActividad híbrida. \nInformes en: https://www.juridicas.unam.mx/educacion/diplomado/189-curso-feminismos-critica-de-genero-al-derecho-y-violencias-2a-edicion-2025 
URL:https://coordinaciongenero.unam.mx/evento/curso-feminismos-critica-de-genero-y-violencias/
LOCATION:Instituto de Investigaciones Jurídicas
CATEGORIES:Feminismos
END:VEVENT
BEGIN:VEVENT
DTSTART;TZID=America/Chicago:20250406T100000
DTEND;TZID=America/Chicago:20250406T100000
DTSTAMP:20260424T214543
CREATED:20250403T202205Z
LAST-MODIFIED:20250403T202558Z
UID:65191-1743933600-1743933600@coordinaciongenero.unam.mx
SUMMARY:Taller: «Bailando y celebrando»
DESCRIPTION:Es una actividad diseñada para niñas y niños\, donde el movimiento y la danza se convierten en una forma divertida de hacer ejercicio y expresarse libremente. \nParticipante(s): Mtra. Rebeca Caballero Álvarez. \nDirigida a: Niñas y niños. \nActividad presencial. \nLugar: República de Bolivia 17 entre calles Brasil y Argentina Vestíbulo\, Col. Centro\, Cuauhtémoc\, 06020\, Ciudad de México. \n  \nRegistro aquí
URL:https://coordinaciongenero.unam.mx/evento/taller-bailando-y-celebrando/
LOCATION:Museo de la Mujer\, República de Bolivia 17\, Centro Histórico\, Alcaldía Cuauhtémoc\, Ciudad de México\, 06020\, Mexico
CATEGORIES:Niñeces,Taller
ATTACH;FMTTYPE=image/png:https://coordinaciongenero.unam.mx/wp-content/uploads/2021/01/unam-cigu-personas-orientadoras-textura.png
END:VEVENT
BEGIN:VEVENT
DTSTART;TZID=America/Chicago:20250406T110000
DTEND;TZID=America/Chicago:20250406T110000
DTSTAMP:20260424T214543
CREATED:20250403T202651Z
LAST-MODIFIED:20260121T215138Z
UID:65193-1743937200-1743937200@coordinaciongenero.unam.mx
SUMMARY:Actividad: «Taller de danzaterapia»
DESCRIPTION:En este taller se utiliza el movimiento para fortalecer el bienestar físico\, emocional y mental. A través de la danza\, se promueve la expresión libre\, la conexión con las emociones y la reducción del estrés\, permitiendo a cada persona explorar su cuerpo y creatividad a su propio ritmo. \nParticipante(s): Mtra. Rebeca Caballero Álvarez (FEMU). \nDirigida a: Mujeres. \nActividad presencial. \nLugar: República de Bolivia 17 entre calles Brasil y Argentina Vestíbulo\, Col. Centro\, Cuauhtémoc\, 06020\, Ciudad de México.
URL:https://coordinaciongenero.unam.mx/evento/actividad-taller-de-danzaterapia/
LOCATION:Museo de la Mujer\, República de Bolivia 17\, Centro Histórico\, Alcaldía Cuauhtémoc\, Ciudad de México\, 06020\, Mexico
CATEGORIES:Arte y género,Taller
ATTACH;FMTTYPE=image/jpeg:https://coordinaciongenero.unam.mx/wp-content/uploads/2021/03/TEXTURA-1AÑO_ytthumbnail.jpg
END:VEVENT
BEGIN:VEVENT
DTSTART;TZID=America/Chicago:20250406T110000
DTEND;TZID=America/Chicago:20250406T113000
DTSTAMP:20260424T214543
CREATED:20250404T173024Z
LAST-MODIFIED:20251004T002255Z
UID:65254-1743937200-1743939000@coordinaciongenero.unam.mx
SUMMARY:Violeta y Oro: ¿Y los hombres? Hablemos de masculinidades y género
DESCRIPTION:En este #VioletaYOro\, recibimos a Karen Mardones Leiva\, académica de la Universidad Santo Tomás\, sede Valdivia de Chile\, experta en estudios de género y masculinidades. Karen analiza la crisis de la masculinidad en el contexto mundial\, explorando desde la “manosfera” y los discursos antifeministas en redes sociales\, hasta los miedos y privilegios que motivan estas reacciones. Además\, participantes del Programa Integral de Trabajo con Hombres de la CIGU comparten sus perspectivas sobre la masculinidad hegemónica y la importancia de crear espacios seguros para la reflexión y la construcción de relaciones más igualitarias. \nAl platicar acerca del contexto mundial actual\, donde la masculinidad está pasando por una crisis\, Karen admite que\, por un lado\, hay hombres que se abren a los mensajes feministas y reflexionan sobre sus roles\, mientras que otros hombres reaccionan violentamente contra los avances del feminismo. Nos menciona el libro Hombres (blancos) cabreados de Michael Kimmel\, que analiza por qué los hombres están tan enojados con el avance de los derechos humanos\, incluidos los feminismos y la diversidad. \nSobre su proyecto de investigación en Chile\, que analiza cómo las organizaciones de educación superior trabajan con hombres y masculinidades en procesos de igualdad de género\, Karen nos cuenta que este proyecto surgió en 2022 tras las movilizaciones feministas en Chile que llevaron a la promulgación de una ley para regular la violencia de género en la educación superior. \nEn la sección «Chiques Violeta»\, se presentan voces de la comunidad de los hombres participantes del Programa Integral de Trabajo con Hombres (PROITH) de la CIGU. Ellos comparten cómo la reflexión sobre la masculinidad hegemónica ha impactado sus relaciones consigo mismos y con los demás\, destacando la importancia de contar con espacios seguros para hablar sobre emociones y masculinidades. \nPieza musical «Mujeres» a cargo de Julieta Venegas. \nConduce: Olivia Zerón Tena (CIGU UNAM). 
URL:https://coordinaciongenero.unam.mx/evento/violeta-y-oro-y-los-hombres-hablemos-de-masculinidades-y-genero/
CATEGORIES:Masculinidades,Violencia de Género,violeta y oro
ATTACH;FMTTYPE=image/jpeg:https://coordinaciongenero.unam.mx/wp-content/uploads/2025/04/WEB-KAREN-01.jpg
END:VEVENT
END:VCALENDAR