BEGIN:VCALENDAR
VERSION:2.0
PRODID:-//Coordinación para la Igualdad de Género UNAM - ECPv6.15.20//NONSGML v1.0//EN
CALSCALE:GREGORIAN
METHOD:PUBLISH
X-WR-CALNAME:Coordinación para la Igualdad de Género UNAM
X-ORIGINAL-URL:https://coordinaciongenero.unam.mx
X-WR-CALDESC:Eventos para Coordinación para la Igualdad de Género UNAM
REFRESH-INTERVAL;VALUE=DURATION:PT1H
X-Robots-Tag:noindex
X-PUBLISHED-TTL:PT1H
BEGIN:VTIMEZONE
TZID:America/Chicago
BEGIN:DAYLIGHT
TZOFFSETFROM:-0600
TZOFFSETTO:-0500
TZNAME:CDT
DTSTART:20240310T080000
END:DAYLIGHT
BEGIN:STANDARD
TZOFFSETFROM:-0500
TZOFFSETTO:-0600
TZNAME:CST
DTSTART:20241103T070000
END:STANDARD
BEGIN:DAYLIGHT
TZOFFSETFROM:-0600
TZOFFSETTO:-0500
TZNAME:CDT
DTSTART:20250309T080000
END:DAYLIGHT
BEGIN:STANDARD
TZOFFSETFROM:-0500
TZOFFSETTO:-0600
TZNAME:CST
DTSTART:20251102T070000
END:STANDARD
BEGIN:DAYLIGHT
TZOFFSETFROM:-0600
TZOFFSETTO:-0500
TZNAME:CDT
DTSTART:20260308T080000
END:DAYLIGHT
BEGIN:STANDARD
TZOFFSETFROM:-0500
TZOFFSETTO:-0600
TZNAME:CST
DTSTART:20261101T070000
END:STANDARD
END:VTIMEZONE
BEGIN:VEVENT
DTSTART;VALUE=DATE:20250401
DTEND;VALUE=DATE:20250628
DTSTAMP:20260425T053001
CREATED:20250807T172241Z
LAST-MODIFIED:20250807T172241Z
UID:67402-1743465600-1751068799@coordinaciongenero.unam.mx
SUMMARY:Curso: «Feminismos. Crítica de género y violencias»
DESCRIPTION:1 de abril al 27 de junio de 2025 \nCurso: «Feminismos. Crítica de género y violencias»\nEl objetivo de este curso es construir conocimientos básicos de género y feminismo como herramientas de análisis de problemas sociales\, del derecho y de políticas públicas. El curso se llevará a cabo del 13 de agosto al 5 de noviembre\, los miércoles de 17:00 a 20:00 h. \nDirigido a: Profesionistas\, funcionariado público e integrantes de ONGs o estudiantes de posgrado\, con interés en feminismos\, género\, derecho y justicia\, derechos humanos. \nActividad híbrida. \nInformes en: https://www.juridicas.unam.mx/educacion/diplomado/189-curso-feminismos-critica-de-genero-al-derecho-y-violencias-2a-edicion-2025 
URL:https://coordinaciongenero.unam.mx/evento/curso-feminismos-critica-de-genero-y-violencias/
LOCATION:Instituto de Investigaciones Jurídicas
CATEGORIES:Feminismos
END:VEVENT
BEGIN:VEVENT
DTSTART;TZID=America/Chicago:20250405T110000
DTEND;TZID=America/Chicago:20250405T110000
DTSTAMP:20260425T053001
CREATED:20250403T194601Z
LAST-MODIFIED:20250403T200520Z
UID:65187-1743850800-1743850800@coordinaciongenero.unam.mx
SUMMARY:Taller: «Yoga en el Museo»
DESCRIPTION:Esta actividad promueve la salud integral en la que las participantes realizan ejercicios que les ayudan a conectar cuerpo y mente. \nParticipante(s): Tallerista Karla Flores. \nDirigida a: Mujeres. \nActividad presencial. \nLugar: República de Bolivia 17 entre calles Brasil y Argentina Vestíbulo\, Col. Centro\, Cuauhtémoc\, 06020\, Ciudad de México.
URL:https://coordinaciongenero.unam.mx/evento/taller-yoga-en-el-museo/
LOCATION:Museo de la Mujer\, República de Bolivia 17\, Centro Histórico\, Alcaldía Cuauhtémoc\, Ciudad de México\, 06020\, Mexico
CATEGORIES:Género y deporte
ATTACH;FMTTYPE=image/png:https://coordinaciongenero.unam.mx/wp-content/uploads/2021/01/unam-cigu-personas-orientadoras-textura2-e1630595419981.png
END:VEVENT
BEGIN:VEVENT
DTSTART;TZID=America/Chicago:20250405T120000
DTEND;TZID=America/Chicago:20250405T120000
DTSTAMP:20260425T053001
CREATED:20250403T201131Z
LAST-MODIFIED:20250403T201753Z
UID:65189-1743854400-1743854400@coordinaciongenero.unam.mx
SUMMARY:Visita guiada y taller: «Viaje en el tiempo»
DESCRIPTION:Ofrece una experiencia única para explorar la historia de la mujer a través de las exposiciones del museo.  \nDurante el recorrido\, las y los niños serán guiados por las 10 salas del recinto cultural\, donde conocerán las luchas\, logros y transformaciones de las mujeres a lo largo del tiempo\, destacando sus contribuciones en diversas áreas. Al finalizar\, se les invitará a escribir cómo se imaginan cuando sean grandes\, fomentando su imaginación. Esta actividad promueve la reflexión histórica de manera divertida y participativa en un entorno educativo. \nParticipante(s): Tallerista Alma Bravo. \nDirigida a: Niñas y niños de 6 a 10 años. \nActividad presencial. \nLugar: República de Bolivia 17 entre calles Brasil y Argentina Vestíbulo\, Col. Centro\, Cuauhtémoc\, 06020\, Ciudad de México. \nInscripción aquí
URL:https://coordinaciongenero.unam.mx/evento/visita-guiada-y-taller-viaje-en-el-tiempo/
LOCATION:Museo de la Mujer\, República de Bolivia 17\, Centro Histórico\, Alcaldía Cuauhtémoc\, Ciudad de México\, 06020\, Mexico
CATEGORIES:Feminismos
ATTACH;FMTTYPE=image/jpeg:https://coordinaciongenero.unam.mx/wp-content/uploads/2020/11/fodo-textura.jpg
END:VEVENT
BEGIN:VEVENT
DTSTART;TZID=America/Chicago:20250405T120000
DTEND;TZID=America/Chicago:20250405T150000
DTSTAMP:20260425T053001
CREATED:20250331T231822Z
LAST-MODIFIED:20250331T231822Z
UID:65150-1743854400-1743865200@coordinaciongenero.unam.mx
SUMMARY:Cine-debate: «Cine-debate en Derechos Humanos: La mujer de estrellas y montañas»
DESCRIPTION:5 de abril de 2025 | 12:00 a 15:00 h\nCine-debate: «Cine-debate en Derechos Humanos: La mujer de estrellas y montañas»\nOrganizada por: Museo de las Constituciones.\nLa mujer de estrellas y montañas cuenta la historia de Rita\, una mujer rarámuri que abandonó su comunidad en la Sierra Tarahumara y emprendió un viaje hasta Kansas\, donde fue detenida e internada contra su voluntad en un hospital psiquiátrico por 12 años.\nParticipante(s): Santiago Esteinou (director del documental). Modera Dra. Janeth Hernández Flores (UAM Cuajimalpa).\nDirigida a: Todo público.\nActividad presencial.\nLugar: Museo de las Constituciones\, ubicado en Calle del Carmen esquina con San Ildefonso\, Centro Histórico\, Cuauhtémoc\, 06010\, Ciudad de México.\nEntrada gratuita.
URL:https://coordinaciongenero.unam.mx/evento/cine-debate-cine-debate-en-derechos-humanos-la-mujer-de-estrellas-y-montanas/
LOCATION:Museo de las Constituciones UNAM\, calle Del Carmen esquina con San Ildefonso\, Centro Histórico\, Cuauhtémoc\, 06010\, Ciudad de México\, Ciudad de México\, Distrito Federal\, 06010\, Mexico
CATEGORIES:Cine-debate
ATTACH;FMTTYPE=image/png:https://coordinaciongenero.unam.mx/wp-content/uploads/2024/05/unam-cigu-texturas-eventos-3.png
END:VEVENT
END:VCALENDAR