BEGIN:VCALENDAR
VERSION:2.0
PRODID:-//Coordinación para la Igualdad de Género UNAM - ECPv6.15.20//NONSGML v1.0//EN
CALSCALE:GREGORIAN
METHOD:PUBLISH
X-WR-CALNAME:Coordinación para la Igualdad de Género UNAM
X-ORIGINAL-URL:https://coordinaciongenero.unam.mx
X-WR-CALDESC:Eventos para Coordinación para la Igualdad de Género UNAM
REFRESH-INTERVAL;VALUE=DURATION:PT1H
X-Robots-Tag:noindex
X-PUBLISHED-TTL:PT1H
BEGIN:VTIMEZONE
TZID:America/Chicago
BEGIN:DAYLIGHT
TZOFFSETFROM:-0600
TZOFFSETTO:-0500
TZNAME:CDT
DTSTART:20240310T080000
END:DAYLIGHT
BEGIN:STANDARD
TZOFFSETFROM:-0500
TZOFFSETTO:-0600
TZNAME:CST
DTSTART:20241103T070000
END:STANDARD
BEGIN:DAYLIGHT
TZOFFSETFROM:-0600
TZOFFSETTO:-0500
TZNAME:CDT
DTSTART:20250309T080000
END:DAYLIGHT
BEGIN:STANDARD
TZOFFSETFROM:-0500
TZOFFSETTO:-0600
TZNAME:CST
DTSTART:20251102T070000
END:STANDARD
BEGIN:DAYLIGHT
TZOFFSETFROM:-0600
TZOFFSETTO:-0500
TZNAME:CDT
DTSTART:20260308T080000
END:DAYLIGHT
BEGIN:STANDARD
TZOFFSETFROM:-0500
TZOFFSETTO:-0600
TZNAME:CST
DTSTART:20261101T070000
END:STANDARD
END:VTIMEZONE
BEGIN:VEVENT
DTSTART;TZID=America/Chicago:20250328T103000
DTEND;TZID=America/Chicago:20250328T103000
DTSTAMP:20260424T202959
CREATED:20250311T214703Z
LAST-MODIFIED:20250311T215559Z
UID:64447-1743157800-1743157800@coordinaciongenero.unam.mx
SUMMARY:Cine+Charla: «Proyección de Mi bella dama»
DESCRIPTION:Proyección de la película Mi bella dama y sesión de comentarios para evaluar el impacto del cine en la generación de violencia de género.\n \nParticipante(s): Dr. Melchor Sánchez Mendiola\, Mtra. Cecilia Montiel Ayometzi\, Lic. Tania Itzel Nieto Juárez\, Mtra. Nancy Araceli Galván Aguilar\, Mtra. Ana Laura Pérez Díaz\, Lic. Ximena Vázquez Rodríguez y Lic. Luis Fernando Barroso Vargas (integrantes de la CInIG CEIDE).\n \nDirigida a: Comunidad CEIDE.\n \nActividad presencial.\n \nLugar: Salas de cine de la Filmoteca UNAM\, ubicadas en el Centro Cultural Universitario\, C.U.\, Coyoacán\, 04100\, Ciudad de México.
URL:https://coordinaciongenero.unam.mx/evento/cinecharla-proyeccion-de-mi-bella-dama/
LOCATION:Filmoteca UNAM
CATEGORIES:8M 2025
ATTACH;FMTTYPE=image/png:https://coordinaciongenero.unam.mx/wp-content/uploads/2025/02/8m-2025-pw_01.png
END:VEVENT
BEGIN:VEVENT
DTSTART;TZID=America/Chicago:20250328T110000
DTEND;TZID=America/Chicago:20250328T130000
DTSTAMP:20260424T202959
CREATED:20250306T045046Z
LAST-MODIFIED:20250306T045046Z
UID:64051-1743159600-1743166800@coordinaciongenero.unam.mx
SUMMARY:Seminario permanente internacional: «Perspectiva de Género 2025»
DESCRIPTION:Seminario permanente internacional: «Perspectiva de Género 2025» \nOrganizada por: CInIG de la Escuela Nacional de Trabajo Social (ENTS).\nConversatorio: «Género y Masculinidades». Actividad del Seminario Permanente.\nParticipante(s): CIEGENTS.\nDirigida a: Todo público.\nActividad en línea.\nSigue la transmisión: https://www.youtube.com/@ENTS-UNAM 
URL:https://coordinaciongenero.unam.mx/evento/seminario-permanente-internacional-perspectiva-de-genero-2025-2/
LOCATION:En línea
CATEGORIES:8M 2025,Perspectiva de género
ATTACH;FMTTYPE=image/png:https://coordinaciongenero.unam.mx/wp-content/uploads/2025/02/8m-2025-pw_05.png
END:VEVENT
BEGIN:VEVENT
DTSTART;TZID=America/Chicago:20250328T120000
DTEND;TZID=America/Chicago:20250328T120000
DTSTAMP:20260424T202959
CREATED:20250320T233945Z
LAST-MODIFIED:20250320T233945Z
UID:64776-1743163200-1743163200@coordinaciongenero.unam.mx
SUMMARY:Ciclo de conferencias virtuales: «La Asociación de Universitarias Mexicanas\, primeros pasos para el empoderamiento femenino mediante la educación y la solidaridad»
DESCRIPTION:28 de marzo de 2025 | 12:00 h\nCiclo de conferencias virtuales: «La Asociación de Universitarias Mexicanas\, primeros pasos para el empoderamiento femenino mediante la educación y la solidaridad»\nOrganizada por: Museo de la Mujer.\nSe abordará el papel fundamental de esta organización en el empoderamiento femenino a través de la educación y la solidaridad. Esta actividad es una oportunidad para conocer más sobre el impacto histórico de la Asociación y su relevancia en el avance de los derechos de las mujeres en México.\nParticipante(s): Mtra. Gloria Celia Carreño Alvarado (IISUE-UNAM). Modera Dra. Irais Moreno López (FCPyS-UNAM\, FEMU).\nDirigida a: Todo público.\nActividad en línea.\nRegistro: https://forms.gle/G3gYjwtuKg9fZnE47\nSigue la transmisión: https://www.youtube.com/@museoDeLaMujer
URL:https://coordinaciongenero.unam.mx/evento/ciclo-de-conferencias-virtuales-la-asociacion-de-universitarias-mexicanas-primeros-pasos-para-el-empoderamiento-femenino-mediante-la-educacion-y-la-solidaridad/
LOCATION:Museo de la Mujer\, República de Bolivia 17\, Centro Histórico\, Alcaldía Cuauhtémoc\, Ciudad de México\, 06020\, Mexico
CATEGORIES:8M 2025
ATTACH;FMTTYPE=image/png:https://coordinaciongenero.unam.mx/wp-content/uploads/2025/02/8m-2025-pw_02.png
END:VEVENT
BEGIN:VEVENT
DTSTART;TZID=America/Chicago:20250328T120000
DTEND;TZID=America/Chicago:20250328T120000
DTSTAMP:20260424T202959
CREATED:20250411T195956Z
LAST-MODIFIED:20260122T232140Z
UID:65302-1743163200-1743163200@coordinaciongenero.unam.mx
SUMMARY:Seminaria Semilla: «2do Doble Encuentro Semilla»
DESCRIPTION:En La Seminaria Permanente de Estudios de Género en Arte y Diseño: Semilla seguimos con los Dobles Encuentros\, este viernes tendremos charla con Erika Bazán y Elisa Monsalve. \n  \n\nCharla: «Andar\, Cuerpo y Territorio»\n\nParticipante(s): Erika Bazán\, diseñadora y comunicadora visual. \n\nCharla: «Una escoba no sólo sirve para barrer. Un encuentro con el arquetipo de la bruja desde el feminismo»\n\nParticipante(s): Elisa Monsalve\, grabadora e ilustradora del Cono Sur. \n  \nDirigida a: Todo público. \nActividad en línea. \n 
URL:https://coordinaciongenero.unam.mx/evento/seminaria-semilla-2do-doble-encuentro-semilla/
CATEGORIES:Arte y género
ATTACH;FMTTYPE=image/jpeg:https://coordinaciongenero.unam.mx/wp-content/uploads/2021/03/TEXTURA-1AÑO_ytthumbnail.jpg
END:VEVENT
BEGIN:VEVENT
DTSTART;TZID=America/Chicago:20250328T160000
DTEND;TZID=America/Chicago:20250328T160000
DTSTAMP:20260424T202959
CREATED:20250320T235510Z
LAST-MODIFIED:20250320T235539Z
UID:64783-1743177600-1743177600@coordinaciongenero.unam.mx
SUMMARY:Ciclo de conferencias virtuales: «Historia de los feminismos: Los feminismos yucatecos históricos»
DESCRIPTION:28 de marzo de 2025 | 16:00 h\nCiclo de conferencias virtuales: «Historia de los feminismos: Los feminismos yucatecos históricos»\nOrganizada por: Museo de la Mujer.\nSe abordará el papel fundamental de Yucatán en la historia del feminismo en México. Este evento ofrecerá un análisis profundo sobre los movimientos feministas en la región y su impacto en la lucha por los derechos de las mujeres.\nParticipante(s): Dra. Piedad Peniche (FEMU). Modera Dra. Ivett Magali García Sandoval.\nDirigida a: Todo público.\nActividad en línea.\nRegistro: https://forms.gle/6ZGUfQh8TgFPxok5A \nSigue la transmisión: https://www.youtube.com/@museoDeLaMujer
URL:https://coordinaciongenero.unam.mx/evento/ciclo-de-conferencias-virtuales-historia-de-los-feminismos-los-feminismos-yucatecos-historicos/
LOCATION:Museo de la Mujer\, República de Bolivia 17\, Centro Histórico\, Alcaldía Cuauhtémoc\, Ciudad de México\, 06020\, Mexico
CATEGORIES:8M 2025
ATTACH;FMTTYPE=image/png:https://coordinaciongenero.unam.mx/wp-content/uploads/2025/02/8m-2025-pw_04.png
END:VEVENT
END:VCALENDAR