BEGIN:VCALENDAR
VERSION:2.0
PRODID:-//Coordinación para la Igualdad de Género UNAM - ECPv6.15.20//NONSGML v1.0//EN
CALSCALE:GREGORIAN
METHOD:PUBLISH
X-WR-CALNAME:Coordinación para la Igualdad de Género UNAM
X-ORIGINAL-URL:https://coordinaciongenero.unam.mx
X-WR-CALDESC:Eventos para Coordinación para la Igualdad de Género UNAM
REFRESH-INTERVAL;VALUE=DURATION:PT1H
X-Robots-Tag:noindex
X-PUBLISHED-TTL:PT1H
BEGIN:VTIMEZONE
TZID:America/Chicago
BEGIN:DAYLIGHT
TZOFFSETFROM:-0600
TZOFFSETTO:-0500
TZNAME:CDT
DTSTART:20240310T080000
END:DAYLIGHT
BEGIN:STANDARD
TZOFFSETFROM:-0500
TZOFFSETTO:-0600
TZNAME:CST
DTSTART:20241103T070000
END:STANDARD
BEGIN:DAYLIGHT
TZOFFSETFROM:-0600
TZOFFSETTO:-0500
TZNAME:CDT
DTSTART:20250309T080000
END:DAYLIGHT
BEGIN:STANDARD
TZOFFSETFROM:-0500
TZOFFSETTO:-0600
TZNAME:CST
DTSTART:20251102T070000
END:STANDARD
BEGIN:DAYLIGHT
TZOFFSETFROM:-0600
TZOFFSETTO:-0500
TZNAME:CDT
DTSTART:20260308T080000
END:DAYLIGHT
BEGIN:STANDARD
TZOFFSETFROM:-0500
TZOFFSETTO:-0600
TZNAME:CST
DTSTART:20261101T070000
END:STANDARD
END:VTIMEZONE
BEGIN:VEVENT
DTSTART;TZID=America/Chicago:20250323T110000
DTEND;TZID=America/Chicago:20250323T113000
DTSTAMP:20260425T181145
CREATED:20250320T225331Z
LAST-MODIFIED:20260121T202915Z
UID:64928-1742727600-1742729400@coordinaciongenero.unam.mx
SUMMARY:Violeta y Oro: Sembrar pájaros y cosechar infancias lectoras
DESCRIPTION:En este #VioletayOro\, conversamos con Irma Uribe Santibáñez\, fundadora de la editorial Ateconqueso\, e Itzel Vargas Plata\, historiadora del arte y curadora del Museo Universitario del Chopo. Ellas nos presentan el libro Sembrar pájaros. Pioneras del arte contemporáneo en México\, una publicación que busca acercar a las niñeces al legado de diez artistas mujeres que abrieron brecha en el arte contemporáneo. \nAquí\, Irma Uribe nos cuenta de la editorial\, una empresa social que promueve el acceso a libros infantiles con un modelo “uno a uno” donde por cada libro vendido\, se entrega otro a una familia que no tiene acceso a ellos. Gracias esta dinámica\, Ateconqueso ha entregado más de 135\,000 libros hasta la fecha.  \nLa autora\, Itzel Vargas\, nos platica que el libro es\, de hecho\, una colaboración con el Museo del Chopo así como con diez investigadoras aliadas y las ilustraciones maravillosas de Isabel Salmones.  El libro se centra en artistas como Helen Escobedo\, Gerda Gruber\, Marta Palau\, Pola Weiss\, Lourdes Grobet\, Graciela Iturbide\, Magali Lara\, Mónica Mayer\, Teresa Serrano y Yani Pecanins\, donde presenta las historias personales de estas artistas\, destacando cómo rompieron barreras en el arte y cómo sus vidas personales influyeron en su trabajo. \nEn la sección «Chiques Violeta» se presentan respuestas de estudiantes del Centro de Investigaciones de Diseño Industrial sobre sus primeras creaciones artísticas y las obras que les llamaron en un principio la atención.  \nPieza musical «All In My Head» a cargo de la banda “The Linda Lindas”. \nConduce: Olivia Zerón Tena (CIGU UNAM). 
URL:https://coordinaciongenero.unam.mx/evento/violeta-y-oro-sembrar-pajaros-y-cosechar-infancias-lectoras/
CATEGORIES:Arte y género,Niñeces,violeta y oro
ATTACH;FMTTYPE=image/jpeg:https://coordinaciongenero.unam.mx/wp-content/uploads/2025/03/WEB-IT-02.jpg
END:VEVENT
BEGIN:VEVENT
DTSTART;TZID=America/Chicago:20250323T120000
DTEND;TZID=America/Chicago:20250323T150000
DTSTAMP:20260425T181145
CREATED:20250303T222405Z
LAST-MODIFIED:20260121T202545Z
UID:63429-1742731200-1742742000@coordinaciongenero.unam.mx
SUMMARY:Taller de serigrafía y stickers: «Tinta rebelde»
DESCRIPTION:Taller de serigrafía y stickers: «Tinta rebelde»\nOrganizada por: Mediación Educativa del Centro Cultural Universitario Tlatelolco (CCUT).\nReflexionaremos sobre la forma en la que nos podemos apropiar del espacio público a través de diferentes estrategias. Al final imprimiremos con serigrafía nuestros propios stickers con diseños en relación al 8M. \nParticipante(s): Área de Mediación educativa del CCUT.\nDirigida a: Todo público.\nActividad presencial.\nLugar: Área de Mediación Educativa del Centro Cultural Universitario Tlatelolco (CCUT) ubicado en Avenida Ricardo Flores Magón 1\, Col. Nonoalco-Tlatelolco\, 06900\, Ciudad de México.\nCupo limitado.
URL:https://coordinaciongenero.unam.mx/evento/taller-de-serigrafia-y-stickers-tinta-rebelde/
LOCATION:Área de Mediación Educativa CCUT
CATEGORIES:8M 2025,Arte y género,Taller
ATTACH;FMTTYPE=image/png:https://coordinaciongenero.unam.mx/wp-content/uploads/2025/02/8m-2025-pw_05.png
END:VEVENT
BEGIN:VEVENT
DTSTART;TZID=America/Chicago:20250323T140000
DTEND;TZID=America/Chicago:20250323T140000
DTSTAMP:20260425T181145
CREATED:20250320T220215Z
LAST-MODIFIED:20250320T220623Z
UID:64761-1742738400-1742738400@coordinaciongenero.unam.mx
SUMMARY:Cine-debate Feminista: «Las Horas de Stephen Daldry»
DESCRIPTION:23 de marzo de 2025 | 14:00 h\nCine-debate Feminista: «Las Horas de Stephen Daldry»\nOrganizada por: Museo de la Mujer y Federación Mexicana de Universitarias (FEMU).\nBasada en la novela de Michael Cunningham. La historia entrelaza las vidas de tres mujeres en diferentes épocas\, todas conectadas por la novela Mrs. Dalloway de Virginia Woolf. El filme aborda temas como la depresión\, la identidad\, el peso de las expectativas sociales y la búsqueda de significado en la vida. Con una narrativa profunda y actuaciones magistrales\, Las horas es un retrato emocional sobre el impacto de la literatura y las decisiones que tomamos.\nParticipante(s): Dra. Rocío García Rey (FEMU).\nDirigida a: Todo público.\nActividad presencial.\nLugar: República de Bolivia 17 entre calles Brasil y Argentina Vestíbulo\, Col. Centro\, Cuauhtémoc\, 06020\, Ciudad de México.\nRegistro: recepcionmuseomujer@gmail.com
URL:https://coordinaciongenero.unam.mx/evento/cine-debate-feminista-las-horas-de-stephen-daldry/
LOCATION:Museo de la Mujer\, República de Bolivia 17\, Centro Histórico\, Alcaldía Cuauhtémoc\, Ciudad de México\, 06020\, Mexico
CATEGORIES:8M 2025
ATTACH;FMTTYPE=image/png:https://coordinaciongenero.unam.mx/wp-content/uploads/2025/02/8m-2025-pw_02.png
END:VEVENT
END:VCALENDAR