BEGIN:VCALENDAR
VERSION:2.0
PRODID:-//Coordinación para la Igualdad de Género UNAM - ECPv6.15.20//NONSGML v1.0//EN
CALSCALE:GREGORIAN
METHOD:PUBLISH
X-WR-CALNAME:Coordinación para la Igualdad de Género UNAM
X-ORIGINAL-URL:https://coordinaciongenero.unam.mx
X-WR-CALDESC:Eventos para Coordinación para la Igualdad de Género UNAM
REFRESH-INTERVAL;VALUE=DURATION:PT1H
X-Robots-Tag:noindex
X-PUBLISHED-TTL:PT1H
BEGIN:VTIMEZONE
TZID:America/Chicago
BEGIN:DAYLIGHT
TZOFFSETFROM:-0600
TZOFFSETTO:-0500
TZNAME:CDT
DTSTART:20240310T080000
END:DAYLIGHT
BEGIN:STANDARD
TZOFFSETFROM:-0500
TZOFFSETTO:-0600
TZNAME:CST
DTSTART:20241103T070000
END:STANDARD
BEGIN:DAYLIGHT
TZOFFSETFROM:-0600
TZOFFSETTO:-0500
TZNAME:CDT
DTSTART:20250309T080000
END:DAYLIGHT
BEGIN:STANDARD
TZOFFSETFROM:-0500
TZOFFSETTO:-0600
TZNAME:CST
DTSTART:20251102T070000
END:STANDARD
BEGIN:DAYLIGHT
TZOFFSETFROM:-0600
TZOFFSETTO:-0500
TZNAME:CDT
DTSTART:20260308T080000
END:DAYLIGHT
BEGIN:STANDARD
TZOFFSETFROM:-0500
TZOFFSETTO:-0600
TZNAME:CST
DTSTART:20261101T070000
END:STANDARD
END:VTIMEZONE
BEGIN:VEVENT
DTSTART;TZID=America/Chicago:20250319T110000
DTEND;TZID=America/Chicago:20250319T110000
DTSTAMP:20260425T192151
CREATED:20250305T232053Z
LAST-MODIFIED:20250321T070728Z
UID:63955-1742382000-1742382000@coordinaciongenero.unam.mx
SUMMARY:Conferencia: «La importancia del peritaje en materia de Trabajo Social con perspectiva de género en la Investigación de la comisión del Delito de Feminicidio»
DESCRIPTION:La conferencia tiene el objetivo de reflexionar sobre cómo incorporar la perspectiva de género y el impacto que puede tener en los procesos de impartición de justicia\, particularmente en los casos de feminicidio.\n \nParticipante(s): Mtra. Brenda Celina Bazán Varela (fiscal de la Fiscalía Especializada de Investigación del Delito de Feminicidio FEIDFCDMX); Mtra. Adriana María Isabel Núñez García (perita en Materia de Trabajo Social en la Fiscalía Especializada de Investigación del Delito de Feminicidio FEIDFCDMX). Modera Mtra. Carmen Casas Ratia (directora de la Escuela Nacional de Trabajo Social).\n \nDirigida a: Todo público.\n \nActividad en línea.\n \n  ﻿
URL:https://coordinaciongenero.unam.mx/evento/conferencia-la-importancia-del-peritaje-en-materia-de-trabajo-social-con-perspectiva-de-genero-en-la-investigacion-de-la-comision-del-delito-de-feminicidio/
LOCATION:YouTube
CATEGORIES:8M 2025,Feminismos
ATTACH;FMTTYPE=image/png:https://coordinaciongenero.unam.mx/wp-content/uploads/2025/02/8m-2025-pw_03.png
END:VEVENT
BEGIN:VEVENT
DTSTART;TZID=America/Chicago:20250319T110000
DTEND;TZID=America/Chicago:20250319T130000
DTSTAMP:20260425T192151
CREATED:20250307T042716Z
LAST-MODIFIED:20260121T223021Z
UID:64215-1742382000-1742389200@coordinaciongenero.unam.mx
SUMMARY:Espacio de reflexión: «¿Sabes por qué el 8M es un día internacional?»
DESCRIPTION:Espacio de reflexión: «¿Sabes por qué el 8M es un día internacional?»\nOrganizada por: CInIG del Instituto de Investigaciones Económicas (IIEc).\nExposición de infografías que explican la historia y el significado del 8M\, incluyendo información sobre la Conferencia de Beijing.\nParticipante(s): Coordinación CInIG-IIEc.\nDirigida a: Todo público.\nActividad presencial.\nLugar: Jardín del IIEc\, ubicado en Circuito Maestro Mario de la Cueva s/n\, Ciudad de la Investigación en Humanidades\, C.U.\, Coyoacán\, 04510\, Ciudad de México.
URL:https://coordinaciongenero.unam.mx/evento/espacio-de-reflexion-sabes-por-que-el-8m-es-un-dia-internacional/
LOCATION:Jardín del IIEc
CATEGORIES:8M 2025,Educación para la igualdad
ATTACH;FMTTYPE=image/png:https://coordinaciongenero.unam.mx/wp-content/uploads/2025/02/8m-2025-pw_05.png
END:VEVENT
BEGIN:VEVENT
DTSTART;TZID=America/Chicago:20250319T110000
DTEND;TZID=America/Chicago:20250319T160000
DTSTAMP:20260425T192151
CREATED:20250307T040131Z
LAST-MODIFIED:20260121T235329Z
UID:64200-1742382000-1742400000@coordinaciongenero.unam.mx
SUMMARY:Corredor de Acciones Voluntarias en el marco del 8M y el Huateque: «Huateque 8M»
DESCRIPTION:Corredor de Acciones Voluntarias en el marco del 8M y el Huateque: «Huateque 8M»\nOrganizada por: CInIG y POC de la Dirección General de Orientación y Atención Educativa (DGOAE); Museo UNAM Hoy; Instituto de Investigaciones Sobre la Universidad y la Educación (IISUE); Centro de Enseñanza para Extranjeros (CEPE) y Editorial Mitote.\n«Huateque 8M» es una colaboración entre diversas POC para reflexionar sobre el 8M\, los derechos de las mujeres y las lenguas originarias\, dentro y fuera de la universidad. Durante cinco días se realizarán actividades como proyecciones de películas dirigidas por mujeres\, talleres\, charlas\, encuentros de artesanas y un micrófono abierto para compartir experiencias.\nFechas y sedes:\n19\, 20 y 21 de marzo en el CEPE.\n26 de marzo en la DGOAE.\n28 de marzo en el Museo UNAM Hoy.\nParticipante(s): Erika Karina Jiménez Flores (DGOAE); Claudia de la Garza Gálvez (Museo UNAM Hoy\, IISUE); Anaid Zaldívar Franco\, Mariana Medina Verdayes y Fabiola Ruíz Bejarano (CEPE); Celeste Cruz Avilés (CIGU-UNAM); Adriana Raggi Lucio (Editorial Mitote y FAD).\nDirigida a: Todo público.\nActividad presencial.\nLugar: Centro de Enseñanza para Extranjeros (CEPE)\, DGOAE\, ubicados en el Campus Central de Ciudad Universitaria\, y Museo UNAM Hoy\, ubicado en Moneda 2\, Centro Histórico\, Cuauhtémoc\, 06060 Ciudad de México.
URL:https://coordinaciongenero.unam.mx/evento/corredor-de-acciones-voluntarias-en-el-marco-del-8m-y-el-huateque-huateque-8m/
LOCATION:Centro de Enseñanza para Extranjeros (CEPE)
CATEGORIES:8M 2025,Perspectiva de género
ATTACH;FMTTYPE=image/png:https://coordinaciongenero.unam.mx/wp-content/uploads/2025/02/8m-2025-pw_05.png
END:VEVENT
BEGIN:VEVENT
DTSTART;TZID=America/Chicago:20250319T120000
DTEND;TZID=America/Chicago:20250319T140000
DTSTAMP:20260425T192151
CREATED:20250306T042502Z
LAST-MODIFIED:20250306T042502Z
UID:64037-1742385600-1742392800@coordinaciongenero.unam.mx
SUMMARY:Panel: «Mujeres en el deporte»
DESCRIPTION:Panel: «Mujeres en el deporte»\nOrganizada por: CInIG de la Escuela Nacional de Trabajo Social (ENTS)\, Departamento de Cultura\, Deporte y Recreación\, y Unidad para la Igualdad de Género UNIGENTS.\nSe compartirán experiencias de mujeres que han incursionado en un ámbito históricamente masculinizado\, los retos y perspectivas para las nuevas generaciones.\nParticipante(s): Por confirmar.\nDirigida a: Todo público.\nActividad presencial.\nLugar: ENTS\, ubicada en Circuito Exterior s/n\, C.U.\, Coyoacán\, 04510\, Ciudad de México.
URL:https://coordinaciongenero.unam.mx/evento/panel-mujeres-en-el-deporte/
LOCATION:Unidad para la Igualdad de Genero de la Escuela Nacional de Trabajo Social (UNIGENTS)\, Av. Universidad 3000\, C.U.\, Coyoacán.\, CDMX\, CDMX\, 04350\, Mexico
CATEGORIES:8M 2025,Género y deporte
ATTACH;FMTTYPE=image/png:https://coordinaciongenero.unam.mx/wp-content/uploads/2025/02/8m-2025-pw_05.png
END:VEVENT
BEGIN:VEVENT
DTSTART;TZID=America/Chicago:20250319T120000
DTEND;TZID=America/Chicago:20250319T140000
DTSTAMP:20260425T192151
CREATED:20250306T051039Z
LAST-MODIFIED:20250321T085840Z
UID:64066-1742385600-1742392800@coordinaciongenero.unam.mx
SUMMARY:Plática: «Avances y retos para lograr la igualdad de género»
DESCRIPTION:Plática: «Avances y retos para lograr la igualdad de género»\n \nOrganizada por:  CInIG y POC de la Facultad de Odontología y Unidad de Atención y Acompañamiento Universitario.\n \nSe busca abordar el avance de la igualdad de género en la universidad\, así como los retos que aún faltan cubrir para garantizar los derechos humanos de las personas.\n \nParticipante(s): Gabriela Gutiérrez Mendoza (CIGU).\n \nDirigida a: Todo público.\n \nActividad en línea.\n \n 
URL:https://coordinaciongenero.unam.mx/evento/platica-avances-y-retos-para-lograr-la-igualdad-de-genero/
LOCATION:En línea
CATEGORIES:8M 2025,Derechos humanos
ATTACH;FMTTYPE=image/png:https://coordinaciongenero.unam.mx/wp-content/uploads/2025/02/8m-2025-pw_03.png
END:VEVENT
BEGIN:VEVENT
DTSTART;TZID=America/Chicago:20250319T120000
DTEND;TZID=America/Chicago:20250319T140000
DTSTAMP:20260425T192151
CREATED:20250312T221335Z
LAST-MODIFIED:20250312T223108Z
UID:64552-1742385600-1742392800@coordinaciongenero.unam.mx
SUMMARY:Actividad: «Lectura en voz alta»
DESCRIPTION:Lectura en voz alta al aire libre\, con grabación del evento y fotos para posterior difusión.\n \nParticipante(s): Integrantes de las CInIGs de la Torre II de Humanidades.\n \nDirigida a: Todo público.\n \nActividad presencial.\n \nLugar: IIBI UNAM\, ubicado en la Torre II de Humanidades\, C.U.\, Coyoacán\, 04510\, Ciudad de México.
URL:https://coordinaciongenero.unam.mx/evento/actividad-lectura-en-voz-alta/
LOCATION:IIBI UNAM\, Cto. Bicipuma s/n\, C.U.\, Coyoacán\,\, Ciudad de México\, 04510\, Mexico
CATEGORIES:8M 2025,Perspectiva de género
ATTACH;FMTTYPE=image/png:https://coordinaciongenero.unam.mx/wp-content/uploads/2025/02/8m-2025-pw_04.png
END:VEVENT
BEGIN:VEVENT
DTSTART;TZID=America/Chicago:20250319T120000
DTEND;TZID=America/Chicago:20250319T180000
DTSTAMP:20260425T192151
CREATED:20250312T010915Z
LAST-MODIFIED:20250321T063317Z
UID:64481-1742385600-1742407200@coordinaciongenero.unam.mx
SUMMARY:Actividad: «7º Jornada por el 8M Día Internacional de las Mujeres»
DESCRIPTION:La Jornada constará de actividades lúdicas\, reflexivas y un escenario con programación artística\, destacando la contribución de mujeres talentosas en diversos géneros musicales.   \nParticipante(s): Entidades universitarias.   \nDirigida a: Todo público.   \nActividad en híbrida. \nLugar: Las Islas de CU\, ubicadas en Circuito Escolar\, C.U.\, Coyoacán\, 04510\, Ciudad de México. \n   \n  \n 
URL:https://coordinaciongenero.unam.mx/evento/actividad-7o-jornada-por-el-8m-dia-internacional-de-las-mujeres/
LOCATION:Las Islas CU
CATEGORIES:8M 2025,Feminismos
ATTACH;FMTTYPE=image/png:https://coordinaciongenero.unam.mx/wp-content/uploads/2025/02/8m-2025-pw_03.png
END:VEVENT
BEGIN:VEVENT
DTSTART;TZID=America/Chicago:20250319T134000
DTEND;TZID=America/Chicago:20250319T152000
DTSTAMP:20260425T192151
CREATED:20250312T031500Z
LAST-MODIFIED:20250312T031929Z
UID:64515-1742391600-1742397600@coordinaciongenero.unam.mx
SUMMARY:Actividad: «Experimentos con H₂O. Una molécula con género»
DESCRIPTION:En esta sesión se trabajarán experimentos químicos y en ellos se explicará la importancia de la perspectiva de género dentro de la química.\n \nParticipante(s): Mtra. Judith Berenice Sánchez Corrales.\n \nDirigida a: Todo público.\n \nActividad presencial.\n \nLugar: ENP 6\, ubicada en Corina 3\, Col. Del Carmen\, Coyoacán\, 04100\, Ciudad de México.
URL:https://coordinaciongenero.unam.mx/evento/actividad-experimentos-con-h%e2%82%82o-una-molecula-con-genero/
LOCATION:Escuela Nacional Preparatoria 6\, Corina 3\, Del Carmen\, Coyoacán\, CDMX\, 04100\, Mexico
CATEGORIES:8M 2025,Perspectiva de género
ATTACH;FMTTYPE=image/png:https://coordinaciongenero.unam.mx/wp-content/uploads/2025/02/8m-2025-pw_04.png
END:VEVENT
BEGIN:VEVENT
DTSTART;TZID=America/Chicago:20250319T140000
DTEND;TZID=America/Chicago:20250319T180000
DTSTAMP:20260425T192151
CREATED:20250305T235512Z
LAST-MODIFIED:20250306T000132Z
UID:63986-1742392800-1742407200@coordinaciongenero.unam.mx
SUMMARY:Taller: «El aula como herramienta de transformación»
DESCRIPTION:En el taller se revisarán las claves para fomentar la educación inclusiva en el aula\, brindando pautas para un profesorado comprometido con el derecho de todos los estudiantes a aprender y desarrollarse en igualdad de condiciones\, para que el docente se reconozca como un acompañante en el proceso de formación y empoderamiento del alumnado.\n \nParticipante(s): Claudio Arturo Tzompantzi Miguel.\n \nDirigida a: Docentes de la FES-Z.\n \nActividad presencial.\n \nLugar: Biblioteca CII de la FES Zaragoza Campus 2\, ubicada en Avenida Batalla 5 de Mayo s/n esquina Fuerte de Loreto\, Col. Ejército de Oriente\, Iztapalapa\, 09230\, Ciudad de México.
URL:https://coordinaciongenero.unam.mx/evento/taller-el-aula-como-herramienta-de-transformacion/
LOCATION:Biblioteca CII de la FES Zaragoza Campus 2\, Avenida Batalla 5 de Mayo s/n esquina Fuerte de Loreto\, Col. Ejército de Oriente\, Iztapalapa\,\, Ciudad de México\, 09230\, Mexico
CATEGORIES:8M 2025
ATTACH;FMTTYPE=image/png:https://coordinaciongenero.unam.mx/wp-content/uploads/2025/02/8m-2025-pw_04.png
END:VEVENT
BEGIN:VEVENT
DTSTART;TZID=America/Chicago:20250319T160000
DTEND;TZID=America/Chicago:20250319T160000
DTSTAMP:20260425T192151
CREATED:20250320T220340Z
LAST-MODIFIED:20260122T232948Z
UID:64762-1742400000-1742400000@coordinaciongenero.unam.mx
SUMMARY:Mesa virtual: «Las hijas de la literatura»
DESCRIPTION:La mesa reunirá a tres escritoras en una conversación sobre la literatura como herramienta de memoria\, identidad y resistencia. A través de sus obras más recientes\, abordarán sus procesos de escritura y las temáticas que marcan sus narrativas.\n \nPara asistir a las actividades en línea y recibir la liga de Zoom\, es necesario registrarte con nombre de la actividad\, tu nombre completo y teléfono al correo: recepcionmuseomujer@gmail.com \nParticipante(s): Ethel Krauze (escritora)\, Kyra Galván (escritora y poeta) y Mónica Castellanos (escritora).\n \nDirigida a: Todo público.\n \nActividad en línea.\n \n  ﻿ \n 
URL:https://coordinaciongenero.unam.mx/evento/mesa-virtual-las-hijas-de-la-literatura/
LOCATION:Museo de la Mujer\, República de Bolivia 17\, Centro Histórico\, Alcaldía Cuauhtémoc\, Ciudad de México\, 06020\, Mexico
CATEGORIES:8M 2025
ATTACH;FMTTYPE=image/png:https://coordinaciongenero.unam.mx/wp-content/uploads/2025/02/8m-2025-pw_04.png
END:VEVENT
BEGIN:VEVENT
DTSTART;TZID=America/Chicago:20250319T180000
DTEND;TZID=America/Chicago:20250319T180000
DTSTAMP:20260425T192151
CREATED:20250311T193313Z
LAST-MODIFIED:20250311T194145Z
UID:64404-1742407200-1742407200@coordinaciongenero.unam.mx
SUMMARY:Cine: «Presentación de proyección documental: Exilios»
DESCRIPTION:Proyección de Exilios (Dir. Carmen Vidal | España\, México | 2020 | 52 min).\n \nExilios cuenta la vida de tres artistas españolas que vivieron y fallecieron en México\, a través de entrevistas con sus hijos\, nietos y conocidos\, representando visiones diferentes y complementarias del exilio con un denominador común: la presencia y el recuerdo constante.\n \nParticipante(s): Yolanda Guasch\, Carmen Giménez Cacho\, Guadalupe Fernández Gascón\, Julieta Giménez Cacho\, Luis Emilio Giménez Cacho\, Marisa Giménez Cacho\n \nDirigida a: Todo público.\n \nActividad presencial.\n \nEntrada libre | Cupo limitado.\n \nLugar: Sala «Cine Goya»\, Antiguo Colegio de San Ildefonso\, ubicado en Calle Justo Sierra 16\, Col. Centro\, Cuauhtémoc\, 06020\, Ciudad de México.
URL:https://coordinaciongenero.unam.mx/evento/cine-presentacion-de-proyeccion-documental-exilios/
LOCATION:Sala «Cine Goya»\, Antiguo Colegio de San Ildefonso\, Calle Justo Sierra 16\, Col. Centro\, Cuauhtémoc\,\, Ciudad de México\, 06020\, Mexico
CATEGORIES:8M 2025,Derechos humanos
ATTACH;FMTTYPE=image/png:https://coordinaciongenero.unam.mx/wp-content/uploads/2025/02/8m-2025-pw_02.png
END:VEVENT
END:VCALENDAR