BEGIN:VCALENDAR
VERSION:2.0
PRODID:-//Coordinación para la Igualdad de Género UNAM - ECPv6.15.20//NONSGML v1.0//EN
CALSCALE:GREGORIAN
METHOD:PUBLISH
X-WR-CALNAME:Coordinación para la Igualdad de Género UNAM
X-ORIGINAL-URL:https://coordinaciongenero.unam.mx
X-WR-CALDESC:Eventos para Coordinación para la Igualdad de Género UNAM
REFRESH-INTERVAL;VALUE=DURATION:PT1H
X-Robots-Tag:noindex
X-PUBLISHED-TTL:PT1H
BEGIN:VTIMEZONE
TZID:America/Chicago
BEGIN:DAYLIGHT
TZOFFSETFROM:-0600
TZOFFSETTO:-0500
TZNAME:CDT
DTSTART:20240310T080000
END:DAYLIGHT
BEGIN:STANDARD
TZOFFSETFROM:-0500
TZOFFSETTO:-0600
TZNAME:CST
DTSTART:20241103T070000
END:STANDARD
BEGIN:DAYLIGHT
TZOFFSETFROM:-0600
TZOFFSETTO:-0500
TZNAME:CDT
DTSTART:20250309T080000
END:DAYLIGHT
BEGIN:STANDARD
TZOFFSETFROM:-0500
TZOFFSETTO:-0600
TZNAME:CST
DTSTART:20251102T070000
END:STANDARD
BEGIN:DAYLIGHT
TZOFFSETFROM:-0600
TZOFFSETTO:-0500
TZNAME:CDT
DTSTART:20260308T080000
END:DAYLIGHT
BEGIN:STANDARD
TZOFFSETFROM:-0500
TZOFFSETTO:-0600
TZNAME:CST
DTSTART:20261101T070000
END:STANDARD
END:VTIMEZONE
BEGIN:VEVENT
DTSTART;TZID=America/Chicago:20250313T100000
DTEND;TZID=America/Chicago:20250313T100000
DTSTAMP:20260425T191316
CREATED:20250327T175326Z
LAST-MODIFIED:20250327T175547Z
UID:65024-1741860000-1741860000@coordinaciongenero.unam.mx
SUMMARY:Conversatorio: «El camino hacia la igualdad de género en la Facultad de Psicología»
DESCRIPTION:13 de marzo de 2025 | 10:00 h\n \nConversatorio: «El camino hacia la igualdad de género en la Facultad de Psicología»\n\nConversatorio entre docentes para la reflexión sobre el tema de igualdad de género en la Facultad de Psicología. Se transmitirá por la plataforma Zoom.\n \nParticipante(s): Dra. Ana Celia Chapa Romero; Dra. Diana Berenice Paz Trejo; Dra. Esther González Ovilla\, y Dra. María del Carmen Montenegro Núñez.\n \nDirigida a: Comunidad universitaria.\n \nActividad híbrida.\n \n 
URL:https://coordinaciongenero.unam.mx/evento/conversatorio-el-camino-hacia-la-igualdad-de-genero-en-la-facultad-de-psicologia/
LOCATION:Facultad de Psicología\, acultad de Psicología\, Circuito Ciudad Universitaria Avenida\, C.U.\, 04510 Ciudad de México.\, Ciudad de México\, Distrito Federal\, 04510
END:VEVENT
BEGIN:VEVENT
DTSTART;TZID=America/Chicago:20250313T100000
DTEND;TZID=America/Chicago:20250313T120000
DTSTAMP:20260425T191316
CREATED:20250307T033037Z
LAST-MODIFIED:20260121T223023Z
UID:64181-1741860000-1741867200@coordinaciongenero.unam.mx
SUMMARY:Conversatorio: «Derechos para todas. El acceso a la Universidad\, retos y oportunidades hacia la autonomía femenina»
DESCRIPTION:Conversatorio: «Derechos para todas. El acceso a la Universidad\, retos y oportunidades hacia la autonomía femenina»\n\nEl Conversatorio tiene por objetivo dialogar desde la polifonía de voces del estudiantado del CEPHCIS sobre los retos y oportunidades que les ha brindado la Universidad en la consecución de sus proyectos profesionales.\n \nParticipante(s): Dra. Amada Rubio Herrera y alumnas de los posgrados del CEPHCIS.\n \nDirigida a: Todo público.\n \nActividad híbrida.\n \nLugar: «Recinto Dragones» del Centro Peninsular en Humanidades y Ciencias Sociales UNAM (CEPHCIS)\, ubicado en Calle 61 no. 470 entre calles 52 y 54\, Col. Centro\, 97000 Yucatán.\n \n  ﻿
URL:https://coordinaciongenero.unam.mx/evento/conversatorio-derechos-para-todas-el-acceso-a-la-universidad-retos-y-oportunidades-hacia-la-autonomia-femenina/
LOCATION:«Recinto Dragones» del Centro Peninsular en Humanidades y Ciencias Sociales UNAM (CEPHCIS)
CATEGORIES:8M 2025,Educación para la igualdad
ATTACH;FMTTYPE=image/png:https://coordinaciongenero.unam.mx/wp-content/uploads/2025/02/8m-2025-pw_05.png
END:VEVENT
BEGIN:VEVENT
DTSTART;TZID=America/Chicago:20250313T100000
DTEND;TZID=America/Chicago:20250313T123000
DTSTAMP:20260425T191316
CREATED:20250312T005246Z
LAST-MODIFIED:20260122T232142Z
UID:64478-1741860000-1741869000@coordinaciongenero.unam.mx
SUMMARY:Taller de dramaturgia: «Travesías heroicas y antiheroicas femeninas y cuir»
DESCRIPTION:13 y 14 de marzo de 2025 | 10:00 a 14:30 h\n \nTaller de dramaturgia: «Travesías heroicas y antiheroicas femeninas y cuir | Taller de dramaturgia con Sara Pinedo (MX) y Paula Thielecke (Alemania)»\n\nOrganizada por: Cátedra «Ingmar Bergman» en Cine y Teatro\, Filmoteca UNAM\, Teatro UNAM\, Cátedra Rosario Castellanos de Literatura y Géneros\, el Goethe-Institut Mexiko y el apoyo de la Casa de las Humanidades de la UNAM.\n \nTaller de dramaturgia para mujeres y disidencias en el que\, a través de conversaciones\, rituales\, danza y narración colectiva\, exploraremos las travesías heroicas y antiheroicas: los momentos de triunfo\, pero también la resistencia a los relatos convencionales de éxito y poder. Desde el cuerpo y la palabra\, nos sumergiremos en las fracturas\, la memoria y la posibilidad de reescribir nuestros propios mitos.\n \nParticipante(s): Talleristas Sara Pinedo* y Paula Thielecke.\n*Beneficiaria del Sistema Nacional de Creadores de Arte 2023 del Sistema de Apoyos a la Creación y Proyectos Culturales.\n \nDirigida a: Mujeres y disidencias.\n \nActividad presencial.\n \nLugar: Casa de las Humanidades de la UNAM\, ubicada en Calle Presidente Carranza 162\, Col. Santa Catarina\, Coyoacán\, 04000\, Ciudad de México.\n \nMás información aquí
URL:https://coordinaciongenero.unam.mx/evento/taller-de-dramaturgia-travesias-heroicas-y-antiheroicas-femeninas-y-cuir/
LOCATION:Casa de las Humanidades UNAM\, Calle Pdte. Carranza 162\, Santa Catarina\, Coyoacán\, Ciudad de México\, Ciudad de México\, 04000\, Mexico
CATEGORIES:8M 2025
ATTACH;FMTTYPE=image/png:https://coordinaciongenero.unam.mx/wp-content/uploads/2025/02/8m-2025-pw_05.png
END:VEVENT
BEGIN:VEVENT
DTSTART;TZID=America/Chicago:20250313T100000
DTEND;TZID=America/Chicago:20250313T180000
DTSTAMP:20260425T191316
CREATED:20250312T024310Z
LAST-MODIFIED:20250312T025154Z
UID:64500-1741860000-1741888800@coordinaciongenero.unam.mx
SUMMARY:Ciclo de conferencias: «Mujeres Universitarias: identidad\, inclusión y autonomía al servicio de la nación»
DESCRIPTION:Ciclo de conferencias enfocadas en dar a conocer los valores UNAM\, la importancia de la autonomía universitaria y las aportaciones de las mujeres. \nParticipante(s): Mónica Benítez Albarrán\, Marbella Cabrera Cabrera\, Lorena de la Rosa Dorado\, Patricia Adriana Nava Garcés y Martha Sonia Orozco Ramírez. \nDirigida a: Estudiantes ENP3. \nActividad presencial. \nLugar: Sala de conferencias de la ENP 3\, Avenida Eduardo Molina 1577\, Col. DM Nacional\, Gustavo A. Madero\, 07450\, Ciudad de México.
URL:https://coordinaciongenero.unam.mx/evento/ciclo-de-conferencias-mujeres-universitarias-identidad-inclusion-y-autonomia-al-servicio-de-la-nacion/
LOCATION:Sala de conferencias de la ENP 3\, Avenida Eduardo Molina 1577\, Col. DM Nacional\, Gustavo A. Madero\, 07450\, Ciudad de México.\, Ciudad de México\, 07450\, Mexico
CATEGORIES:8M 2025,Feminismos
ATTACH;FMTTYPE=image/png:https://coordinaciongenero.unam.mx/wp-content/uploads/2025/02/8m-2025-pw_03.png
END:VEVENT
BEGIN:VEVENT
DTSTART;TZID=America/Chicago:20250313T110000
DTEND;TZID=America/Chicago:20250313T110000
DTSTAMP:20260425T191316
CREATED:20250312T031518Z
LAST-MODIFIED:20250312T035016Z
UID:64517-1741863600-1741863600@coordinaciongenero.unam.mx
SUMMARY:Taller al aire libre: «POC-nic: Conoce a tu persona orientadora entre manteles y risas»
DESCRIPTION:La idea es realizar un picnic en un espacio abierto\, relajado y lleno de buena vibra para que estudiantes de posgrado y licenciatura conozcan a su Persona Orientadora Comunitaria (POC) del Posgrado y otras áreas. Habrá juegos\, dinámicas\, snacks y mucho más.\n \nParticipante(s): Rosa Elena Díaz Hernández\, Astrid Lizbeth Olivera Vásquez y Yanel Del Rocío Anota Quino.\n \nDirigida a: Todo público.\n \nActividad presencial.\n \nLugar: Jardín ubicado frente al Posgrado de la FES Acatlán\, ubicado en Avenida Alcanfores y San Juan Totoltepec s/n\, Col. Santa Cruz Acatlán\, 53150\, Naucalpan de Juárez\, Estado de México.
URL:https://coordinaciongenero.unam.mx/evento/taller-al-aire-libre-poc-nic-conoce-a-tu-persona-orientadora-entre-manteles-y-risas/
LOCATION:Jardín frente al Posgrado de la FES Acatlán\, Avenida Alcanfores y San Juan Totoltepec s/n\, Col. Santa Cruz Acatlán\,\, Naucalpan de Juárez\, Estado de México\, 53150\, Mexico
CATEGORIES:8M 2025
ATTACH;FMTTYPE=image/png:https://coordinaciongenero.unam.mx/wp-content/uploads/2025/02/8m-2025-pw_02.png
END:VEVENT
BEGIN:VEVENT
DTSTART;TZID=America/Chicago:20250313T110000
DTEND;TZID=America/Chicago:20250313T130000
DTSTAMP:20260425T191316
CREATED:20250305T183620Z
LAST-MODIFIED:20250327T041451Z
UID:63771-1741863600-1741870800@coordinaciongenero.unam.mx
SUMMARY:Conferencia: «La perspectiva de género en la jurisprudencia de la Corte IDH. Reflexiones de los casos contenciosos contra México. Caso Digna Ochoa y Familiares vs México»
DESCRIPTION:Conferencia: «La perspectiva de género en la jurisprudencia de la Corte IDH. Reflexiones de los casos contenciosos contra México. Caso Digna Ochoa y Familiares vs México»\n\nSe reflexionará sobre los casos contenciosos contra México\, con un enfoque en la perspectiva de género aplicada en la Corte IDH.\n \nParticipante(s): Dra. Aleida Hernández Cervantes (CEIICH) y Mtra. Ma. Teresa Lozano O’Reylly (Facultad de Derecho).\n \nDirigida a: Todo público.\n \nActividad presencial.\n \nLugar: Auditorio «Benito Juárez» de la Facultad de Derecho\, Circuito Escolar s/n\, C.U.\, Coyoacán\, 04510\, Ciudad de México. \n 
URL:https://coordinaciongenero.unam.mx/evento/conferencia-la-perspectiva-de-genero-en-la-jurisprudencia-de-la-corte-idh-reflexiones-de-los-casos-contenciosos-contra-mexico-caso-digna-ochoa-y-familiares-vs-mexico/
LOCATION:Auditorio «Benito Juárez» de la Facultad de Derecho\, Circuito Escolar s/n\, C.U\, Coyoacán\, 04510\, Mexico
CATEGORIES:8M 2025
ATTACH;FMTTYPE=image/png:https://coordinaciongenero.unam.mx/wp-content/uploads/2025/02/8m-2025-pw_03.png
END:VEVENT
BEGIN:VEVENT
DTSTART;TZID=America/Chicago:20250313T120000
DTEND;TZID=America/Chicago:20250313T120000
DTSTAMP:20260425T191316
CREATED:20250327T162147Z
LAST-MODIFIED:20250327T162147Z
UID:64992-1741867200-1741867200@coordinaciongenero.unam.mx
SUMMARY:Mesa redonda: «Cuidado y corresponsabilidad: claves para erradicar la violencia de género en la Educación Media Superior»
DESCRIPTION:13 de marzo de 2025 | 12:00 h \n\nMesa redonda: «Cuidado y corresponsabilidad: claves para erradicar la violencia de género en la Educación Media Superior»\n\nEn esta mesa redonda\, especialistas que trabajan en el CCH\, la ENP y el CONALEP analizarán cómo el cuidado y la corresponsabilidad pueden ser estrategias clave para erradicar la violencia de género en la Educación Media Superior. A través de sus experiencias y enfoques\, reflexionarán sobre la importancia de construir comunidades educativas más seguras\, equitativas y solidarias. Un espacio para el diálogo y la acción en favor de una educación libre de violencia.\n \nParticipante(s): Araceli Mejía Olguín (CCH-UNAM); Paola María del Consuelo Cruz Sánchez; Eva Citlali Jiménez Rodríguez (ENP-UNAM)\, y Dinorah Atlantida Ugalde Reza (CONALEP).\n \nDirigida a: Todo público.\n \nActividad híbrida. \n  \nDisponible aquí
URL:https://coordinaciongenero.unam.mx/evento/mesa-redonda-cuidado-y-corresponsabilidad-claves-para-erradicar-la-violencia-de-genero-en-la-educacion-media-superior/
LOCATION:Centro de Ciencias de la Complejidad (C3)\, Mexico
END:VEVENT
BEGIN:VEVENT
DTSTART;TZID=America/Chicago:20250313T120000
DTEND;TZID=America/Chicago:20250313T140000
DTSTAMP:20260425T191316
CREATED:20250305T184541Z
LAST-MODIFIED:20260121T232205Z
UID:63802-1741867200-1741874400@coordinaciongenero.unam.mx
SUMMARY:Cine Análisis: «Documental: Que sea ley»
DESCRIPTION:13 de marzo de 2025 | 12:00 a 14:00 h\nCine Análisis: «Documental: Que sea ley»\nOrganizada por: CInIG de la Facultad de Ciencias.\nEste cine-análisis se divide en 2 partes:\nVer junt@s la película\, previo registro y analizar la transmisión con PEG y compartir reflexiones.\nParticipante(s): Dra. Karla Ramírez Pulido\, Mtra. Ana Cristina Cervantes Arrioja\, Mtra. Diana Alethia Guerrero Hernández\, Dra. María de los Ángeles Cancino Rodezno (Personas Orientadoras Comunitarias de la Facultad de Ciencias).\nDirigida a: Todo público.\nActividad en línea.\nSigue la transmisión: https://www.facebook.com/EquidadFCUNAM/?locale=es_LA
URL:https://coordinaciongenero.unam.mx/evento/cine-analisis-documental-que-sea-ley/
LOCATION:En línea
CATEGORIES:8M 2025,Derechos sexuales y reproductivos,Mujeres y niñas en las ciencias
ATTACH;FMTTYPE=image/png:https://coordinaciongenero.unam.mx/wp-content/uploads/2025/02/8m-2025-pw_05.png
END:VEVENT
BEGIN:VEVENT
DTSTART;TZID=America/Chicago:20250313T120000
DTEND;TZID=America/Chicago:20250313T150000
DTSTAMP:20260425T191316
CREATED:20250305T043152Z
LAST-MODIFIED:20260122T232142Z
UID:63602-1741867200-1741878000@coordinaciongenero.unam.mx
SUMMARY:Taller: «Tuve que romper una ventana. Taller de ilustración y feminismo»
DESCRIPTION:Taller: «Tuve que romper una ventana. Taller de ilustración y feminismo»\nOrganizada por: Dirección General de Publicaciones y Fomento Editorial.\nEl objetivo del taller es explorar la ilustración como una herramienta para expresar vivencias a través de la práctica artística. Se busca fomentar la reflexión y la empatía\, la construcción de una comunidad basada en la sororidad y el respeto a la diversidad de voces.\nParticipante(s): Jimena Duval\, artista gráfica e ilustradora.\nDirigida a: Todo público.\nActividad presencial.\nCupo limitado.\nSe requiere registro previo.\nLugar: Librería «Jaime García Terrés»\, ubicada en Avenida Universidad 3000\, C.U.\, Coyoacán\, 04510\, Ciudad de México.\nRegistro: https://forms.gle/GngKk7xfCyqheV6W7
URL:https://coordinaciongenero.unam.mx/evento/taller-tuve-que-romper-una-ventana-taller-de-ilustracion-y-feminismo/
LOCATION:Librería Jaime García Terrés.
CATEGORIES:8M 2025,Arte y género
ATTACH;FMTTYPE=image/png:https://coordinaciongenero.unam.mx/wp-content/uploads/2025/02/8m-2025-pw_04.png
END:VEVENT
BEGIN:VEVENT
DTSTART;TZID=America/Chicago:20250313T130000
DTEND;TZID=America/Chicago:20250313T130000
DTSTAMP:20260425T191316
CREATED:20250305T171637Z
LAST-MODIFIED:20250305T171637Z
UID:63668-1741870800-1741870800@coordinaciongenero.unam.mx
SUMMARY:Curso Taller: «¿Por qué el 8M y 9M no son festejos?»
DESCRIPTION:13 de marzo de 2025 | 13:00 h\nCurso Taller: «Nuevas juventudes\, perspectiva de género e inclusión. ¿Por qué el 8M y 9M no son festejos?»\nOrganizada por: CInIG y POC del Colegio de Ciencias y Humanidades Plantel Oriente (CCH Oriente).\nCurso-taller sobre las nuevas juventudes\, perspectiva de género e inclusión. En esta sesión se presenta una charla titulada «¿Por qué el 8M y 9M no son festejos?»\, una explicación histórica sobre el “Día Internacional de la Mujer” y un “Día sin Mujeres”.\nParticipante(s): Profesora Edna Jiménez Torres del CCH Oriente.\nDirigida a: Comunidad estudiantil del Plantel.\nActividad presencial.\nLugar: «Audiovisual 2» del CCH Oriente\, Canal de San Juan s/n\, Col. Tepalcates\, Iztapalapa\, 09210\, Ciudad de México.
URL:https://coordinaciongenero.unam.mx/evento/8m-9m-no-festejos/
LOCATION:Audiovisual 2\, CCH Oriente.
CATEGORIES:8M 2025
ATTACH;FMTTYPE=image/png:https://coordinaciongenero.unam.mx/wp-content/uploads/2025/02/8m-2025-pw_05.png
END:VEVENT
BEGIN:VEVENT
DTSTART;TZID=America/Chicago:20250313T130000
DTEND;TZID=America/Chicago:20250313T130000
DTSTAMP:20260425T191316
CREATED:20250305T183639Z
LAST-MODIFIED:20250321T065430Z
UID:63778-1741870800-1741870800@coordinaciongenero.unam.mx
SUMMARY:Charla: «Emprendimiento femenino en el deporte»
DESCRIPTION:Tatiana Briseño compartirá su experiencia de emprendimiento en el ámbito deportivo en México y hablará de las dificultades específicas para las mujeres en este campo.\n \nParticipante(s): Tatiana Briseño (invitada).\n \nDirigida a: Todo público.\n \nActividad en línea\n \n 
URL:https://coordinaciongenero.unam.mx/evento/charla-emprendimiento-femenino-en-el-deporte/
CATEGORIES:8M 2025,Género y deporte
ATTACH;FMTTYPE=image/png:https://coordinaciongenero.unam.mx/wp-content/uploads/2025/02/8m-2025-pw_02.png
END:VEVENT
BEGIN:VEVENT
DTSTART;TZID=America/Chicago:20250313T130000
DTEND;TZID=America/Chicago:20250313T130000
DTSTAMP:20260425T191316
CREATED:20250306T180339Z
LAST-MODIFIED:20250306T180339Z
UID:64073-1741870800-1741870800@coordinaciongenero.unam.mx
SUMMARY:Círculo de poesía: «Mujeres\, versos y poder»
DESCRIPTION:13 de marzo de 2025 | 13:00 h\n \nCírculo de poesía: «Mujeres\, versos y poder»\n\nReflexión sobre la apuesta política de la poesía\, taller de elaboración de versos y exposición colectiva de lo realizado en el taller. \nParticipante(s): Andrea Clavel y Yunnuen Ibarra (consejeras técnicas alumnas de Administración Pública).\n \nDirigida a: Todo público.\n \nActividad presencial.
URL:https://coordinaciongenero.unam.mx/evento/circulo-de-poesia-mujeres-versos-y-poder/
LOCATION:Área verde de estacionamiento de alumnos de la FCPyS\, Circuito Mario de la Cueva\, C.U.\, Coyoacán\, CDMX\, 04510\, Mexico
CATEGORIES:8M 2025
ATTACH;FMTTYPE=image/png:https://coordinaciongenero.unam.mx/wp-content/uploads/2025/02/8m-2025-pw_04.png
END:VEVENT
BEGIN:VEVENT
DTSTART;TZID=America/Chicago:20250313T130000
DTEND;TZID=America/Chicago:20250313T150000
DTSTAMP:20260425T191316
CREATED:20250312T215854Z
LAST-MODIFIED:20250312T220442Z
UID:64546-1741870800-1741878000@coordinaciongenero.unam.mx
SUMMARY:Círculos de Reflexión entre Mujeres: «Mujeres aquí y ahora: en el marco del 8M\, Día Internacional de las Mujeres»
DESCRIPTION:Un círculo de reflexión donde las mujeres cuestionarán sus espacios relacionales y sociales\, el amor romántico y sus efectos\, abordando estrategias de autoconocimiento. Se tiene el objetivo general de encontrar acompañamiento en otras mujeres cuyas experiencias enriquecen\, así como lograr retroalimentación y respuestas que promuevan la salud Integral y placentera en los tres espacios: personal\, relacional y social\, desde una mirada crítica con perspectiva de género.\n \nParticipante(s): Tania Juliette Taylor Hernández y Ester Alejandra Rosado Pulido (académicas de la Facultad de Psicología).\n \nDirigida a: Mujeres estudiantes de la comunidad UNAM.\n \nActividad presencial | Se requiere registro previo.\n \nLugar: Jardín que se encuentra a un lado de la rampa entre los edificios A y C de la Facultad de Psicología\, UNAM.\n \nRegistro aquí
URL:https://coordinaciongenero.unam.mx/evento/circulos-de-reflexion-entre-mujeres-mujeres-aqui-y-ahora-en-el-marco-del-8m-dia-internacional-de-las-mujeres/
LOCATION:Facultad de Psicología.\, Facultad de Psicología\, Circuito Escolar s/n\, C.U.\, Coyoacán\, 04510\, Ciudad de México.\, coyoacán\, Distrito Federal\, Mexico
CATEGORIES:8M 2025,Feminismos
ATTACH;FMTTYPE=image/png:https://coordinaciongenero.unam.mx/wp-content/uploads/2025/02/8m-2025-pw_04.png
END:VEVENT
BEGIN:VEVENT
DTSTART;TZID=America/Chicago:20250313T133000
DTEND;TZID=America/Chicago:20250313T153000
DTSTAMP:20260425T191316
CREATED:20250307T034809Z
LAST-MODIFIED:20260121T224744Z
UID:64195-1741872600-1741879800@coordinaciongenero.unam.mx
SUMMARY:Conversatorio: «Tecnología\, equidad e inclusión»
DESCRIPTION:Este conversatorio busca generar un espacio de diálogo sobre el papel de la tecnología en la construcción de una sociedad más equitativa\, así como la importancia de las políticas y programas con perspectiva de género dentro de la UNAM. También se reflexionará sobre los retos y oportunidades para hacer de la DGTIC un espacio más inclusivo para todas las personas.\n \nParticipante(s): Adriana Areli Bravo Lozano (DGTIC); Marina Kriscautzky Laxague (DGTIC); Susana Corona Correa (DGTIC)\, y Verónica Badillo Torres (DGTIC).\n \nDirigida a: Todo público.\n \nActividad en línea.
URL:https://coordinaciongenero.unam.mx/evento/conversatorio-tecnologia-equidad-e-inclusion/
LOCATION:En línea
CATEGORIES:8M 2025,Seguridad digital
ATTACH;FMTTYPE=image/png:https://coordinaciongenero.unam.mx/wp-content/uploads/2025/02/8m-2025-pw_01.png
END:VEVENT
BEGIN:VEVENT
DTSTART;TZID=America/Chicago:20250313T140000
DTEND;TZID=America/Chicago:20250313T140000
DTSTAMP:20260425T191316
CREATED:20250306T000303Z
LAST-MODIFIED:20260121T232205Z
UID:63999-1741874400-1741874400@coordinaciongenero.unam.mx
SUMMARY:Mesa de diálogo: «Nosotras en la Educación Superior»
DESCRIPTION:Se llevará a cabo una revisión y análisis de la evolución de la participación de la mujer en los ámbitos universitarios\, situación actual y los retos a superar.\n \nParticipante(s): Maestra Laura Mariana Osorio Plascencia (CIEG) y Licda. María Estela Varela Mancilla (Facultad de Arquitectura).\n \nDirigida a: Todo público.\n \nActividad en línea.\n \n  ﻿
URL:https://coordinaciongenero.unam.mx/evento/mesa-de-dialogo-nosotras-en-la-educacion-superior/
CATEGORIES:8M 2025,Mujeres y niñas en las ciencias
ATTACH;FMTTYPE=image/png:https://coordinaciongenero.unam.mx/wp-content/uploads/2025/02/8m-2025-pw_01.png
END:VEVENT
BEGIN:VEVENT
DTSTART;TZID=America/Chicago:20250313T140000
DTEND;TZID=America/Chicago:20250313T170000
DTSTAMP:20260425T191316
CREATED:20250305T185535Z
LAST-MODIFIED:20250319T021540Z
UID:63820-1741874400-1741885200@coordinaciongenero.unam.mx
SUMMARY:Mesa Magistral: «Economía Ecológica y Sustentabilidad: Nuevas Perspectivas y Horizontes»
DESCRIPTION:Mesa Magistral: «Economía Ecológica y Sustentabilidad: Nuevas Perspectivas y Horizontes»\nNuestros objetivos son: Destacar el trabajo académico de las mujeres en las distintas áreas de la ciencia y su vínculo con la economía y motivar a las alumnas de licenciatura y maestría a continuar con estudios de posgrado. Se abordará la falta de espacios para que las mujeres lideren la presentación de sus investigaciones y la disminución de la proporción de mujeres en niveles de maestría y doctorado. La experiencia de estas docentes e investigadoras muestra que es posible integrar el medio ambiente en las políticas económicas para un desarrollo más sostenible.\n \nParticipante(s): Dra. Julia Carabias Lillo (Facultad de Ciencias-UNAM\, COLMEX); Dra. Maria Perevochtchikova (COLMEX); Dra. Patricia Ávila García (IIES) y Mtra. Karina Caballero Güendulain (FE-UNAM). Modera Eduardo Vega López (Coordinador CoUs\, UNAM).\n \nDirigida a: Todo público.\n \nActividad en línea. \n 
URL:https://coordinaciongenero.unam.mx/evento/mesa-magistral-economia-ecologica-y-sustentabilidad-nuevas-perspectivas-y-horizontes/
LOCATION:Facebook
CATEGORIES:8M 2025
ATTACH;FMTTYPE=image/png:https://coordinaciongenero.unam.mx/wp-content/uploads/2025/02/8m-2025-pw_05.png
END:VEVENT
BEGIN:VEVENT
DTSTART;TZID=America/Chicago:20250313T143000
DTEND;TZID=America/Chicago:20250313T163000
DTSTAMP:20260425T191316
CREATED:20250304T025755Z
LAST-MODIFIED:20250304T025755Z
UID:63511-1741876200-1741883400@coordinaciongenero.unam.mx
SUMMARY:Muestra de cine: «Película Las 3 Muertes de Marisela Escobedo»
DESCRIPTION:Muestra de cine: «Película Las 3 Muertes de Marisela Escobedo»\nOrganizada por: CInIG de la Dirección General de Incorporación y Revalidación de Estudios (DGIRE).\nDespués de que el feminicidio de su hija quedara impune\, una madre inicia una cruzada incansable para encarcelar al asesino y exponer al sistema de justicia mexicano.\nDirigida a: Todo público.\nActividad presencial.\nLugar: DGIRE\, ubicada en el Circuito Centro Cultural s/n (frente al Pabellón de la Biodiversidad)\, C.U.\, Coyoacán\, 04510\, Ciudad de México.
URL:https://coordinaciongenero.unam.mx/evento/muestra-de-cine-pelicula-las-3-muertes-de-marisela-escobedo/
LOCATION:Instalaciones DGIRE\, Dirección General de Incorporación y Revalidación de Estudios\, Cto. Centro Cultural S/N\, C.U.\, Coyoacán\, 04510 Ciudad de México\, CDMX\, Coyoacán\, Distrito Federal\, 04510
CATEGORIES:8M 2025,Cine con perspectiva de género
ATTACH;FMTTYPE=image/png:https://coordinaciongenero.unam.mx/wp-content/uploads/2025/02/8m-2025-pw_02.png
END:VEVENT
BEGIN:VEVENT
DTSTART;TZID=America/Chicago:20250313T160000
DTEND;TZID=America/Chicago:20250313T160000
DTSTAMP:20260425T191316
CREATED:20250311T185951Z
LAST-MODIFIED:20250311T190829Z
UID:64381-1741881600-1741881600@coordinaciongenero.unam.mx
SUMMARY:Muestra del IMCINE: «2025\, año de la mujer indígena: Gente de mar y viento de Ingrid Eunica Fabián»
DESCRIPTION:Gente de mar y viento (Documental | México | 2016 | 64 min. | B15)\n \nLa historia de dos comunidades del Istmo de Tehuantepec en Oaxaca: Álvaro Obregón\, un pueblo de pescadores\, y La Venta\, un pueblo agricultor\, y su lucha por resistir los embates de empresas eólicas trasnacionales.\n \nDirigida a: Todo público.\n \nActividad presencial.\n \nLugar: Sala «Cine Goya»\, Antiguo Colegio de San Ildefonso\, ubicado en Calle Justo Sierra 16\, Col. Centro\, Cuauhtémoc\, 06020\, Ciudad de México.
URL:https://coordinaciongenero.unam.mx/evento/muestra-del-imcine-2025-ano-de-la-mujer-indigena-gente-de-mar-y-viento-de-ingrid-eunica-fabian/
LOCATION:Sala «Cine Goya»\, Antiguo Colegio de San Ildefonso\, Calle Justo Sierra 16\, Col. Centro\, Cuauhtémoc\,\, Ciudad de México\, 06020\, Mexico
CATEGORIES:8M 2025,Mujeres indígenas
ATTACH;FMTTYPE=image/png:https://coordinaciongenero.unam.mx/wp-content/uploads/2025/02/8m-2025-pw_05.png
END:VEVENT
BEGIN:VEVENT
DTSTART;TZID=America/Chicago:20250313T160000
DTEND;TZID=America/Chicago:20250313T180000
DTSTAMP:20260425T191316
CREATED:20250306T005352Z
LAST-MODIFIED:20250306T005816Z
UID:64029-1741881600-1741888800@coordinaciongenero.unam.mx
SUMMARY:Conversatorio: «Habitando el género en los procesos formativos\, a 5 años de impartir la asignatura»
DESCRIPTION:Se busca mostrar los aportes de la asignatura de «Género» (plan 2019) al trabajo por la igualdad de género en la ENTS y la UNAM.\n \nParticipante(s): Lic. Gabriela Gutiérrez Mendoza\, Mtra. Cinthya Karina Castro García\, Mtra. Wendy Mitzi Galicia Orihuela\, Mtra. Claudia Iveth Álvarez Ramírez y Mtra. Myriam Brito Domínguez.\n \nDirigida a: Todo público.\n \nActividad presencial.\n \nLugar: Auditorio «8 de marzo de 1857» de la ENTS\, ubicada en Circuito Exterior s/n\, C.U.\, Coyoacán\, 04510\, Ciudad de México.
URL:https://coordinaciongenero.unam.mx/evento/conversatorio-habitando-el-genero-en-los-procesos-formativos-a-5-anos-de-impartir-la-asignatura/
LOCATION:Auditorio «8 de marzo de 1857» de la ENTS\, Circuito Exterior s/n\, C.U.\, Coyoacán\,\, Ciudad de México\, 04510\, Mexico
CATEGORIES:8M 2025
ATTACH;FMTTYPE=image/png:https://coordinaciongenero.unam.mx/wp-content/uploads/2025/02/8m-2025-pw_04.png
END:VEVENT
BEGIN:VEVENT
DTSTART;TZID=America/Chicago:20250313T170000
DTEND;TZID=America/Chicago:20250313T170000
DTSTAMP:20260425T191316
CREATED:20250312T012555Z
LAST-MODIFIED:20250312T013141Z
UID:64488-1741885200-1741885200@coordinaciongenero.unam.mx
SUMMARY:Proyección de la película y conversatorio: «Cineclub CUEC: La Ventana de la Memoria\, presentación especial 8M Placeada»
DESCRIPTION:El «Cineclub CUEC: La ventana de la memoria» es un cineclub que proyecta películas de estudiantes que estudiaron en el CUEC\, ahora ENAC. Se invita a los realizadores y realizadoras para charlar con el alumnado y público en general. En esta ocasión\, la proyección especial será de Placeada\, que sigue la historia de Gabriela López\, una ex-sicaria que busca redimir su vida tras 20 años en prisión.\n \nParticipante(s): Directora Alejandra Sánchez y Cinematógrafa Erika Licea. Modera Marcela Couturier. \n \nDirigida a: Todo público.\n \nActividad presencial.\n \nLugar: Sala «Manuel González Casanova» de la ENAC\, ubicada en Circuito Mario de la Cueva\, C.U.\, Coyoacán\, 04510\, Ciudad de México.
URL:https://coordinaciongenero.unam.mx/evento/proyeccion-de-la-pelicula-y-conversatorio-cineclub-cuec-la-ventana-de-la-memoria-presentacion-especial-8m-placeada/
LOCATION:Sala «Manuel González Casanova» de la ENAC\, Circuito Mario de la Cueva\, C.U.\, Coyoacán\,\, Ciudad de México\, 04510\, Mexico
CATEGORIES:8M 2025
ATTACH;FMTTYPE=image/png:https://coordinaciongenero.unam.mx/wp-content/uploads/2025/02/8m-2025-pw_03.png
END:VEVENT
BEGIN:VEVENT
DTSTART;TZID=America/Chicago:20250313T170000
DTEND;TZID=America/Chicago:20250313T190000
DTSTAMP:20260425T191316
CREATED:20250305T185921Z
LAST-MODIFIED:20250307T011259Z
UID:63825-1741885200-1741892400@coordinaciongenero.unam.mx
SUMMARY:Taller: «Herramientas de seguridad para mujeres contra la violencia machista en las calles»
DESCRIPTION:13 de marzo de 2025 | 17:00\nTaller: «Herramientas de seguridad para mujeres contra la violencia machista en las calles»\nOrganizada por: Facultad de Economía.\nHerramientas de seguridad para mujeres.\nParticipante(s): Esp. Itzel Contreras (Facultad de Economía).\nDirigida a: Sólo mujeres de la comunidad de la Facultad de Economía.\nActividad presencial.\nLugar: Mediateca de la Facultad de Economía\, Edificio B\, primer piso\, ubicada en Circuito Escolar s/n\, C.U.\, Coyoacán\, 04510\, Ciudad de México.
URL:https://coordinaciongenero.unam.mx/evento/taller-herramientas-de-seguridad-para-mujeres-contra-la-violencia-machista-en-las-calles/
LOCATION:Mediateca de la Facultad de Economía\, Circuito Escolar s/n\, C.U\, Coyoacán\, Ciudad de México\, 04510\, Mexico
CATEGORIES:8M 2025
ATTACH;FMTTYPE=image/png:https://coordinaciongenero.unam.mx/wp-content/uploads/2025/02/8m-2025-pw_01.png
END:VEVENT
END:VCALENDAR