BEGIN:VCALENDAR
VERSION:2.0
PRODID:-//Coordinación para la Igualdad de Género UNAM - ECPv6.15.20//NONSGML v1.0//EN
CALSCALE:GREGORIAN
METHOD:PUBLISH
X-WR-CALNAME:Coordinación para la Igualdad de Género UNAM
X-ORIGINAL-URL:https://coordinaciongenero.unam.mx
X-WR-CALDESC:Eventos para Coordinación para la Igualdad de Género UNAM
REFRESH-INTERVAL;VALUE=DURATION:PT1H
X-Robots-Tag:noindex
X-PUBLISHED-TTL:PT1H
BEGIN:VTIMEZONE
TZID:America/Chicago
BEGIN:DAYLIGHT
TZOFFSETFROM:-0600
TZOFFSETTO:-0500
TZNAME:CDT
DTSTART:20240310T080000
END:DAYLIGHT
BEGIN:STANDARD
TZOFFSETFROM:-0500
TZOFFSETTO:-0600
TZNAME:CST
DTSTART:20241103T070000
END:STANDARD
BEGIN:DAYLIGHT
TZOFFSETFROM:-0600
TZOFFSETTO:-0500
TZNAME:CDT
DTSTART:20250309T080000
END:DAYLIGHT
BEGIN:STANDARD
TZOFFSETFROM:-0500
TZOFFSETTO:-0600
TZNAME:CST
DTSTART:20251102T070000
END:STANDARD
BEGIN:DAYLIGHT
TZOFFSETFROM:-0600
TZOFFSETTO:-0500
TZNAME:CDT
DTSTART:20260308T080000
END:DAYLIGHT
BEGIN:STANDARD
TZOFFSETFROM:-0500
TZOFFSETTO:-0600
TZNAME:CST
DTSTART:20261101T070000
END:STANDARD
END:VTIMEZONE
BEGIN:VEVENT
DTSTART;VALUE=DATE:20250310
DTEND;VALUE=DATE:20250311
DTSTAMP:20260425T085049
CREATED:20250305T174608Z
LAST-MODIFIED:20250305T174635Z
UID:63716-1741564800-1741651199@coordinaciongenero.unam.mx
SUMMARY:Jornada de actividades: «Concierto musical y poético. Talleres Diversos: Raíces de conciencia\, Juego de roles “Si yo fuera mujer”\, Macetas de micromachismos\, Basta femenina»
DESCRIPTION:10 de marzo de 2025 | 07:00 a 19:30 h\nJornada de actividades: «Concierto musical y poético. Talleres Diversos: Raíces de conciencia\, Juego de roles “Si yo fuera mujer”\, Macetas de micromachismos\, Basta femenina»\nOrganizada por: CInIG de la Escuela Nacional Preparatoria Plantel 1 «Gabino Barreda» (ENP 1).\nEn primer lugar\, se realizará un recital musical y poético en el auditorio del plantel. Posteriormente\, frente a la biblioteca\, se realizarán los talleres.\nParticipante(s): Dra. Sandra López Escamilla y Mtro. Jesús Prian Salazar (ENP No. 1 «Gabino Barreda»).\nDirigida a: Estudiantes de la preparatoria.\nActividad presencial.\nLugar: En el auditorio y frente a la biblioteca de la ENP Plantel 1 «Gabino Barreda»\, Avenida de la Noria y Prolongación Ignacio Aldama s/n\, Col. Potrero de San Bernardino\, Xochimilco\, 16030\, Ciudad de México.
URL:https://coordinaciongenero.unam.mx/evento/jornada-de-actividades-concierto-musical-y-poetico-talleres-diversos-raices-de-conciencia-juego-de-roles-si-yo-fuera-mujer-macetas-de-micromachismos-basta-femenina/
LOCATION:ENP 1 «Gabino Barreda»\, en Av. de la Noria y Prolongación Ignacio Aldama s/n\, Potrero de San Bernardino\, Xochimilco\, 16020\, Ciudad de México.\, ENP 1 «Gabino Barreda»\, en Av. de la Noria y Prolongación Ignacio Aldama s/n\, Potrero de San Bernardino\, Xochimilco\, 16020\, Ciudad de México. 
CATEGORIES:8M 2025
ATTACH;FMTTYPE=image/png:https://coordinaciongenero.unam.mx/wp-content/uploads/2025/02/8m-2025-pw_05.png
END:VEVENT
BEGIN:VEVENT
DTSTART;TZID=America/Chicago:20250310T090000
DTEND;TZID=America/Chicago:20250310T170000
DTSTAMP:20260425T085049
CREATED:20250311T200610Z
LAST-MODIFIED:20250311T202125Z
UID:64415-1741597200-1741626000@coordinaciongenero.unam.mx
SUMMARY:Exposición Bibliográfica: «Yucatán: Cuna del movimiento feminista en México»
DESCRIPTION:Exposición bibliográfica sobre la producción literaria de mujeres yucatecas que han influido en el movimiento feminista regional: escritoras\, poetas\, literatas\, etc.\n \nParticipante(s): Mtro. Luis Ernesto Santiago Pacheco y Lic. Bruno Samuel Euán Esquivel.\n \nDirigida a: Todo público.\n \nActividad presencial.\n \nLugar: CEPHCIS\, ubicado en Calle 43 s/n\, entre Calles 44 y 46\, Col. Industrial\, Mérida\, 97150\, Yucatán.
URL:https://coordinaciongenero.unam.mx/evento/conferencia-la-perspectiva-de-genero-en-la-jurisprudencia-de-la-corte-idh-reflexiones-de-los-casos-contenciosos-contra-mexico-copy/
LOCATION:Centro Peninsular en Humanidades y Ciencias Sociales UNAM (CEPHCIS)
CATEGORIES:8M 2025,Feminismos
ATTACH;FMTTYPE=image/png:https://coordinaciongenero.unam.mx/wp-content/uploads/2025/02/8m-2025-pw_05.png
END:VEVENT
BEGIN:VEVENT
DTSTART;TZID=America/Chicago:20250310T100000
DTEND;TZID=America/Chicago:20250310T100000
DTSTAMP:20260425T085049
CREATED:20250305T172541Z
LAST-MODIFIED:20250305T172541Z
UID:63678-1741600800-1741600800@coordinaciongenero.unam.mx
SUMMARY:Reunión para cantar juntas: «Cantemos juntas contra la violencia»
DESCRIPTION:10 de marzo de 2025 | 10:00 h\nReunión para cantar juntas: «Cantemos juntas contra la violencia»\nOrganizada por: CInIG de la Escuela Nacional de Estudios Superiores Unidad León (ENES León).\nEl evento consiste en una convocatoria a la comunidad universitaria para reunirse en las letras de la UNAM y cantar «La canción sin miedo»\, de Vivir Quintana\, como manifestación contra la violencia de género.\nDirigida a: Comunidad de la ENES León.\nActividad presencial.\nLugar: Letras de la UNAM en la ENES León\, ubicada en Boulevard UNAM 2011\, Col. Predio El Saucillo y El Potrero\, León de los Aldama\, 37684\, Guanajuato. \n 
URL:https://coordinaciongenero.unam.mx/evento/reunion-para-cantar-juntas-cantemos-juntas-contra-la-violencia/
LOCATION:Escuela Nacional de Estudios Superiores Unidad Leon
CATEGORIES:8M 2025
ATTACH;FMTTYPE=image/png:https://coordinaciongenero.unam.mx/wp-content/uploads/2025/02/8m-2025-pw_01.png
END:VEVENT
BEGIN:VEVENT
DTSTART;TZID=America/Chicago:20250310T103000
DTEND;TZID=America/Chicago:20250310T123000
DTSTAMP:20260425T085049
CREATED:20250305T184135Z
LAST-MODIFIED:20250305T184135Z
UID:63780-1741602600-1741609800@coordinaciongenero.unam.mx
SUMMARY:Conferencia magistral: «El avance de las ultraderechas\, las crisis de las masculinidades y el movimiento feminista»
DESCRIPTION:10 de marzo de 2025 | 10:30\nConferencia magistral: «El avance de las ultraderechas\, las crisis de las masculinidades y el movimiento feminista»\nOrganizada por: Facultad de Economía.\nConferencia magistral de análisis socio-político contemporáneo.\nParticipante(s): Teresa Rodríguez De la Vega (FCPyS-UNAM)\, Juan Miguel Flores Gómez (CETMECS\, FCPyS-UNAM). Modera Bethsaida Maldonado (FE-UNAM).\nDirigida a: Todo público.\nActividad presencial.\nLugar: Aula Magna «Jesús Silva Herzog»\, Edificio B\, primer piso de la Facultad de Economía\, ubicada en .\, Coyoacán\, 04510\, Ciudad de México.
URL:https://coordinaciongenero.unam.mx/evento/conferencia-magistral-el-avance-de-las-ultraderechas-las-crisis-de-las-masculinidades-y-el-movimiento-feminista/
LOCATION:Aula Magna «Jesús Silva Herzog»\, Edificio B\, primer piso de la Facultad de Economía\, Circuito Escolar s/n\, C.U\, Coyoacán\, Ciudad de México\, 04510\, Mexico
CATEGORIES:8M 2025
ATTACH;FMTTYPE=image/png:https://coordinaciongenero.unam.mx/wp-content/uploads/2025/02/8m-2025-pw_05.png
END:VEVENT
BEGIN:VEVENT
DTSTART;TZID=America/Chicago:20250310T110000
DTEND;TZID=America/Chicago:20250310T120000
DTSTAMP:20260425T085049
CREATED:20250305T233012Z
LAST-MODIFIED:20250305T233012Z
UID:63959-1741604400-1741608000@coordinaciongenero.unam.mx
SUMMARY:«Memoria histórica de nuestro andar feminista en la UNAM»
DESCRIPTION:10 de marzo de 2025 | 11:00 h\nConversatorio: «Memoria histórica de nuestro andar feminista en la UNAM»\nOrganizada por: CInIG de la Escuela Nacional de Trabajo Social (ENTS).\nEl objetivo es compartir la experiencia de nuestras académicas feministas como testimonio vivo de la lucha por abrir horizontes de igualdad en la UNAM.\nParticipante(s): Dra. Norma Blázquez Graf (CIGU); Dra. Julia del Carmen Chávez Carapia (CIEGENTS)\, y Mtra. Leticia Cano Soriano (Coordinación de Reforma Institucional y Prospectiva Universitaria). Modera Mtra. Carmen Casas Ratia\, Directora de la Escuela Nacional de Trabajo Social.\nDirigida a: Todo público.\nActividad presencial.\nLugar: Auditorio «Dr. Manuel Sánchez Rosado» de la ENTS\, ubicada en Circuito Exterior s/n\, C.U.\, Coyoacán\, 04510\, Ciudad de México.
URL:https://coordinaciongenero.unam.mx/evento/memoria-historica-de-nuestro-andar-feminista-en-la-unam/
LOCATION:Auditorio «Dr. Manuel Sánchez Rosado» de la ENTS
CATEGORIES:8M 2025,Feminismos
ATTACH;FMTTYPE=image/png:https://coordinaciongenero.unam.mx/wp-content/uploads/2025/02/8m-2025-pw_05.png
END:VEVENT
BEGIN:VEVENT
DTSTART;TZID=America/Chicago:20250310T110000
DTEND;TZID=America/Chicago:20250310T140000
DTSTAMP:20260425T085049
CREATED:20250306T000238Z
LAST-MODIFIED:20250306T001012Z
UID:63996-1741604400-1741615200@coordinaciongenero.unam.mx
SUMMARY:Conversatorio: «Mujeres científicas que transforman el mundo. Por espacios donde haya igualdad de derechos y oportunidades»
DESCRIPTION:A través de un conversatorio se abrirá un espacio de reflexión en torno a la igualdad\, derechos y empoderamiento de las mujeres en el área de las ciencias e ingenierías. El objetivo es visibilizar algunos desafíos en la ciencia y cómo lo han solucionado las científicas con el fin de motivar\, alentar e incentivar a las jóvenes estudiantes de las carreras presentes a seguir adelante en su camino profesional. Posteriormente\, se abrirá un espacio de diálogo para que las y los estudiantes hagan preguntas a las científicas.\n \nParticipante(s): Paulette Tapia Torres\, M. en C. Marisa Miranda Tirado\, Dra. Lorena Peña Duarte\, Judith Ventura Cruz\, Dra. Margarita Cantú Reyes y María de los Ángeles Martínez Suárez.\n \nDirigida a: Comunidad estudiantil.\n \nActividad presencial.\n \nLugar: Auditorio del Campus 2\, FES Zaragoza ubicada en Avenida Batalla 5 de Mayo s/n esquina Fuerte de Loreto\, Col. Ejército de Oriente\, Iztapalapa\, 09230\, Ciudad de México.
URL:https://coordinaciongenero.unam.mx/evento/conversatorio-mujeres-cientificas-que-transforman-el-mundo-por-espacios-donde-haya-igualdad-de-derechos-y-oportunidades/
LOCATION:Auditorio del Campus 2\, FES Zaragoza\, Avenida Batalla 5 de Mayo s/n esquina Fuerte de Loreto\, Col. Ejército de Oriente\, Iztapalapa\,\, Ciudad de México\, 09230\, Mexico
CATEGORIES:8M 2025
ATTACH;FMTTYPE=image/png:https://coordinaciongenero.unam.mx/wp-content/uploads/2025/02/8m-2025-pw_03.png
END:VEVENT
BEGIN:VEVENT
DTSTART;TZID=America/Chicago:20250310T120000
DTEND;TZID=America/Chicago:20250310T120000
DTSTAMP:20260425T085049
CREATED:20250305T172653Z
LAST-MODIFIED:20250305T172653Z
UID:63682-1741608000-1741608000@coordinaciongenero.unam.mx
SUMMARY:Taller: «Amor propio para estudiantes»
DESCRIPTION:10 de marzo de 2025 | 12:00 h\nTaller: «Amor propio para estudiantes»\nOrganizada por: CInIG de la Escuela Nacional de Estudios Superiores Unidad León (ENES León).\nTaller en el que a través del movimiento corporal se trabaja en el aprecio por el propio cuerpo y la autoestima que esto representa.\nParticipante(s): Mtra. Janette Esperanza López Maldonado (ENES León).\nDirigida a: Comunidad estudiantil.\nActividad presencial.\nLugar: Salón 201 A de la ENES León\, ubicada en Boulevard UNAM 2011\, Col. Predio El Saucillo y El Potrero\, León de los Aldama\, 37684\, Guanajuato.
URL:https://coordinaciongenero.unam.mx/evento/taller-amor-propio-para-estudiantes/
LOCATION:Escuela Nacional de Estudios Superiores Unidad Leon
CATEGORIES:8M 2025
ATTACH;FMTTYPE=image/png:https://coordinaciongenero.unam.mx/wp-content/uploads/2025/02/8m-2025-pw_02.png
END:VEVENT
BEGIN:VEVENT
DTSTART;TZID=America/Chicago:20250310T120000
DTEND;TZID=America/Chicago:20250310T130000
DTSTAMP:20260425T085049
CREATED:20250305T181307Z
LAST-MODIFIED:20250315T220120Z
UID:63751-1741608000-1741611600@coordinaciongenero.unam.mx
SUMMARY:Conferencia: «Sesgos de género y currículum oculto en la formación científica en áreas CTIM»
DESCRIPTION:En esta charla se exploran los sesgos de género en las ciencias CTIM y la educación superior pero con un énfasis especial en cómo estos sesgos se transmiten de manera sutil en la formación científica a través del llamado currículum oculto. Se discutirán ejemplos y estrategias para hacer estos sesgos visibles y generar espacios de aprendizaje más equitativos y libres de discriminación.\n \nParticipante(s): Mtra. Ana Cristina Cervantes Arrioja (Facultad de Ciencias).\n \nDirigida a: Todo público.\n \nActividad híbrida.\n \n 
URL:https://coordinaciongenero.unam.mx/evento/conferencia-sesgos-de-genero-y-curriculum-oculto-en-la-formacion-cientifica-en-areas-ctim/
LOCATION:En línea
CATEGORIES:8M 2025,Perspectiva de género
ATTACH;FMTTYPE=image/png:https://coordinaciongenero.unam.mx/wp-content/uploads/2025/02/8m-2025-pw_05.png
END:VEVENT
BEGIN:VEVENT
DTSTART;TZID=America/Chicago:20250310T120000
DTEND;TZID=America/Chicago:20250310T140000
DTSTAMP:20260425T085049
CREATED:20250307T043029Z
LAST-MODIFIED:20250307T043029Z
UID:64217-1741608000-1741615200@coordinaciongenero.unam.mx
SUMMARY:Conversatorio: «Desafiando Límites\, Creando caminos: Mujeres en cargos de liderazgo»
DESCRIPTION:Conversatorio: «Desafiando Límites\, Creando caminos: Mujeres en cargos de liderazgo»\nOrganizada por: CInIG del Instituto de Investigaciones en Ecosistemas y Sustentabilidad (IIES).\nEn conmemoración del Día Internacional de las Mujeres\, este conversatorio busca crear un espacio de reflexión y aprendizaje sobre el papel de las mujeres en posiciones de liderazgo.\nEl evento contará con la participación de destacadas expertas en el tema\, quienes compartirán sus experiencias y estrategias en el ámbito del liderazgo.\nA través de una serie de mini charlas\, se enfocarán en el desarrollo de habilidades esenciales como:\nLiderazgo: Fomentar la confianza y la capacidad de influir en otros para generar un impacto positivo.\nNegociación: Aprender a negociar efectivamente en diferentes contextos\, defendiendo intereses y logrando acuerdos beneficiosos.\nComunicación: Desarrollar habilidades comunicativas que fortalezcan la expresión de ideas y la interacción en entornos profesionales.\nEste conversatorio no solo busca inspirar a las participantes\, sino también proporcionar herramientas prácticas que les permitan avanzar en sus carreras y contribuir al empoderamiento de más mujeres en el ámbito laboral.\nParticipante(s): Janik Equihua (Comisión Estatal de Derechos Humanos\, Michoacán)\, y Madjeli Babinet (directora de Coordinación Estratégica de la Secretaría de Movilidad de la CDMX).\nDirigida a: Todo público.\nActividad presencial.\nLugar: Instituto de Investigaciones en Ecosistemas y Sustentabilidad (IIES) de la ENES-Morelia\, ubicado en Antigua Carretera a Pátzcuaro 8701\, Col. Ex Hacienda de San José de la Huerta\, Morelia\, 58190\, Michoacán.
URL:https://coordinaciongenero.unam.mx/evento/conversatorio-desafiando-limites-creando-caminos-mujeres-en-cargos-de-liderazgo/
LOCATION:Instituto de Investigaciones en Ecosistemas y Sustentabilidad (IIES)
CATEGORIES:8M 2025
ATTACH;FMTTYPE=image/png:https://coordinaciongenero.unam.mx/wp-content/uploads/2025/02/8m-2025-pw_05.png
END:VEVENT
BEGIN:VEVENT
DTSTART;TZID=America/Chicago:20250310T170000
DTEND;TZID=America/Chicago:20250310T180000
DTSTAMP:20260425T085049
CREATED:20250305T183153Z
LAST-MODIFIED:20260121T232238Z
UID:63766-1741626000-1741629600@coordinaciongenero.unam.mx
SUMMARY:Plática: «¿Ser docente es sólo pararse frente a un grupo? Mi experiencia de vida»
DESCRIPTION:¿Cuántos biólogos hemos pensado que para dar clases basta con nuestra formación en Biología? Sin embargo\, estar frente a grupo nos muestra una realidad muy diferente. Efectivamente\, hay que saber de la materia\, pero también es esencial considerar aspectos psicopedagógicos y emocionales en la enseñanza. En esta charla se reflexionará sobre la importancia de estos elementos en la docencia dentro de las ciencias.\n \nParticipante(s): Dra. Nora E. Galindo Miranda (Facultad de Ciencias).\n \nDirigida a: Todo público.\n \nActividad en línea.\n \n 
URL:https://coordinaciongenero.unam.mx/evento/platica-ser-docente-es-solo-pararse-frente-a-un-grupo-mi-experiencia-de-vida/
LOCATION:En línea
CATEGORIES:8M 2025,Mujeres y niñas en las ciencias,Perspectiva de género
ATTACH;FMTTYPE=image/png:https://coordinaciongenero.unam.mx/wp-content/uploads/2025/02/8m-2025-pw_05.png
END:VEVENT
BEGIN:VEVENT
DTSTART;TZID=America/Chicago:20250310T170000
DTEND;TZID=America/Chicago:20250310T190000
DTSTAMP:20260425T085049
CREATED:20250304T024923Z
LAST-MODIFIED:20250321T063616Z
UID:63507-1741626000-1741633200@coordinaciongenero.unam.mx
SUMMARY:Webinar: «Miradas de mujer en el fútbol profesional de nuestro país»
DESCRIPTION:Entrevista con jugadoras del equipo femenil Pumas de la UNAM\, sobre su experiencia como mujeres deportistas profesionales.\n \nParticipante(s): Mónica Alvarado\, Jimena Ríos y Laura Herrera (panelistas).\n \nDirigida a: Alumnado (preferentemente mujeres) de entre 15 y 21 años de Instituciones Incorporadas de todo el país\, así como sus docentes y autoridades.\n \nActividad en línea. \n 
URL:https://coordinaciongenero.unam.mx/evento/webinar-miradas-de-mujer-en-el-futbol-profesional-de-nuestro-pais/
LOCATION:En línea
CATEGORIES:8M 2025,Género y deporte
ATTACH;FMTTYPE=image/png:https://coordinaciongenero.unam.mx/wp-content/uploads/2025/02/8m-2025-pw_04.png
END:VEVENT
BEGIN:VEVENT
DTSTART;TZID=America/Chicago:20250310T170000
DTEND;TZID=America/Chicago:20250310T190000
DTSTAMP:20260425T085049
CREATED:20250307T040423Z
LAST-MODIFIED:20260122T232144Z
UID:64204-1741626000-1741633200@coordinaciongenero.unam.mx
SUMMARY:Proyección y charla con las realizadoras: «Relatos de Resistencia»
DESCRIPTION:Proyección y charla con las realizadoras: «Relatos de Resistencia»\nOrganizada por: Escuela Nacional de Artes Cinematográficas (ENAC).\nLa actividad busca promover la igualdad de género a través de proyecciones y un conversatorio con las realizadoras. Se presentarán los documentales: \nNo les pedimos un viaje a la luna (María del Carmen de Lara)\nNo seré la vida de mi recuerdo (Isabela Ripoll) \nLas niñas que no tuvieron miedo (Frida Meza Coriche).\nEstos filmes abordan temas de lucha\, resistencia y derechos de las mujeres. Al finalizar\, las tres directoras estarán presentes para dialogar con el público.\nParticipante(s): María del Carmen de Lara\, Isabela Ripoll y Frida Meza Coriche.\nDirigida a: Todo público.\nActividad presencial.\nEntrada libre.\nLugar: Sala «Manuel González Casanova» de la ENAC\, ubicada en Circuito Mario de la Cueva\, C.U.\, Coyoacán\, 04510\, Ciudad de México.
URL:https://coordinaciongenero.unam.mx/evento/proyeccion-y-charla-con-las-realizadoras-relatos-de-resistencia/
LOCATION:Sala Manuel Gonzáles Casanova en la Escuela Nacional de Artes Cinematográficas.
CATEGORIES:8M 2025
ATTACH;FMTTYPE=image/png:https://coordinaciongenero.unam.mx/wp-content/uploads/2025/02/8m-2025-pw_04.png
END:VEVENT
END:VCALENDAR