BEGIN:VCALENDAR
VERSION:2.0
PRODID:-//Coordinación para la Igualdad de Género UNAM - ECPv6.15.20//NONSGML v1.0//EN
CALSCALE:GREGORIAN
METHOD:PUBLISH
X-WR-CALNAME:Coordinación para la Igualdad de Género UNAM
X-ORIGINAL-URL:https://coordinaciongenero.unam.mx
X-WR-CALDESC:Eventos para Coordinación para la Igualdad de Género UNAM
REFRESH-INTERVAL;VALUE=DURATION:PT1H
X-Robots-Tag:noindex
X-PUBLISHED-TTL:PT1H
BEGIN:VTIMEZONE
TZID:America/Chicago
BEGIN:DAYLIGHT
TZOFFSETFROM:-0600
TZOFFSETTO:-0500
TZNAME:CDT
DTSTART:20240310T080000
END:DAYLIGHT
BEGIN:STANDARD
TZOFFSETFROM:-0500
TZOFFSETTO:-0600
TZNAME:CST
DTSTART:20241103T070000
END:STANDARD
BEGIN:DAYLIGHT
TZOFFSETFROM:-0600
TZOFFSETTO:-0500
TZNAME:CDT
DTSTART:20250309T080000
END:DAYLIGHT
BEGIN:STANDARD
TZOFFSETFROM:-0500
TZOFFSETTO:-0600
TZNAME:CST
DTSTART:20251102T070000
END:STANDARD
BEGIN:DAYLIGHT
TZOFFSETFROM:-0600
TZOFFSETTO:-0500
TZNAME:CDT
DTSTART:20260308T080000
END:DAYLIGHT
BEGIN:STANDARD
TZOFFSETFROM:-0500
TZOFFSETTO:-0600
TZNAME:CST
DTSTART:20261101T070000
END:STANDARD
END:VTIMEZONE
BEGIN:VEVENT
DTSTART;VALUE=DATE:20250301
DTEND;VALUE=DATE:20250302
DTSTAMP:20260425T062249
CREATED:20250312T220606Z
LAST-MODIFIED:20260121T235330Z
UID:64549-1740787200-1740873599@coordinaciongenero.unam.mx
SUMMARY:Creación de colecciones: «Colección violeta IIBI»
DESCRIPTION:Se desarrollará una colección electrónica y digital de materiales con temáticas enfocadas en información\, bibliotecas y género. Posteriormente\, se desarrollará una colección de materiales impresos para la colección violeta física en la biblioteca del IIBI.\n \nParticipante(s): Dra. Perla Olivia Rodríguez Résendiz\, Dra. Marisa Rico Bocanegra\, CInIG del IIBI\, y personal de biblioteca.\n \nDirigida a: Todo público.\n \nActividad híbrida.\n \nDisponible aquí
URL:https://coordinaciongenero.unam.mx/evento/creacion-de-colecciones-coleccion-violeta-iibi/
CATEGORIES:8M 2025,Perspectiva de género
ATTACH;FMTTYPE=image/png:https://coordinaciongenero.unam.mx/wp-content/uploads/2025/02/8m-2025-pw_05.png
END:VEVENT
BEGIN:VEVENT
DTSTART;TZID=America/Chicago:20250301T090000
DTEND;TZID=America/Chicago:20250301T140000
DTSTAMP:20260425T062249
CREATED:20250303T000311Z
LAST-MODIFIED:20250319T022013Z
UID:63321-1740819600-1740837600@coordinaciongenero.unam.mx
SUMMARY:Jornadas: «8M: La voz de las penalistas»
DESCRIPTION:Se realizarán diversas actividades organizadas por el Colegio de Derecho Penal.\n \nParticipante(s): Jennifer Oyamantha González Robles\, Angélica Odette Muñoz Espinosa y profesores y profesoras de la materia de Derecho Penal.\n \nDirigida a: Todo público.\n \nActividad presencial.\n \nLugar: Aula Magna «Jacinto Pallares» de la Facultad de Derecho\, Circuito Escolar s/n\, C.U.\, Coyoacán\, 04510\, Ciudad de México. \n 
URL:https://coordinaciongenero.unam.mx/evento/jornadas-8m-la-voz-de-las-penalistas/
LOCATION:Aula Magna «Jacinto Pallares» de la Facultad de Derecho\, Circuito Escolar s/n\, C.U\, Ciudad de México\, Coyoacán\, 04510
CATEGORIES:8M 2025
ATTACH;FMTTYPE=image/png:https://coordinaciongenero.unam.mx/wp-content/uploads/2025/02/8m-2025-pw_05.png
END:VEVENT
BEGIN:VEVENT
DTSTART;TZID=America/Chicago:20250301T170000
DTEND;TZID=America/Chicago:20250301T170000
DTSTAMP:20260425T062249
CREATED:20250301T195100Z
LAST-MODIFIED:20250305T192856Z
UID:63248-1740848400-1740848400@coordinaciongenero.unam.mx
SUMMARY:Cápsulas radiofónicas: «Somos nosotras. Mujeres rompiendo moldes»
DESCRIPTION:01 de marzo de 2025 | 17:00 h \nCápsulas radiofónicas: «Somos nosotras. Mujeres rompiendo moldes» \nOrganizada por: POC de la Dirección General de Radio UNAM. \nSerie de cápsulas radiofónicas que presentan las experiencias de mujeres que desafían las expectativas sociales al adentrarse en profesiones\, actividades\, oficios y deportes dominados por hombres. Estas mujeres se enfrentan a prejuicios\, retos físicos y emocionales\, mientras luchan por demostrar su valía y abren camino para las futuras generaciones. \nParticipante(s): Andrea Valverde (ingeniera en sistemas computacionales); Samantha Andraca (fisicoculturista); Melisa Cañete Álvarez (pediatra del desarrollo); Isela Villela (operadora de audio en Radio UNAM); Carla Apodaca (futbolista); Belly (soldada); Natalie Benavides Alonso (ingeniera mecánica); Olga Hirata (comentarista deportiva); Erandi Montes (operadora de tractocamiones\, “trailera”); Gabriela Ledesma (operadora de bolsa\, Portfolio & Trader Mánager). \nDirigida a: Todo público. \nActividad en línea. \nDisponible en: https://www.radiopodcast.unam.mx/podcast/verserie/428 
URL:https://coordinaciongenero.unam.mx/evento/capsulas-radiofonicas-somos-nosotras-mujeres-rompiendo-moldes/
LOCATION:RADIO UNAM\, Adolfo Prieto 133\, Col. Del Valle\, Delegación Benito Juárez\, 03100\, Ciudad de México\, Ciudad de México\, Distrito Federal\, 03100\, Mexico
CATEGORIES:8M 2025
ATTACH;FMTTYPE=image/png:https://coordinaciongenero.unam.mx/wp-content/uploads/2025/02/8m-2025-pw_01.png
END:VEVENT
BEGIN:VEVENT
DTSTART;TZID=America/Chicago:20250301T180000
DTEND;TZID=America/Chicago:20250301T190000
DTSTAMP:20260425T062249
CREATED:20250302T231451Z
LAST-MODIFIED:20250302T231451Z
UID:63296-1740852000-1740855600@coordinaciongenero.unam.mx
SUMMARY:Concierto: «Festival Internacional de Piano | Jornadas de mujeres en la música | Dúo de piano Guevara y Zhelezova»
DESCRIPTION:Concierto: «Festival Internacional de Piano | Jornadas de mujeres en la música | Dúo de piano Guevara y Zhelezova»\nOrganizada por: Dirección General de Música.\nEste programa\, parte del Festival Internacional de Piano y de las Jornadas de Mujeres en la Música\, explora el concepto de la danza en la música a través de un repertorio de Poulenc\, Ravel\, Mozart\, Brahms\, Florence Price y Libby Larsen. El programa abre con la ecléctica Sonata para cuatro manos de Poulenc\, caracterizada por su humor y contrastes. Sigue con una de las obras maestras para cuatro manos de Mozart\, su Sonata en do mayor Op. 521 . En contraste\, la primera mitad incluye dos obras de mujeres compositoras en forma de danza\, las Tres danzas negras de Florence Price y Gavel Patter de Libby Larsen. La segunda mitad abre con la suite Ma Mère l’Oye Mamá la Oca de Ravel\, que incluye una pavana y un vals; para seguir con dos obras de Johannes Brahms: los Valses Op. 39 y dos de las Danzas húngaras como conclusión.\nParticipante(s): Citlalli Guevara y Slavina Zhelezova (piano).\nDirigida a: Todo público.\nActividad presencial.\nLugar: Sala «Carlos Chávez» del Centro Cultural Universitario (CCU)\, C.U.\, Coyoacán\, 04510\, Ciudad de México.\nMás información en: https://musica.unam.mx/calendario/evento/44905/ 
URL:https://coordinaciongenero.unam.mx/evento/concierto-festival-internacional-de-piano-jornadas-de-mujeres-en-la-musica-duo-de-piano-guevara-y-zhelezova/
LOCATION:Sala Carlos Chávez\, Centro Cultural Universitario
CATEGORIES:8M 2024
ATTACH;FMTTYPE=image/png:https://coordinaciongenero.unam.mx/wp-content/uploads/2025/02/8m-2025-pw_02.png
END:VEVENT
BEGIN:VEVENT
DTSTART;TZID=America/Chicago:20250301T200000
DTEND;TZID=America/Chicago:20250302T220000
DTSTAMP:20260425T062249
CREATED:20250302T231737Z
LAST-MODIFIED:20250302T231737Z
UID:63298-1740859200-1740952800@coordinaciongenero.unam.mx
SUMMARY:Concierto: «Festival internacional de piano | Jornadas de mujeres en la música | OFUNAM | Primera temporada 2025 | Programa 3 | Música y medio ambiente Agua»
DESCRIPTION:Concierto: «Festival internacional de piano | Jornadas de mujeres en la música | OFUNAM | Primera temporada 2025 | Programa 3 | Música y medio ambiente Agua»\n \n  \nOrganizada por: Dirección General de Música.\nEste programa se repite el domingo 2 de marzo a las 12 pm y se transmite por TV UNAM. En el marco de las Jornadas de mujeres en la música\, la OFUNAM se presenta bajo la batuta  de la directora austriaca Katharina Wincor. Como parte de su Primera temporada 2025\, dedicada a crear conciencia sobre el agua\, la orquesta interpretará la obertura de «El holandés errante»\, una de las óperas más reconocidas de Richard Wagner. Esta obra estrenada en 1843\, cuyo libreto escribió el propio compositor\, está inspirada en la leyenda de un marinero condenado a vagar eternamente por los mares. Después\, como parte del Festival internacional de piano\, la orquesta se une a la pianista Claudia Corona para interpretar el Concierto para piano en la menor Op. 7 de Clara Wieck. Conocida años más tarde como Clara Schumann\, escribió este concierto en 1835\, cuando tenía tan sólo 16 años de edad. La segunda parte del concierto incluye «Chinampa y trajinera» del compositor mexicano Enrico Chapela\, obra del año 2021 inspirada en los canales de Xochimilco. Finalmente\, se presentará «El aprendiz de brujo» de Paul Dukas. Basado en el poema homónimo de Goethe de 1797\, este poema sinfónico narra la historia de un joven que\, al intentar simplificar su trabajo\, hechiza una escoba. El hechizo se descontrola y causa un caos que sólo el maestro puede detener. Gracias a la adaptación de Disney\, donde Mickey Mouse interpreta al aprendiz\, esta historia se ha convertido en un clásico para todas las edades.\nParticipante(s): Orquesta Filarmónica de la UNAM\, Katharina Wincor (directora huésped) y Claudia Corona (piano).\nDirigida a: Todo público.\nActividad presencial.\nLugar: Sala «Nezahualcóyotl» del Centro Cultural Universitario (CCU)\, C.U.\, Coyoacán\, 04510\, Ciudad de México.\nMás información en: https://musica.unam.mx/calendario/evento/44530/ 
URL:https://coordinaciongenero.unam.mx/evento/concierto-festival-internacional-de-piano-jornadas-de-mujeres-en-la-musica-ofunam-primera-temporada-2025-programa-3-musica-y-medio-ambiente-agua/
LOCATION:Sala Nezahualcóyotl\, Centro Cultural Universitario.
CATEGORIES:8M 2025
ATTACH;FMTTYPE=image/png:https://coordinaciongenero.unam.mx/wp-content/uploads/2025/02/8m-2025-pw_01.png
END:VEVENT
END:VCALENDAR