BEGIN:VCALENDAR
VERSION:2.0
PRODID:-//Coordinación para la Igualdad de Género UNAM - ECPv6.15.20//NONSGML v1.0//EN
CALSCALE:GREGORIAN
METHOD:PUBLISH
X-WR-CALNAME:Coordinación para la Igualdad de Género UNAM
X-ORIGINAL-URL:https://coordinaciongenero.unam.mx
X-WR-CALDESC:Eventos para Coordinación para la Igualdad de Género UNAM
REFRESH-INTERVAL;VALUE=DURATION:PT1H
X-Robots-Tag:noindex
X-PUBLISHED-TTL:PT1H
BEGIN:VTIMEZONE
TZID:America/Chicago
BEGIN:DAYLIGHT
TZOFFSETFROM:-0600
TZOFFSETTO:-0500
TZNAME:CDT
DTSTART:20240310T080000
END:DAYLIGHT
BEGIN:STANDARD
TZOFFSETFROM:-0500
TZOFFSETTO:-0600
TZNAME:CST
DTSTART:20241103T070000
END:STANDARD
BEGIN:DAYLIGHT
TZOFFSETFROM:-0600
TZOFFSETTO:-0500
TZNAME:CDT
DTSTART:20250309T080000
END:DAYLIGHT
BEGIN:STANDARD
TZOFFSETFROM:-0500
TZOFFSETTO:-0600
TZNAME:CST
DTSTART:20251102T070000
END:STANDARD
BEGIN:DAYLIGHT
TZOFFSETFROM:-0600
TZOFFSETTO:-0500
TZNAME:CDT
DTSTART:20260308T080000
END:DAYLIGHT
BEGIN:STANDARD
TZOFFSETFROM:-0500
TZOFFSETTO:-0600
TZNAME:CST
DTSTART:20261101T070000
END:STANDARD
END:VTIMEZONE
BEGIN:VEVENT
DTSTART;TZID=America/Chicago:20250203T090000
DTEND;TZID=America/Chicago:20250203T173000
DTSTAMP:20260424T222940
CREATED:20250129T062523Z
LAST-MODIFIED:20250129T180442Z
UID:62036-1738573200-1738603800@coordinaciongenero.unam.mx
SUMMARY:Muestra bibliográfica: «Niñez migrante: todos tienen un sueño»
DESCRIPTION:Muestra bibliográfica en la biblioteca «Rosa Cusminsky Mogilner» del CISAN.  \nQueremos despertar la curiosidad y la atención del público ante el fenómeno de la movilidad migratoria humana hacia el norte de nuestro país y las afectaciones que vive la niñez de las familias migrantes. \nParticipante(s): Katya Domínguez Ortiz y Celia Martínez García\, biblioteca CISAN. \nDirigida a: Público en general. \nActividad presencial. \nLugar: Biblioteca «Rosa Cusminsky Mogilner» del Centro de Investigaciones sobre América del Norte (CISAN)\, Torre II de Humanidades\, piso 1\, C.U.\, Coyoacán\, 04510\, Ciudad de México.
URL:https://coordinaciongenero.unam.mx/evento/ninez-migrante-todos-tienen-un-sueno/
LOCATION:Biblioteca Rosa Cusminsky Mogilner del Centro de Investigaciones sobre América del Norte\, Torre II de Humanidades\, piso 1\, C.U.\, Coyoacán\,\, Ciudad de México\, 04510\, Mexico
CATEGORIES:11F 2025,Niñeces
ATTACH;FMTTYPE=image/jpeg:https://coordinaciongenero.unam.mx/wp-content/uploads/2025/01/11f-2025-pw_02.jpg
END:VEVENT
BEGIN:VEVENT
DTSTART;TZID=America/Chicago:20250203T103000
DTEND;TZID=America/Chicago:20250203T120000
DTSTAMP:20260424T222940
CREATED:20250202T041648Z
LAST-MODIFIED:20250305T042806Z
UID:63599-1738578600-1738584000@coordinaciongenero.unam.mx
SUMMARY:Campaña Especial: «Voces en Vuelo»
DESCRIPTION:Campaña Especial: «Voces en Vuelo»\nOrganizada por: CInIG de la Dirección General de Incorporación y Revalidación de Estudios (DGIRE).\nCon la finalidad de exteriorizar nuestro pensar y nuestro sentir con respecto a la igualdad entre los géneros y contribuir así en la creación de un ambiente libre de discriminación en el mundo.\nParticipante(s): Lic. Denisse Ramírez.\nDirigida a: Comunidad DGIRE.\nActividad presencial.\nLugar: DGIRE\, ubicada en el Circuito Centro Cultural s/n (frente al Pabellón de la Biodiversidad)\, C.U.\, Coyoacán\, 04510\, Ciudad de México.
URL:https://coordinaciongenero.unam.mx/evento/campana-especial-voces-en-vuelo-2/
LOCATION:Instalaciones DGIRE\, Dirección General de Incorporación y Revalidación de Estudios\, Cto. Centro Cultural S/N\, C.U.\, Coyoacán\, 04510 Ciudad de México\, CDMX\, Coyoacán\, Distrito Federal\, 04510
CATEGORIES:8M 2025,Igualdad de género
ATTACH;FMTTYPE=image/png:https://coordinaciongenero.unam.mx/wp-content/uploads/2025/02/8m-2025-pw_05.png
END:VEVENT
END:VCALENDAR