BEGIN:VCALENDAR
VERSION:2.0
PRODID:-//Coordinación para la Igualdad de Género UNAM - ECPv6.15.20//NONSGML v1.0//EN
CALSCALE:GREGORIAN
METHOD:PUBLISH
X-WR-CALNAME:Coordinación para la Igualdad de Género UNAM
X-ORIGINAL-URL:https://coordinaciongenero.unam.mx
X-WR-CALDESC:Eventos para Coordinación para la Igualdad de Género UNAM
REFRESH-INTERVAL;VALUE=DURATION:PT1H
X-Robots-Tag:noindex
X-PUBLISHED-TTL:PT1H
BEGIN:VTIMEZONE
TZID:America/Chicago
BEGIN:DAYLIGHT
TZOFFSETFROM:-0600
TZOFFSETTO:-0500
TZNAME:CDT
DTSTART:20230312T080000
END:DAYLIGHT
BEGIN:STANDARD
TZOFFSETFROM:-0500
TZOFFSETTO:-0600
TZNAME:CST
DTSTART:20231105T070000
END:STANDARD
BEGIN:DAYLIGHT
TZOFFSETFROM:-0600
TZOFFSETTO:-0500
TZNAME:CDT
DTSTART:20240310T080000
END:DAYLIGHT
BEGIN:STANDARD
TZOFFSETFROM:-0500
TZOFFSETTO:-0600
TZNAME:CST
DTSTART:20241103T070000
END:STANDARD
BEGIN:DAYLIGHT
TZOFFSETFROM:-0600
TZOFFSETTO:-0500
TZNAME:CDT
DTSTART:20250309T080000
END:DAYLIGHT
BEGIN:STANDARD
TZOFFSETFROM:-0500
TZOFFSETTO:-0600
TZNAME:CST
DTSTART:20251102T070000
END:STANDARD
BEGIN:DAYLIGHT
TZOFFSETFROM:-0600
TZOFFSETTO:-0500
TZNAME:CDT
DTSTART:20260308T080000
END:DAYLIGHT
BEGIN:STANDARD
TZOFFSETFROM:-0500
TZOFFSETTO:-0600
TZNAME:CST
DTSTART:20261101T070000
END:STANDARD
END:VTIMEZONE
BEGIN:VEVENT
DTSTART;TZID=America/Chicago:20240925T160000
DTEND;TZID=America/Chicago:20250115T200000
DTSTAMP:20260424T215510
CREATED:20241002T222515Z
LAST-MODIFIED:20241002T222515Z
UID:58816-1727280000-1736971200@coordinaciongenero.unam.mx
SUMMARY:Seminario: «Mujeres en resistencia 2. Conflictos armados desde una perspectiva de género"»
DESCRIPTION:Organizada por: Filmoteca de la UNAM. \nEn este módulo del Seminario Permanente Cine y Género continuaremos con la exploración del módulo anterior sobre cómo las mujeres han creado mecanismos para hacer frente a los conflictos armados mientras éstos se desarrollan\, pero también para luchar por la liberación\, la memoria y la paz una vez que cesan las escaladas de violencia. A través de películas documentales\, revisaremos contextos específicos\, como la resistencia del pueblo mapuche en Chile y las luchas emancipadoras de las mujeres kurdas y saharauis\, así como los movimientos guerrilleros y los estragos de la guerra contra el narcotráfico\, tanto en México como en Colombia. Asimismo\, conversaremos con personas dedicadas a la academia\, a la realización audiovisual y al activismo para ahondar sobre los contextos propuestos y analizar los documentales sugeridos.\nEste módulo del seminario tendrá dos modalidades de asistencia: remota\, a través de la plataforma Zoom\, y presencial en la Filmoteca de la UNAM. Se otorgarán constancias de participación con el 80% de las asistencias. Dirigida a: Público en general. \nActividad híbrida.  \nLugar: Filmoteca de la UNAM\, Circuito Mario de La Cueva s/n\, C.U.\, Coyoacán\, 04510\, Ciudad de México. \nEntrada libre\, previa inscripción. \nInscripción en: cineygenero@filmoteca.unam.mx  \n 
URL:https://coordinaciongenero.unam.mx/evento/seminario-mujeres-en-resistencia-2-conflictos-armados-desde-una-perspectiva-de-genero/
CATEGORIES:Cine con perspectiva de género
ATTACH;FMTTYPE=image/png:https://coordinaciongenero.unam.mx/wp-content/uploads/2021/01/unam-cigu-personas-orientadoras-textura.png
END:VEVENT
BEGIN:VEVENT
DTSTART;TZID=America/Chicago:20240926T163000
DTEND;TZID=America/Chicago:20241128T193000
DTSTAMP:20260424T215510
CREATED:20240926T185824Z
LAST-MODIFIED:20240926T190031Z
UID:58683-1727368200-1732822200@coordinaciongenero.unam.mx
SUMMARY:Curso «Otros modos de leer. Cuatro ensayísticas femeninas de los siglos XX y XXI: México y Argentina»
DESCRIPTION:Cada jueves del 26 de septiembre al 28 de noviembre | 16:30 a 19:30 h \nCurso «Otros modos de leer. Cuatro ensayísticas femeninas de los siglos XX y XXI: México y Argentina»  \nOrganizada por: Educación Continua y Educación a Distancia del  Instituto de Investigaciones Filológicas (IIF) \nSe propone leer\, comentar y analizar los ensayos más representativos y sugerentes de cuatro escritoras latinoamericanas cuya labor como ensayistas supone otro modo de leer\, otra forma de acercamiento a la literatura desde una subjetividad femenina. Así\, los discursos ensayísticos de Margo Glantz (1930) y Esther Seligson (1941-2010) en México\, de Sylvia Molloy (1938-2022) y Tamara Kamenszain (1947-2021) en Argentina serán abordados como ejemplos originales del ensayo contemporáneo dentro de la gran tradición hispanoamericana del género durante la segunda mitad del siglo XX hasta la actualidad. \nParticipante(s): Imparte: Dra. María Andrea Esparza Navarro  \nDirigida a: Estudiantes de Humanidades y Literatura\, así como al público en general interesado en ampliar su conocimiento sobre el ensayo contemporáneo escrito por mujeres en México y Argentina. \nActividad virtual \nMás información en: https://iifilologicas.unam.mx/index.php?page=proceso-de-inscripcion&reg=1653
URL:https://coordinaciongenero.unam.mx/evento/curso-otros-modos-de-leer-cuatro-ensayisticas-femeninas-de-los-siglos-xx-y-xxi-mexico-y-argentina/
CATEGORIES:Literatura
ATTACH;FMTTYPE=image/jpeg:https://coordinaciongenero.unam.mx/wp-content/uploads/2020/11/fodo-textura.jpg
END:VEVENT
BEGIN:VEVENT
DTSTART;TZID=America/Chicago:20241024T160000
DTEND;TZID=America/Chicago:20241205T170000
DTSTAMP:20260424T215510
CREATED:20241016T041125Z
LAST-MODIFIED:20260121T225943Z
UID:59264-1729785600-1733418000@coordinaciongenero.unam.mx
SUMMARY:Coloquio: «Imaginando un futuro sostenible con perspectiva de género»
DESCRIPTION:24 de octubre al 5 de diciembre de 2024 | 16:00 a 17:15 h \nColoquio: «Imaginando un futuro sostenible con perspectiva de género» \nOrganizada por: CInIG y POC del Instituto de Ecología (IE).  \nEste coloquio no sólo busca reflexionar sobre la intersección de temas como género\, sostenibilidad y gobernanza\, sino también busca generar propuestas para la acción a través del diálogo colaborativo entre académicos\, comunidades y activistas. \nSe llevará a cabo los siguientes días: 24 y 31 de octubre; 7\,14\, 21 y 28 de noviembre y 5 de diciembre. \nParticipante(s): Rocío Santos Gally\, IE-UNAM; Julia Tagüeña Parga\, IER-UNAM; Tatiana Klimova Berestneva\, FQ-UNAM; Dulce M. Arias Lizárraga\, IER-UNAM; Marina E. Rincón González\, IER-UNAM; Magali Hurtado Díaz\, Escuela de Salud Pública de México; Rosa Elena Sarmiento Silva\, FMVyZ-UNAM; Ana Cecilia Espinosa García\, IE-UNAM; Ana Elena Escalante\, IE-UNAM. \nDirigida a: Público en general. \nActividad híbrida. \nLugar: Instituto de Ecología\, Cto. Exterior S/N\, C.U.\, Coyoacán\, 04510\, Ciudad de México. \nSigue la transmisión: https://www.facebook.com/InstitutodeEcologiaUNAM/?ref=embed_page 
URL:https://coordinaciongenero.unam.mx/evento/coloquio-imaginando-un-futuro-sostenible-con-perspectiva-de-genero/
LOCATION:Instituto de Ecología\, UNAM
CATEGORIES:Cuidados,Mes de los Cuidados 2024
ATTACH;FMTTYPE=image/png:https://coordinaciongenero.unam.mx/wp-content/uploads/2024/09/cuidados24-paginaweb-06.png
END:VEVENT
BEGIN:VEVENT
DTSTART;VALUE=DATE:20241107
DTEND;VALUE=DATE:20241126
DTSTAMP:20260424T215510
CREATED:20241115T002114Z
LAST-MODIFIED:20241115T002114Z
UID:60219-1730937600-1732579199@coordinaciongenero.unam.mx
SUMMARY:«Colecta de artículos para donar a la Casa Hogar para Niñas Santa Rosa de Lima A.C»
DESCRIPTION:Organizada por: CInIG y POC del Centro de Geociencias. \nColecta de artículos a ser donados a niñas que han sufrido directa o indirectamente violencia en sus hogares. Las niñas ahora residen en la Casa Hogar para Niñas Santa Rosa de Lima A.C. en Querétaro. Las donaciones se recibirán en los contenedores para donación en la entrada principal y en los arquitos del Instituto de Geociencias. \nDirigida a: Comunidad del Instituto de Geociencias. \nActividad presencial. \nLugar: Contenedores para donación en la entrada principal y en los arquitos del Instituto de Geociencias\, en Blvd. Juriquilla 3001\, Campus UNAM 3001\, Juriquilla La Mesa\, 76230\, Juriquilla\, Querétaro. \nMás información: https://casa-hogar-para-ninas-santa-rosa-de-lima-ac.ueniweb.com/#amenities 
URL:https://coordinaciongenero.unam.mx/evento/colecta-de-articulos-para-donar-a-la-casa-hogar-para-ninas-santa-rosa-de-lima-a-c/
CATEGORIES:25N 2024,Violencia de Género
ATTACH;FMTTYPE=image/png:https://coordinaciongenero.unam.mx/wp-content/uploads/2024/10/25n24-paginaweb-2-06.png
END:VEVENT
BEGIN:VEVENT
DTSTART;TZID=America/Chicago:20241113T160000
DTEND;TZID=America/Chicago:20241129T160000
DTSTAMP:20260424T215510
CREATED:20241103T061621Z
LAST-MODIFIED:20241203T172134Z
UID:59753-1731513600-1732896000@coordinaciongenero.unam.mx
SUMMARY:Ciclo de conferencias: «Revolucionarias»
DESCRIPTION:En conmemoración del 114 aniversario del inicio de la Revolución Mexicana. Es necesario registrarse previamente\, se debe indicar la actividad\,  nombre completo y teléfono. \n  \n\nMiércoles 13 de noviembre | 16:00 h\n\n«Del campo de batalla a la pantalla. Las mujeres de la Revolución Mexicana en el cine mexicano: el caso de “la negra Angustias”» \nParticipante(s): Doctora Ilse Mayté Murillo Tenorio\, Universidad Autónoma de Querétaro. \n ﻿ \n  \n\nViernes 15 de noviembre | 16:00 h\n\n«Las mujeres en la revolución mexicana. Un punto de vista historiográfico» \nParticipante(s): Doctora Ana Lau Jaiven\, UAM-X\, y doctora Claudia Gamiño Estrada\, FEMU. \n ﻿ \n  \n\nMiércoles 20 de noviembre | 16:00 h\n\n«Las otras soldaderas. Mujeres periodistas de la Revolución Mexicana. 1910-1917» \nParticipante(s): Doctora Elvira Laura Hernández Carballido\, UAEH-FEMU\, y doctora Raquel Ramírez Salgado\, FEMU. \n ﻿ \n  \n\nViernes 22 de noviembre | 16:00 h\n\n«La india bonita: nación\, raza y género en el méxico revolucionario» \nParticipante(s): Doctora Apen Ruiz\, Universidad de Barcelona\, y doctora Ivett Magali Garcia Sandoval\, FEMU. \n ﻿ \n  \n\nViernes 29 de noviembre | 16:00 h\n\n«Mujeres en la Revolución Mexicana: Imaginarios Cinematográficos» \nParticipante(s):  Dra. Alma Delia Zamorano Rojas\, Universidad Panamericana\, y la doctora Lilia Esthela Bayardo Rodríguez\, FEMU. \n ﻿ \nDirigida a: Público en general. \nActividad virtual.
URL:https://coordinaciongenero.unam.mx/evento/ciclo-de-conferencias-revolucionarias/
LOCATION:YouTube
ATTACH;FMTTYPE=image/jpeg:https://coordinaciongenero.unam.mx/wp-content/uploads/2024/10/Museo-de-la-Mujer.jpg
END:VEVENT
BEGIN:VEVENT
DTSTART;VALUE=DATE:20241118
DTEND;VALUE=DATE:20241207
DTSTAMP:20260424T215510
CREATED:20241115T060735Z
LAST-MODIFIED:20241115T060759Z
UID:60359-1731888000-1733529599@coordinaciongenero.unam.mx
SUMMARY:Exposición: Miradas
DESCRIPTION:18 de noviembre al 06 de diciembre de 2024 \nExposición: «Miradas» \nOrganizado por: CInIG de la Facultad de Arquitectura.  \nExposición “Miradas”  tiene como objetivo visibilizar y reflexionar sobre cómo la comunidad estudiantil percibe su entorno en relación con la igualdad de género en la Facultad de Arquitectura\, a través de una interpretación abierta de tres 3 temáticos: Igualdad de oportunidades\, Apropiación del espacio\, Cotidianidad. Con el fin de promover la conciencia\, la participación y el diálogo sobre la necesidad de un entorno académico inclusivo\, equitativo y libre de violencia\, se proponen 3 formatos de participación: Fotografía\, Ilustración digital y Técnicas Mixtas.  \nParticipante(s): Comunidad de la Facultad de Arquitectura.  \nDirigida a: Todo público. \nActividad presencial. \nLugar: Cafetería de la Facultad de Arquitectura\, Circuito Escolar\, Ciudad Universitaria\, 04510 Coyoacán\, Ciudad de México.  \nMás información en: https://drive.google.com/file/d/157ifJrvA8IQOzJBzSSZ21YCHlcGtrKbF/view?usp=sharing  \nInscripción: https://forms.gle/HnLopjUS8gRRRhbB6
URL:https://coordinaciongenero.unam.mx/evento/exposicion-miradas/
LOCATION:Cafetería de la Facultad de Arquitectura
CATEGORIES:25N 2024,Arte y género
ATTACH;FMTTYPE=image/png:https://coordinaciongenero.unam.mx/wp-content/uploads/2024/10/25n24-paginaweb-2-06.png
END:VEVENT
BEGIN:VEVENT
DTSTART;VALUE=DATE:20241120
DTEND;VALUE=DATE:20241130
DTSTAMP:20260424T215510
CREATED:20241119T141925Z
LAST-MODIFIED:20260121T235410Z
UID:60643-1732060800-1732924799@coordinaciongenero.unam.mx
SUMMARY:Ciclo de cine: «100 aniversario de FFyL»
DESCRIPTION:Ciclo de cine: «100 aniversario de FFyL» \nProyección de las siguiente películas: \n  \n 20 de noviembre | 16:30 h  \nCosas de mujeres  y Mural efímero \n20 de noviembre | 18:30 h \nEl secreto de Romelia \n 29 de noviembre | 16:30 h  \nBajo la metralla \n 29 de noviembre | 19:00 h  \nVicios en la cocina\, las papas silban   \n  \nParticipante(s): Dra. Mónica Quijano\, Mtra. Karla Amozurrutia\, Mtra. Lilia García Torres\, Mtra. Diana Montes Montes. \nDirigida a: Público en general. \nActividad presencial. 
URL:https://coordinaciongenero.unam.mx/evento/ciclo-de-cine-ffyl/
LOCATION:Sala José Revueltas\, Av. Insurgentes Sur 3000\, C.U.\, Coyoacán\, 04510\, Ciudad de México\, Sala José Revueltas\, Av. Insurgentes Sur 3000\, C.U.\, Coyoacán\, 04510\, Ciudad de México\, Ciudad de México\, Coyoacán\, 04510\, Mexico
CATEGORIES:Cine con perspectiva de género,Perspectiva de género
ATTACH;FMTTYPE=image/jpeg:https://coordinaciongenero.unam.mx/wp-content/uploads/2021/03/TEXTURA-1AÑO_ytthumbnail.jpg
END:VEVENT
BEGIN:VEVENT
DTSTART;TZID=America/Chicago:20241121T120000
DTEND;TZID=America/Chicago:20241125T210000
DTSTAMP:20260424T215510
CREATED:20241122T001934Z
LAST-MODIFIED:20241202T214424Z
UID:61002-1732190400-1732568400@coordinaciongenero.unam.mx
SUMMARY:Seminario permanente: «Graciela Hierro Pérez Castro»
DESCRIPTION: 21 a 25 de noviembre 2024 | 12:00h a 21:00 h \nSeminario permanente: «Graciela Hierro Pérez Castro» \nOrganizada por: Escuela Nacional Preparatoria Plantel 8 «Miguel E. Schulz» (ENP 8). \nLa quinta edición del Seminario Permanente Graciela Hierro Pérez Castro se llevará a cabo del 21 al 25 de noviembre de 2024\, en conmemoración del 25N\, con el apoyo de los planteles 2\, 9 y 8 de la Escuela Nacional Preparatoria. \nParticipante(s): Arq. Ángel Huitrón Bernal\, Dra. Arcelia Moreno Agraz\, Mtro. Roberto García García\, Dr. Elías Joel Ramírez Martínez\, Lic. Omar Sánchez Rincón\, Psic. Víctor Hugo Méndez Zepeda\, Mtro. César }Luis Acevedo Gutiérrez y Mtra. Carmen M. Herrera Mejía de la Escuela Nacional Preparatoria plantel 8 “Miguel E. Schulz”; Dra. Nohemí González Diaz Barriga\, Mtro. Benjamín Tavera Gómez\, Mtro. Fernando Nazario López y Dra. Mayra Santos Medina de la Escuela Nacional Preparatoria plantel 2 “Erasmo Castellanos Quinto”; Mtro. Raziel Valdez Rodríguez de la Escuela Nacional Preparatoria plantel 9 “Pedro de Alba”; Dra. Paola Otero Valladares de la Escuela Nacional Preparatoria plantel 5 “José Vasconcelos”; Ángel M. Huitrón Sobrado Estudiante de Psicología de la Universidad Modelo de Mérida Yucatán; Mtra. Teresa del Carmen Campos Cruz de la Universidad Tecnológica (UNITEC) de San Luis Potosí; Psic. Julio C. Pérez Martínez y Psic. Liliana S. Díaz Tapia\, estudiantes de la Maestría en Docencia para la Educación Media Superior en Psicología. \nDirigida a: Comunidad del plantel.  \nActividad híbrida.  \nSigue la transmisión por: https://www.youtube.com/channel/UCVL0uuyTDfinmptjfzk-BrQ  \nLugar: ENP 8\, Av. Lomas de Plateros s/n Esq. Merced Gómez\, 01600\, Álvaro Obregón\, Ciudad de México.
URL:https://coordinaciongenero.unam.mx/evento/seminario-permanente-graciela-hierro-perez-castro/
LOCATION:Escuela Nacional Preparatoria Plantel 8 «Miguel E. Schulz» (ENP 8)\, Av. Lomas de Plateros s/n Esq. Merced Gómez\, Ciudad de México\, 01600
CATEGORIES:25N 2024
ATTACH;FMTTYPE=image/png:https://coordinaciongenero.unam.mx/wp-content/uploads/2024/10/25n24-paginaweb-2-01.png
END:VEVENT
BEGIN:VEVENT
DTSTART;TZID=America/Chicago:20241121T160000
DTEND;TZID=America/Chicago:20241205T160000
DTSTAMP:20260424T215510
CREATED:20241206T235116Z
LAST-MODIFIED:20260122T003043Z
UID:61507-1732204800-1733414400@coordinaciongenero.unam.mx
SUMMARY:Coloquio de otoño: «Imaginando un mundo sostenible con perspectiva de género»
DESCRIPTION:21 y 28 de noviembre y 05 de diciembre 2024 | 16:00 h \nColoquio de otoño: «Imaginando un mundo sostenible con perspectiva de género»\nLos objetivos del Coloquio son a) impulsar entre la comunidad del Instituto de Ecología un diálogo y reflexión sobre la intersección de temas como el género\, sostenibilidad y gobernanza. b) conocer y difundir el trabajo que las académicas realizan en favor del medio ambiente y la sostenibilidad. Los coloquios de otoño son reuniones de alrededor de una hora para conversar sobre sostenibilidad y género. Quien modere hará una presentación sucinta del tema y las invitadas\, moderará un diálogo a partir de preguntas abiertas y después integrará las preguntas de las personas del público. \n  \n\n21 de noviembre de 2025 | 16:00 h\n\nParticipante(s): Ayari Genevieve Pasquier Merino\, CEIICH UNAM; Tania Monserratt Téllez Serrano\, Semillas de Vida A.C.; Karina Boege Paré\, IE UNAM; Rocío Santos Gally\, IE UNAM. \n  \n\n28 de noviembre de 2024 | 16:00 h\n\nParticipante(s): Julia Tagüeña Parga\, IER UNAM; Tatiana Klimova Berestneva\, Facultad de Química UNAM; Dulce María Arias Lizárraga\, IER UNAM; Marina Elizabeth Rincón González\, IER UNAM. \n  \n\n05 de diciembre de 2024 | 16:00 h\n\nParticipante(s): Magali Hurtado Díaz\, Escuela de Salud Pública de México; Rosa Elena Sarmiento Silva\, FMVyZ UNAM; Ana Cecilia Espinosa García\, IE\, UNAM; Ana Escalante Hernández\, IE\, UNAM. \nDirigida a: Público en general. \nActividad híbrida. \nLugar: Instituto de Ecología\, Cto. Exterior S/N\, C.U.\, Coyoacán\, 04510\, Ciudad de México \n  \n  ﻿
URL:https://coordinaciongenero.unam.mx/evento/imaginando-un-mundo-sostenible-con-perspectiva-de-genero/
LOCATION:Instituto de Ecología\, UNAM
CATEGORIES:Medio Ambiente,Perspectiva de género
ATTACH;FMTTYPE=image/png:https://coordinaciongenero.unam.mx/wp-content/uploads/2021/03/8M-morado_fondozoom-e1614912370189.png
END:VEVENT
BEGIN:VEVENT
DTSTART;TZID=America/Chicago:20241123T100000
DTEND;TZID=America/Chicago:20241123T120000
DTSTAMP:20260424T215510
CREATED:20241116T015806Z
LAST-MODIFIED:20241116T015806Z
UID:60479-1732356000-1732363200@coordinaciongenero.unam.mx
SUMMARY:Mesa de análisis literario: «El invencible verano de Liliana de Cristina Rivera Garza»
DESCRIPTION:Organizada por: CInIG de la Facultad de Derecho. \nEn esta actividad dos profesoras de la Facultad de Derecho y alumnxs del Sistema de Universidad Abierto y Educación a Distancia (SUAyED) analizarán una obra literaria a través de una mesa de diálogo con enfoque en la prevención de la violencia contra las mujeres y perspectiva de género. \nParticipante(s): Lic. Leslie Jiménez Urzúa y Dra. Alejandra Marlene Gómez Barrera\, catedráticas de la Facultad de Derecho; Katia Marlen Guerrero Corrales y Valeria Bianca González Cruz\, alumnas de la Facultad de Derecho.  \nActividad presencial \nLugar: Auditorio Benito Juárez. Circuito Escolar 3000\, Coyoacán\, Ciudad Universitaria\, 04510\, Ciudad de México. \nMás información: https://www.facebook.com/@DerechoUNAM/?locale=es_LA
URL:https://coordinaciongenero.unam.mx/evento/mesa-de-analisis-literario-el-invencible-verano-de-liliana-de-cristina-rivera-garza/
CATEGORIES:25N 2024,Literatura
ATTACH;FMTTYPE=image/png:https://coordinaciongenero.unam.mx/wp-content/uploads/2024/10/25n24-paginaweb-04.png
END:VEVENT
BEGIN:VEVENT
DTSTART;TZID=America/Chicago:20241123T160000
DTEND;TZID=America/Chicago:20241123T160000
DTSTAMP:20260424T215510
CREATED:20241103T063939Z
LAST-MODIFIED:20241105T201927Z
UID:59755-1732377600-1732377600@coordinaciongenero.unam.mx
SUMMARY:Conferencia: «Notas sobre el amor romántico y la pérdida de identidad en Minotauromaquia de Tita Valencia»
DESCRIPTION:23 de noviembre de 2024 | 16:00 h \nConferencia: «Notas sobre el amor romántico y la pérdida de identidad en Minotauromaquia de Tita Valencia» \nEs necesario registrarse previamente\, se debe indicar la actividad\,  nombre completo y teléfono. \nDirigida a: Público en general. \nActividad presencial. \nLugar: Museo de la Mujer\, República de Bolivia 17\, Cuauhtémoc\, 06020\, Ciudad de México. \nInformes y registro: recepcionmuseomujer@gmail.com
URL:https://coordinaciongenero.unam.mx/evento/conferencia-notas-sobre-el-amor-romantico-y-la-perdida-de-identidad-en-minotauromaquia-de-tita-valencia/
LOCATION:Museo de la Mujer\, República de Bolivia 17\, Centro Histórico\, Alcaldía Cuauhtémoc\, Ciudad de México\, 06020\, Mexico
CATEGORIES:Amor romántico,Conferencia,Literatura
ATTACH;FMTTYPE=image/jpeg:https://coordinaciongenero.unam.mx/wp-content/uploads/2024/10/Museo-de-la-Mujer.jpg
END:VEVENT
END:VCALENDAR