BEGIN:VCALENDAR
VERSION:2.0
PRODID:-//Coordinación para la Igualdad de Género UNAM - ECPv6.15.20//NONSGML v1.0//EN
CALSCALE:GREGORIAN
METHOD:PUBLISH
X-WR-CALNAME:Coordinación para la Igualdad de Género UNAM
X-ORIGINAL-URL:https://coordinaciongenero.unam.mx
X-WR-CALDESC:Eventos para Coordinación para la Igualdad de Género UNAM
REFRESH-INTERVAL;VALUE=DURATION:PT1H
X-Robots-Tag:noindex
X-PUBLISHED-TTL:PT1H
BEGIN:VTIMEZONE
TZID:America/Chicago
BEGIN:DAYLIGHT
TZOFFSETFROM:-0600
TZOFFSETTO:-0500
TZNAME:CDT
DTSTART:20230312T080000
END:DAYLIGHT
BEGIN:STANDARD
TZOFFSETFROM:-0500
TZOFFSETTO:-0600
TZNAME:CST
DTSTART:20231105T070000
END:STANDARD
BEGIN:DAYLIGHT
TZOFFSETFROM:-0600
TZOFFSETTO:-0500
TZNAME:CDT
DTSTART:20240310T080000
END:DAYLIGHT
BEGIN:STANDARD
TZOFFSETFROM:-0500
TZOFFSETTO:-0600
TZNAME:CST
DTSTART:20241103T070000
END:STANDARD
BEGIN:DAYLIGHT
TZOFFSETFROM:-0600
TZOFFSETTO:-0500
TZNAME:CDT
DTSTART:20250309T080000
END:DAYLIGHT
BEGIN:STANDARD
TZOFFSETFROM:-0500
TZOFFSETTO:-0600
TZNAME:CST
DTSTART:20251102T070000
END:STANDARD
BEGIN:DAYLIGHT
TZOFFSETFROM:-0600
TZOFFSETTO:-0500
TZNAME:CDT
DTSTART:20260308T080000
END:DAYLIGHT
BEGIN:STANDARD
TZOFFSETFROM:-0500
TZOFFSETTO:-0600
TZNAME:CST
DTSTART:20261101T070000
END:STANDARD
END:VTIMEZONE
BEGIN:VEVENT
DTSTART;TZID=America/Chicago:20240828T130000
DTEND;TZID=America/Chicago:20241113T150000
DTSTAMP:20260425T133926
CREATED:20240828T212500Z
LAST-MODIFIED:20240828T212500Z
UID:57747-1724850000-1731510000@coordinaciongenero.unam.mx
SUMMARY:Curso: «Repensando la Masculinidad dirigido a estudiantes hombres de la UNAM»
DESCRIPTION:28 de agosto \n04\, 11\, 18 y 25 de septiembre \n02\, 09\, 16\, 23 y 30 octubre \n06 y 13 de noviembre de 2024 | 13:00 a 15:00 h \nOrganizada por: La Comisión de Equidad de la Facultad de Ciencias. \nLas inscripciones estarán abiertas hasta iniciar el curso\, en cuanto el curso se llene el formulario mostrará un mensaje de “cupo lleno” mientras no muestre ese texto el cupo estará abierto. \nDirigida a: Estudiantes hombres de la UNAM. \nActividad presencial. \nLugar: Sala Sotero Prieto 3 del Conjunto Amoxcalli de la Facultad de Ciencias. \nRegistro previo:  https://forms.gle/KD6uxQqHf14Sqzzf8 \nMás información:  equidad@ciencias.unam.mx
URL:https://coordinaciongenero.unam.mx/evento/curso-repensando-la-masculinidad-dirigido-a-estudiantes-hombres-de-la-unam/
CATEGORIES:Masculinidades
ATTACH;FMTTYPE=image/png:https://coordinaciongenero.unam.mx/wp-content/uploads/2021/01/unam-cigu-personas-orientadoras-textura.png
END:VEVENT
BEGIN:VEVENT
DTSTART;TZID=America/Chicago:20240828T160000
DTEND;TZID=America/Chicago:20241113T170000
DTSTAMP:20260425T133926
CREATED:20240828T213308Z
LAST-MODIFIED:20240828T213308Z
UID:57760-1724860800-1731517200@coordinaciongenero.unam.mx
SUMMARY:Curso: «Repensando la Masculinidad dirigido a académicos y administrativos hombres de la UNAM»
DESCRIPTION:28 de agosto \n04\, 11\, 18 y 25 de septiembre \n02\, 09\, 16\, 23 y 30 octubre \n06 y 13 de noviembre de 2024 | 16:00 17:30 h \nOrganizada por: La Comisión de Equidad de la Facultad de Ciencias. \nLas inscripciones estarán abiertas hasta iniciar el curso\, en cuanto el curso se llene el formulario mostrará un mensaje de “cupo lleno” mientras no muestre ese texto el cupo estará abierto. \nDirigida a: Académicos y administrativos hombres de la UNAM. \nActividad presencial. \nLugar: Sala Sotero Prieto 3 del Conjunto Amoxcalli de la Facultad de Ciencias. \nRegistro previo:   https://forms.gle/cVTTvZiVjs1VXjbc7 \nMás información:  equidad@ciencias.unam.mx
URL:https://coordinaciongenero.unam.mx/evento/curso-repensando-la-masculinidad-dirigido-a-academicos-y-administrativos-hombres-de-la-unam/
CATEGORIES:Masculinidades
ATTACH;FMTTYPE=image/png:https://coordinaciongenero.unam.mx/wp-content/uploads/2021/01/unam-cigu-personas-orientadoras-textura.png
END:VEVENT
BEGIN:VEVENT
DTSTART;TZID=America/Chicago:20240925T160000
DTEND;TZID=America/Chicago:20250115T200000
DTSTAMP:20260425T133926
CREATED:20241002T222515Z
LAST-MODIFIED:20241002T222515Z
UID:58816-1727280000-1736971200@coordinaciongenero.unam.mx
SUMMARY:Seminario: «Mujeres en resistencia 2. Conflictos armados desde una perspectiva de género"»
DESCRIPTION:Organizada por: Filmoteca de la UNAM. \nEn este módulo del Seminario Permanente Cine y Género continuaremos con la exploración del módulo anterior sobre cómo las mujeres han creado mecanismos para hacer frente a los conflictos armados mientras éstos se desarrollan\, pero también para luchar por la liberación\, la memoria y la paz una vez que cesan las escaladas de violencia. A través de películas documentales\, revisaremos contextos específicos\, como la resistencia del pueblo mapuche en Chile y las luchas emancipadoras de las mujeres kurdas y saharauis\, así como los movimientos guerrilleros y los estragos de la guerra contra el narcotráfico\, tanto en México como en Colombia. Asimismo\, conversaremos con personas dedicadas a la academia\, a la realización audiovisual y al activismo para ahondar sobre los contextos propuestos y analizar los documentales sugeridos.\nEste módulo del seminario tendrá dos modalidades de asistencia: remota\, a través de la plataforma Zoom\, y presencial en la Filmoteca de la UNAM. Se otorgarán constancias de participación con el 80% de las asistencias. Dirigida a: Público en general. \nActividad híbrida.  \nLugar: Filmoteca de la UNAM\, Circuito Mario de La Cueva s/n\, C.U.\, Coyoacán\, 04510\, Ciudad de México. \nEntrada libre\, previa inscripción. \nInscripción en: cineygenero@filmoteca.unam.mx  \n 
URL:https://coordinaciongenero.unam.mx/evento/seminario-mujeres-en-resistencia-2-conflictos-armados-desde-una-perspectiva-de-genero/
CATEGORIES:Cine con perspectiva de género
ATTACH;FMTTYPE=image/png:https://coordinaciongenero.unam.mx/wp-content/uploads/2021/01/unam-cigu-personas-orientadoras-textura.png
END:VEVENT
BEGIN:VEVENT
DTSTART;TZID=America/Chicago:20240926T163000
DTEND;TZID=America/Chicago:20241128T193000
DTSTAMP:20260425T133926
CREATED:20240926T185824Z
LAST-MODIFIED:20240926T190031Z
UID:58683-1727368200-1732822200@coordinaciongenero.unam.mx
SUMMARY:Curso «Otros modos de leer. Cuatro ensayísticas femeninas de los siglos XX y XXI: México y Argentina»
DESCRIPTION:Cada jueves del 26 de septiembre al 28 de noviembre | 16:30 a 19:30 h \nCurso «Otros modos de leer. Cuatro ensayísticas femeninas de los siglos XX y XXI: México y Argentina»  \nOrganizada por: Educación Continua y Educación a Distancia del  Instituto de Investigaciones Filológicas (IIF) \nSe propone leer\, comentar y analizar los ensayos más representativos y sugerentes de cuatro escritoras latinoamericanas cuya labor como ensayistas supone otro modo de leer\, otra forma de acercamiento a la literatura desde una subjetividad femenina. Así\, los discursos ensayísticos de Margo Glantz (1930) y Esther Seligson (1941-2010) en México\, de Sylvia Molloy (1938-2022) y Tamara Kamenszain (1947-2021) en Argentina serán abordados como ejemplos originales del ensayo contemporáneo dentro de la gran tradición hispanoamericana del género durante la segunda mitad del siglo XX hasta la actualidad. \nParticipante(s): Imparte: Dra. María Andrea Esparza Navarro  \nDirigida a: Estudiantes de Humanidades y Literatura\, así como al público en general interesado en ampliar su conocimiento sobre el ensayo contemporáneo escrito por mujeres en México y Argentina. \nActividad virtual \nMás información en: https://iifilologicas.unam.mx/index.php?page=proceso-de-inscripcion&reg=1653
URL:https://coordinaciongenero.unam.mx/evento/curso-otros-modos-de-leer-cuatro-ensayisticas-femeninas-de-los-siglos-xx-y-xxi-mexico-y-argentina/
CATEGORIES:Literatura
ATTACH;FMTTYPE=image/jpeg:https://coordinaciongenero.unam.mx/wp-content/uploads/2020/11/fodo-textura.jpg
END:VEVENT
BEGIN:VEVENT
DTSTART;TZID=America/Chicago:20241024T160000
DTEND;TZID=America/Chicago:20241205T170000
DTSTAMP:20260425T133926
CREATED:20241016T041125Z
LAST-MODIFIED:20260121T225943Z
UID:59264-1729785600-1733418000@coordinaciongenero.unam.mx
SUMMARY:Coloquio: «Imaginando un futuro sostenible con perspectiva de género»
DESCRIPTION:24 de octubre al 5 de diciembre de 2024 | 16:00 a 17:15 h \nColoquio: «Imaginando un futuro sostenible con perspectiva de género» \nOrganizada por: CInIG y POC del Instituto de Ecología (IE).  \nEste coloquio no sólo busca reflexionar sobre la intersección de temas como género\, sostenibilidad y gobernanza\, sino también busca generar propuestas para la acción a través del diálogo colaborativo entre académicos\, comunidades y activistas. \nSe llevará a cabo los siguientes días: 24 y 31 de octubre; 7\,14\, 21 y 28 de noviembre y 5 de diciembre. \nParticipante(s): Rocío Santos Gally\, IE-UNAM; Julia Tagüeña Parga\, IER-UNAM; Tatiana Klimova Berestneva\, FQ-UNAM; Dulce M. Arias Lizárraga\, IER-UNAM; Marina E. Rincón González\, IER-UNAM; Magali Hurtado Díaz\, Escuela de Salud Pública de México; Rosa Elena Sarmiento Silva\, FMVyZ-UNAM; Ana Cecilia Espinosa García\, IE-UNAM; Ana Elena Escalante\, IE-UNAM. \nDirigida a: Público en general. \nActividad híbrida. \nLugar: Instituto de Ecología\, Cto. Exterior S/N\, C.U.\, Coyoacán\, 04510\, Ciudad de México. \nSigue la transmisión: https://www.facebook.com/InstitutodeEcologiaUNAM/?ref=embed_page 
URL:https://coordinaciongenero.unam.mx/evento/coloquio-imaginando-un-futuro-sostenible-con-perspectiva-de-genero/
LOCATION:Instituto de Ecología\, UNAM
CATEGORIES:Cuidados,Mes de los Cuidados 2024
ATTACH;FMTTYPE=image/png:https://coordinaciongenero.unam.mx/wp-content/uploads/2024/09/cuidados24-paginaweb-06.png
END:VEVENT
BEGIN:VEVENT
DTSTART;TZID=America/Chicago:20241106T120000
DTEND;TZID=America/Chicago:20241112T120000
DTSTAMP:20260425T133926
CREATED:20241104T212130Z
LAST-MODIFIED:20241104T214430Z
UID:59798-1730894400-1731412800@coordinaciongenero.unam.mx
SUMMARY:Exposición: «Lenguaje y género. Visibilizando a las mujeres»
DESCRIPTION:06 al 12 de noviembre de 2024 | 12:00 h \nExposición: «Lenguaje y género. Visibilizando a las mujeres» \nEn el marco de las  actividades conmemorativas por el XXV aniversario de la Facultad de Artes de la UAEM\, así como por el Día Internacional para la Eliminación de la Violencia contra las Mujeres. \nParticipante(s): Marisa Belausteguigoitia\, Amneris Chaparro\, Modesta García\, Janaina Molinar\, Hortensia Moreno\, Alejandra Tapia\, César Torres\, Salma Vasquéz\, Guadalupe López\, Isadora Escobedo\, Larisa Escobedo y Yunuen Díaz. \nDirigida a: Público en general. \nActividad presencial. \nLugar: Galería exterior Víctor Manuel Contreras\, Torre Universitaria\, UAEM. Universidad Autonoma del Estado de Morelos\, 62210 Cuernavaca\, Mor. \n  \nMás información
URL:https://coordinaciongenero.unam.mx/evento/exposicion-lenguaje-y-genero-visibilizando-a-las-mujeres-2/
LOCATION:Torre Universitaria\, UAEM\, Universidad Autonoma del Estado de Morelos\,\, Cuernavaca\, Morelos\, 62210\, Mexico
CATEGORIES:25N 2024,Arte y género
ATTACH;FMTTYPE=image/png:https://coordinaciongenero.unam.mx/wp-content/uploads/2024/10/25n24-paginaweb-05.png
END:VEVENT
BEGIN:VEVENT
DTSTART;VALUE=DATE:20241107
DTEND;VALUE=DATE:20241126
DTSTAMP:20260425T133926
CREATED:20241115T002114Z
LAST-MODIFIED:20241115T002114Z
UID:60219-1730937600-1732579199@coordinaciongenero.unam.mx
SUMMARY:«Colecta de artículos para donar a la Casa Hogar para Niñas Santa Rosa de Lima A.C»
DESCRIPTION:Organizada por: CInIG y POC del Centro de Geociencias. \nColecta de artículos a ser donados a niñas que han sufrido directa o indirectamente violencia en sus hogares. Las niñas ahora residen en la Casa Hogar para Niñas Santa Rosa de Lima A.C. en Querétaro. Las donaciones se recibirán en los contenedores para donación en la entrada principal y en los arquitos del Instituto de Geociencias. \nDirigida a: Comunidad del Instituto de Geociencias. \nActividad presencial. \nLugar: Contenedores para donación en la entrada principal y en los arquitos del Instituto de Geociencias\, en Blvd. Juriquilla 3001\, Campus UNAM 3001\, Juriquilla La Mesa\, 76230\, Juriquilla\, Querétaro. \nMás información: https://casa-hogar-para-ninas-santa-rosa-de-lima-ac.ueniweb.com/#amenities 
URL:https://coordinaciongenero.unam.mx/evento/colecta-de-articulos-para-donar-a-la-casa-hogar-para-ninas-santa-rosa-de-lima-a-c/
CATEGORIES:25N 2024,Violencia de Género
ATTACH;FMTTYPE=image/png:https://coordinaciongenero.unam.mx/wp-content/uploads/2024/10/25n24-paginaweb-2-06.png
END:VEVENT
BEGIN:VEVENT
DTSTART;TZID=America/Chicago:20241110T120000
DTEND;TZID=America/Chicago:20241117T120000
DTSTAMP:20260425T133926
CREATED:20241103T060522Z
LAST-MODIFIED:20241105T200651Z
UID:59750-1731240000-1731844800@coordinaciongenero.unam.mx
SUMMARY:Conferencia: «Mulieres: las mujeres en la antigua Roma»
DESCRIPTION:10  y  17 de noviembre de 2024 | 12:00 h \nConferencia: «Mulieres: las mujeres en la antigua Roma» \nEs necesario registrarse previamente\, se debe indicar la actividad\,  nombre completo y teléfono. \nParticipante(s): Davide Dalla Vigna\, Universidad Ca´Foscari Venecia y Tzazil Valencia Oseguera\, FEMU. \nDirigida a: Público en general. \nActividad presencial. \nLugar: Museo de la Mujer\, República de Bolivia 17\, Cuauhtémoc\, 06020\, Ciudad de México. \nRegistro: recepcionmuseomujer@gmail.com
URL:https://coordinaciongenero.unam.mx/evento/conferencia-mulieres-las-mujeres-en-la-antigua-roma/
LOCATION:Museo de la Mujer\, República de Bolivia 17\, Centro Histórico\, Alcaldía Cuauhtémoc\, Ciudad de México\, 06020\, Mexico
CATEGORIES:Conferencia
ATTACH;FMTTYPE=image/jpeg:https://coordinaciongenero.unam.mx/wp-content/uploads/2024/10/Museo-de-la-Mujer.jpg
END:VEVENT
BEGIN:VEVENT
DTSTART;TZID=America/Chicago:20241111T110000
DTEND;TZID=America/Chicago:20241111T110000
DTSTAMP:20260425T133926
CREATED:20241116T003705Z
LAST-MODIFIED:20241116T003705Z
UID:60398-1731322800-1731322800@coordinaciongenero.unam.mx
SUMMARY:Taller: «Fanzine»
DESCRIPTION:Organizada por: CInIG y POC de la Facultad de Artes y Diseño (FAD). \nEl lunes 11 de noviembre se hará una lectura en el Espacio Violeta de la FAD para desarrollar un proyecto de Fanzine en taller el martes 12 de noviembre y posteriormente los Fanzines se expondrán el martes 19 de noviembre a las 10:00 h. \nParticipante(s): Mtra. Miriam Torralba e integrantes CInIG FAD y POC FAD. \nDirigida a: Comunidad de la FAD \nActividad presencial \nLugar: Espacio Violeta FAD y Taller T-117-B. Prol. Constitución 58A\, La Concha\, Xochimilco\, 16210 Ciudad de México. \n 
URL:https://coordinaciongenero.unam.mx/evento/taller-fanzine/
CATEGORIES:25N 2024,Feminismos
ATTACH;FMTTYPE=image/png:https://coordinaciongenero.unam.mx/wp-content/uploads/2024/10/25n24-paginaweb-2-06.png
END:VEVENT
BEGIN:VEVENT
DTSTART;TZID=America/Chicago:20241111T110000
DTEND;TZID=America/Chicago:20241111T120000
DTSTAMP:20260425T133926
CREATED:20241115T055855Z
LAST-MODIFIED:20241115T055855Z
UID:60353-1731322800-1731326400@coordinaciongenero.unam.mx
SUMMARY:Conversatorio: «Conversatorio a 50 años del natalicio de Susana Chávez "Ni una más\, ni una asesinada más"»
DESCRIPTION:11 de noviembre de 2024 | 12 h \nConversatorio: «Conversatorio a 50 años del natalicio de Susana Chávez “Ni una más\, ni una asesinada más”» \nOrganizado por: Escuela Nacional de Estudios Superiores Unidad León (ENES León) y Licenciatura en Desarrollo y Gestión Interculturales. \nConversatorio homenaje a 50 años del nacimiento de la activista y poeta Susana Chávez\, víctima de feminicidio en 2011. \nParticipante(s): Mtra. Eloísa Arenas Torresdey\, de Escritoras Neplantecas y Lesbicats by Xolas; Dra. Hilda Sotelo Aguirre\, Departamento de estudios de la mujer y género de la Universidad de Texas en el Paso. \nDirigida a: Universitarias.
URL:https://coordinaciongenero.unam.mx/evento/conversatorio-conversatorio-a-50-anos-del-natalicio-de-susana-chavez-ni-una-mas-ni-una-asesinada-mas/
CATEGORIES:25N 2024,Prevención de la Violencia de Género
ATTACH;FMTTYPE=image/png:https://coordinaciongenero.unam.mx/wp-content/uploads/2024/10/25n24-paginaweb-02.png
END:VEVENT
BEGIN:VEVENT
DTSTART;TZID=America/Chicago:20241111T120000
DTEND;TZID=America/Chicago:20241111T120000
DTSTAMP:20260425T133926
CREATED:20241116T014051Z
LAST-MODIFIED:20241116T014051Z
UID:60461-1731326400-1731326400@coordinaciongenero.unam.mx
SUMMARY:Conferencia: «Violencia estética y digital»
DESCRIPTION:Organizada por: POC de la Facultad de Estudios Superiores (FES) Acatlán. \nConferencia que busca visibilizar la violencia estética que viven las mujeres\, los estereotipos de belleza y su efecto en el mundo digital.  \nParticipante(s): Mtra. María de Jesús López Alcalde; lic. José Trinidad Cázarez Mata. \nDirigida a: Todo público. \nActividad presencial. \nLugar: Sala de Juicios Orales II. Avenida Alcanfores y San Juan Totoltepec s/n\, Sta Cruz Acatlan 53150 Naucalpan de Juárez\, Estado de México.
URL:https://coordinaciongenero.unam.mx/evento/conferencia-violencia-estetica-y-digital/
CATEGORIES:25N 2024,Prevención de la Violencia de Género
ATTACH;FMTTYPE=image/png:https://coordinaciongenero.unam.mx/wp-content/uploads/2024/10/25n24-paginaweb-02.png
END:VEVENT
BEGIN:VEVENT
DTSTART;TZID=America/Chicago:20241111T140000
DTEND;TZID=America/Chicago:20241111T140000
DTSTAMP:20260425T133926
CREATED:20241115T015148Z
LAST-MODIFIED:20241115T015351Z
UID:60303-1731333600-1731333600@coordinaciongenero.unam.mx
SUMMARY:Taller práctico: «StandUp contra el acoso callejero»
DESCRIPTION:Organizado por: CInIG de la Facultad de Arquitectura.  \nTaller práctico sobre cómo enfrentar y prevenir situaciones de acoso callejero\, enseñando estrategias y métodos de intervención seguros para protegerse y contribuir a la construcción de espacios libres de violencia. \nParticipante(s): Casa Gaviota: Un vuelo sin violencia A.C. \nDirigida a: Todo público. \nActividad presencial. \nLugar: Aula Francisco Centeno\, Facultad de Arquitectura\, Circuito Escolar Ciudad Universitaria 04510 Coyoacán\, Ciudad de México. \nMás información: https://drive.google.com/file/d/1_eHI7UYOk5lNv6DI_XGwMPdya-wFkSx2/view
URL:https://coordinaciongenero.unam.mx/evento/taller-practico-standup-contra-el-acoso-callejero/
CATEGORIES:25N 2024,Prevención de la Violencia de Género
ATTACH;FMTTYPE=image/png:https://coordinaciongenero.unam.mx/wp-content/uploads/2024/10/25n24-paginaweb-2-03.png
END:VEVENT
BEGIN:VEVENT
DTSTART;TZID=America/Chicago:20241111T140000
DTEND;TZID=America/Chicago:20241111T140000
DTSTAMP:20260425T133926
CREATED:20241116T003524Z
LAST-MODIFIED:20241202T215829Z
UID:60396-1731333600-1731333600@coordinaciongenero.unam.mx
SUMMARY:Charla: «Amor sin tanto cuento»
DESCRIPTION:Proporcionar estrategias para desmitificar conceptos erróneos sobre el amor romántico y la violencia de pareja\, así como identificar signos de alerta y promover una cultura de prevención. \nParticipante(s): Psicóloga Daniela González. \nDirigida a: Comunidad de la FAD \nDisponible en: https://fb.watch/wdVzUSP98g/  \n 
URL:https://coordinaciongenero.unam.mx/evento/charla-amor-sin-tanto-cuento/
LOCATION:Facebook
CATEGORIES:25N 2024,Amor romántico
ATTACH;FMTTYPE=image/png:https://coordinaciongenero.unam.mx/wp-content/uploads/2024/10/25n24-paginaweb-02.png
END:VEVENT
BEGIN:VEVENT
DTSTART;TZID=America/Chicago:20241111T140000
DTEND;TZID=America/Chicago:20241111T140000
DTSTAMP:20260425T133926
CREATED:20241116T013618Z
LAST-MODIFIED:20241202T225609Z
UID:60457-1731333600-1731333600@coordinaciongenero.unam.mx
SUMMARY:Conversatorio: «Literatura y Feminismo»
DESCRIPTION:Conversatorio en el que se hará un recorrido sobre la historia del feminismo a través de la literatura.  \nParticipante(s): Esp. Lucero Gómez Cruz; lic. Fernanda Soru Gatica. \nDirigida a: Todo público. \nActividad en línea. \n 
URL:https://coordinaciongenero.unam.mx/evento/conversatorio-literatura-y-feminismo/
CATEGORIES:25N 2024,Literatura
ATTACH;FMTTYPE=image/png:https://coordinaciongenero.unam.mx/wp-content/uploads/2024/10/25n24-paginaweb-02.png
END:VEVENT
BEGIN:VEVENT
DTSTART;TZID=America/Chicago:20241111T160000
DTEND;TZID=America/Chicago:20241111T210000
DTSTAMP:20260425T133926
CREATED:20241119T171322Z
LAST-MODIFIED:20260121T235411Z
UID:60708-1731340800-1731358800@coordinaciongenero.unam.mx
SUMMARY:Taller: «Entre historias nos descubrimos»
DESCRIPTION:Taller: «Entre historias nos descubrimos» \nTaller narrativo sobre violencias de género contra las mujeres. \nParticipante(s): Denise Cabrera\, psicóloga integrante de la Unidad de Género e Igualdad. \nDirigida a: Mujeres en situación de violencia de la FQ. \nActividad presencial.
URL:https://coordinaciongenero.unam.mx/evento/taller-entre-historias-nos-descubrimos/
LOCATION:Salón de precursores\, Edificio F de la FQ\, Escolar 3000\, C.U.\, Coyoacán\, 04510\, Ciudad de México.\, Salón de precursores\, Edificio F de la FQ\, Escolar 3000\, C.U.\, Coyoacán\, 04510\, Ciudad de México.\, Ciudad de México\, Coyoacán\, 04510\, Mexico
CATEGORIES:25N 2024,Perspectiva de género,Taller,Violencia de Género
ATTACH;FMTTYPE=image/png:https://coordinaciongenero.unam.mx/wp-content/uploads/2024/10/25n24-paginaweb-01.png
END:VEVENT
BEGIN:VEVENT
DTSTART;TZID=America/Chicago:20241111T180000
DTEND;TZID=America/Chicago:20241111T180000
DTSTAMP:20260425T133926
CREATED:20241116T020542Z
LAST-MODIFIED:20241116T020542Z
UID:60489-1731348000-1731348000@coordinaciongenero.unam.mx
SUMMARY:Encuentro multidisciplinario: «Nuevas perspectivas para abordar la violencia contra las mujeres en los estudios de posgrado»
DESCRIPTION:Organizada por: Facultad de Estudios Superiores (FES) Acatlán. \nInvestigadoras feministas de posgrado de la Facultad de Estudios Superiores Acatlán conversaran sobre la violencia contra las mujeres. \nParticipante(s): Lic. Adriana Estefania Barragan Alvarado; Jessica Alicia Veloz Cano; mtra. Alondra Servin Velázquez; lic. Denisse Rodríguez Vargas; lic. Angélica del Angel Morales; mtra. Yajaira Montserrat Valdés; lic. Gabriela Sarai Ramírez Rivera; lic. Itayetzi Acereto Palacio; lic. Ana Toledo Aranda; lic.  Jessica Sánchez Rafael; mtra. Michel Monserrat Mendoza Hernández. \nDirigida a: Público en general. \nActividad presencial. \nLugar: Sala de Videoconferencias Posgrado. Manzana 008\, Sta Cruz Acatlan\, 53150 Naucalpan de Juárez\, México.
URL:https://coordinaciongenero.unam.mx/evento/encuentro-multidisciplinario-nuevas-perspectivas-para-abordar-la-violencia-contra-las-mujeres-en-los-estudios-de-posgrado/
CATEGORIES:25N 2024,Igualdad de género
ATTACH;FMTTYPE=image/png:https://coordinaciongenero.unam.mx/wp-content/uploads/2024/10/25n24-paginaweb-2-03.png
END:VEVENT
END:VCALENDAR