BEGIN:VCALENDAR
VERSION:2.0
PRODID:-//Coordinación para la Igualdad de Género UNAM - ECPv6.15.20//NONSGML v1.0//EN
CALSCALE:GREGORIAN
METHOD:PUBLISH
X-WR-CALNAME:Coordinación para la Igualdad de Género UNAM
X-ORIGINAL-URL:https://coordinaciongenero.unam.mx
X-WR-CALDESC:Eventos para Coordinación para la Igualdad de Género UNAM
REFRESH-INTERVAL;VALUE=DURATION:PT1H
X-Robots-Tag:noindex
X-PUBLISHED-TTL:PT1H
BEGIN:VTIMEZONE
TZID:America/Chicago
BEGIN:DAYLIGHT
TZOFFSETFROM:-0600
TZOFFSETTO:-0500
TZNAME:CDT
DTSTART:20230312T080000
END:DAYLIGHT
BEGIN:STANDARD
TZOFFSETFROM:-0500
TZOFFSETTO:-0600
TZNAME:CST
DTSTART:20231105T070000
END:STANDARD
BEGIN:DAYLIGHT
TZOFFSETFROM:-0600
TZOFFSETTO:-0500
TZNAME:CDT
DTSTART:20240310T080000
END:DAYLIGHT
BEGIN:STANDARD
TZOFFSETFROM:-0500
TZOFFSETTO:-0600
TZNAME:CST
DTSTART:20241103T070000
END:STANDARD
BEGIN:DAYLIGHT
TZOFFSETFROM:-0600
TZOFFSETTO:-0500
TZNAME:CDT
DTSTART:20250309T080000
END:DAYLIGHT
BEGIN:STANDARD
TZOFFSETFROM:-0500
TZOFFSETTO:-0600
TZNAME:CST
DTSTART:20251102T070000
END:STANDARD
BEGIN:DAYLIGHT
TZOFFSETFROM:-0600
TZOFFSETTO:-0500
TZNAME:CDT
DTSTART:20260308T080000
END:DAYLIGHT
BEGIN:STANDARD
TZOFFSETFROM:-0500
TZOFFSETTO:-0600
TZNAME:CST
DTSTART:20261101T070000
END:STANDARD
END:VTIMEZONE
BEGIN:VEVENT
DTSTART;TZID=America/Chicago:20240828T130000
DTEND;TZID=America/Chicago:20241113T150000
DTSTAMP:20260424T063743
CREATED:20240828T212500Z
LAST-MODIFIED:20240828T212500Z
UID:57747-1724850000-1731510000@coordinaciongenero.unam.mx
SUMMARY:Curso: «Repensando la Masculinidad dirigido a estudiantes hombres de la UNAM»
DESCRIPTION:28 de agosto \n04\, 11\, 18 y 25 de septiembre \n02\, 09\, 16\, 23 y 30 octubre \n06 y 13 de noviembre de 2024 | 13:00 a 15:00 h \nOrganizada por: La Comisión de Equidad de la Facultad de Ciencias. \nLas inscripciones estarán abiertas hasta iniciar el curso\, en cuanto el curso se llene el formulario mostrará un mensaje de “cupo lleno” mientras no muestre ese texto el cupo estará abierto. \nDirigida a: Estudiantes hombres de la UNAM. \nActividad presencial. \nLugar: Sala Sotero Prieto 3 del Conjunto Amoxcalli de la Facultad de Ciencias. \nRegistro previo:  https://forms.gle/KD6uxQqHf14Sqzzf8 \nMás información:  equidad@ciencias.unam.mx
URL:https://coordinaciongenero.unam.mx/evento/curso-repensando-la-masculinidad-dirigido-a-estudiantes-hombres-de-la-unam/
CATEGORIES:Masculinidades
ATTACH;FMTTYPE=image/png:https://coordinaciongenero.unam.mx/wp-content/uploads/2021/01/unam-cigu-personas-orientadoras-textura.png
END:VEVENT
BEGIN:VEVENT
DTSTART;TZID=America/Chicago:20240828T160000
DTEND;TZID=America/Chicago:20241113T170000
DTSTAMP:20260424T063743
CREATED:20240828T213308Z
LAST-MODIFIED:20240828T213308Z
UID:57760-1724860800-1731517200@coordinaciongenero.unam.mx
SUMMARY:Curso: «Repensando la Masculinidad dirigido a académicos y administrativos hombres de la UNAM»
DESCRIPTION:28 de agosto \n04\, 11\, 18 y 25 de septiembre \n02\, 09\, 16\, 23 y 30 octubre \n06 y 13 de noviembre de 2024 | 16:00 17:30 h \nOrganizada por: La Comisión de Equidad de la Facultad de Ciencias. \nLas inscripciones estarán abiertas hasta iniciar el curso\, en cuanto el curso se llene el formulario mostrará un mensaje de “cupo lleno” mientras no muestre ese texto el cupo estará abierto. \nDirigida a: Académicos y administrativos hombres de la UNAM. \nActividad presencial. \nLugar: Sala Sotero Prieto 3 del Conjunto Amoxcalli de la Facultad de Ciencias. \nRegistro previo:   https://forms.gle/cVTTvZiVjs1VXjbc7 \nMás información:  equidad@ciencias.unam.mx
URL:https://coordinaciongenero.unam.mx/evento/curso-repensando-la-masculinidad-dirigido-a-academicos-y-administrativos-hombres-de-la-unam/
CATEGORIES:Masculinidades
ATTACH;FMTTYPE=image/png:https://coordinaciongenero.unam.mx/wp-content/uploads/2021/01/unam-cigu-personas-orientadoras-textura.png
END:VEVENT
BEGIN:VEVENT
DTSTART;TZID=America/Chicago:20240906T120000
DTEND;TZID=America/Chicago:20241018T140000
DTSTAMP:20260424T063743
CREATED:20240828T212249Z
LAST-MODIFIED:20240828T212249Z
UID:57744-1725624000-1729260000@coordinaciongenero.unam.mx
SUMMARY:Taller: «¿Cómo socializar en las festividades de fin de año y no morir en el intento?»
DESCRIPTION:06\, 13\, 20 y 27 de septiembre \n04\, 11 y 18 de octubre de 2024 | 12:00 a 14:00 h \nOrganizada por: Unidad para la Igualdad de Género ENTS UNAM\, Espora Psicológica y Trabajo Social Escolar. \nActividad de desarrollo de habilidades sociales para el fomento de la cultura de la paz y la prevención de las violencias en la comunidad de la Escuela Nacional de Trabajo Social. \nParticipante(s): Alejandra Ramos Mendoza y Patricia Guerrero Prado. \nDirigida a: Comunidad de la ENTS. \nMás información: unigents@ents.unam.mx \nPre-inscripción: https://forms.gle/7QVVY156JMX2Jm588
URL:https://coordinaciongenero.unam.mx/evento/taller-como-socializar-en-las-festividades-de-fin-de-ano-y-no-morir-en-el-intento/
CATEGORIES:Prevención de la Violencia de Género
ATTACH;FMTTYPE=image/jpeg:https://coordinaciongenero.unam.mx/wp-content/uploads/2021/03/TEXTURA-1AÑO_ytthumbnail.jpg
END:VEVENT
BEGIN:VEVENT
DTSTART;VALUE=DATE:20240917
DTEND;VALUE=DATE:20241028
DTSTAMP:20260424T063743
CREATED:20240917T182947Z
LAST-MODIFIED:20260121T234223Z
UID:58319-1726531200-1730073599@coordinaciongenero.unam.mx
SUMMARY:Curso-Taller «Educación en Ciencias de la Salud con perspectiva de género»
DESCRIPTION:17 de septiembre al 27 de octubre \nCurso-Taller «Educación en Ciencias de la Salud con perspectiva de género»\nOrganizada por: Unidad de Capacitación y Vinculación Docente de la SECISS de la Facultad de Medicina\nDirigida a: Técnicos o licenciatura en área de la salud.\nInscripciones e informes: secim.pmcd@gmail.com
URL:https://coordinaciongenero.unam.mx/evento/curso-taller-educacion-en-ciencias-de-la-salud-con-perspectiva-de-genero/
CATEGORIES:Género y salud
END:VEVENT
BEGIN:VEVENT
DTSTART;TZID=America/Chicago:20240921T100000
DTEND;TZID=America/Chicago:20241109T140000
DTSTAMP:20260424T063743
CREATED:20240830T034257Z
LAST-MODIFIED:20260121T203436Z
UID:57808-1726912800-1731160800@coordinaciongenero.unam.mx
SUMMARY:Taller: «Repintando al drag. El drag no es como nos lo pintan… Tú lo pintas»
DESCRIPTION:21 de septiembre al 09 de noviembre de 2024 | 10 a 14 hrs \nTaller: «Repintando al drag. El drag no es como nos lo pintan… Tú lo pintas» \nOrganizada por: Igualdad de Género UNAM y la Facultad de Medicina Veterinaria y Zootecnia. \nEl taller tiene como objetivo desarrollar habilidades básicas en el drag\, mediante la revisión de las principales herramientas para la creación de personaje y la implementación del cabaret en el discurso de un show Drag. Taller gratuito limitado a 50 asistentes. \nDirigida a: Público en general. \nMás información: https://www.facebook.com/igualdadUNAM/posts/pfbid0FxYXPAaXmV5Y6BeRe471WnQ252pm6B8L2iJL3FG3NBobUvjcF7MyVv1BFoLvrrgTl \nRegistro previo: https://forms.gle/UeStNv4vUWbpcUvn8 \n 
URL:https://coordinaciongenero.unam.mx/evento/taller-repintando-al-drag-el-drag-no-es-como-nos-lo-pintan-tu-lo-pintas/
LOCATION:Facultad de Medicina Veterinaria y Zootecnia
CATEGORIES:Diversidades y disidencias,Taller
ATTACH;FMTTYPE=image/jpeg:https://coordinaciongenero.unam.mx/wp-content/uploads/2021/03/TEXTURA-1AÑO_ytthumbnail.jpg
END:VEVENT
BEGIN:VEVENT
DTSTART;TZID=America/Chicago:20240925T160000
DTEND;TZID=America/Chicago:20250115T200000
DTSTAMP:20260424T063743
CREATED:20241002T222515Z
LAST-MODIFIED:20241002T222515Z
UID:58816-1727280000-1736971200@coordinaciongenero.unam.mx
SUMMARY:Seminario: «Mujeres en resistencia 2. Conflictos armados desde una perspectiva de género"»
DESCRIPTION:Organizada por: Filmoteca de la UNAM. \nEn este módulo del Seminario Permanente Cine y Género continuaremos con la exploración del módulo anterior sobre cómo las mujeres han creado mecanismos para hacer frente a los conflictos armados mientras éstos se desarrollan\, pero también para luchar por la liberación\, la memoria y la paz una vez que cesan las escaladas de violencia. A través de películas documentales\, revisaremos contextos específicos\, como la resistencia del pueblo mapuche en Chile y las luchas emancipadoras de las mujeres kurdas y saharauis\, así como los movimientos guerrilleros y los estragos de la guerra contra el narcotráfico\, tanto en México como en Colombia. Asimismo\, conversaremos con personas dedicadas a la academia\, a la realización audiovisual y al activismo para ahondar sobre los contextos propuestos y analizar los documentales sugeridos.\nEste módulo del seminario tendrá dos modalidades de asistencia: remota\, a través de la plataforma Zoom\, y presencial en la Filmoteca de la UNAM. Se otorgarán constancias de participación con el 80% de las asistencias. Dirigida a: Público en general. \nActividad híbrida.  \nLugar: Filmoteca de la UNAM\, Circuito Mario de La Cueva s/n\, C.U.\, Coyoacán\, 04510\, Ciudad de México. \nEntrada libre\, previa inscripción. \nInscripción en: cineygenero@filmoteca.unam.mx  \n 
URL:https://coordinaciongenero.unam.mx/evento/seminario-mujeres-en-resistencia-2-conflictos-armados-desde-una-perspectiva-de-genero/
CATEGORIES:Cine con perspectiva de género
ATTACH;FMTTYPE=image/png:https://coordinaciongenero.unam.mx/wp-content/uploads/2021/01/unam-cigu-personas-orientadoras-textura.png
END:VEVENT
BEGIN:VEVENT
DTSTART;TZID=America/Chicago:20240926T163000
DTEND;TZID=America/Chicago:20241128T193000
DTSTAMP:20260424T063743
CREATED:20240926T185824Z
LAST-MODIFIED:20240926T190031Z
UID:58683-1727368200-1732822200@coordinaciongenero.unam.mx
SUMMARY:Curso «Otros modos de leer. Cuatro ensayísticas femeninas de los siglos XX y XXI: México y Argentina»
DESCRIPTION:Cada jueves del 26 de septiembre al 28 de noviembre | 16:30 a 19:30 h \nCurso «Otros modos de leer. Cuatro ensayísticas femeninas de los siglos XX y XXI: México y Argentina»  \nOrganizada por: Educación Continua y Educación a Distancia del  Instituto de Investigaciones Filológicas (IIF) \nSe propone leer\, comentar y analizar los ensayos más representativos y sugerentes de cuatro escritoras latinoamericanas cuya labor como ensayistas supone otro modo de leer\, otra forma de acercamiento a la literatura desde una subjetividad femenina. Así\, los discursos ensayísticos de Margo Glantz (1930) y Esther Seligson (1941-2010) en México\, de Sylvia Molloy (1938-2022) y Tamara Kamenszain (1947-2021) en Argentina serán abordados como ejemplos originales del ensayo contemporáneo dentro de la gran tradición hispanoamericana del género durante la segunda mitad del siglo XX hasta la actualidad. \nParticipante(s): Imparte: Dra. María Andrea Esparza Navarro  \nDirigida a: Estudiantes de Humanidades y Literatura\, así como al público en general interesado en ampliar su conocimiento sobre el ensayo contemporáneo escrito por mujeres en México y Argentina. \nActividad virtual \nMás información en: https://iifilologicas.unam.mx/index.php?page=proceso-de-inscripcion&reg=1653
URL:https://coordinaciongenero.unam.mx/evento/curso-otros-modos-de-leer-cuatro-ensayisticas-femeninas-de-los-siglos-xx-y-xxi-mexico-y-argentina/
CATEGORIES:Literatura
ATTACH;FMTTYPE=image/jpeg:https://coordinaciongenero.unam.mx/wp-content/uploads/2020/11/fodo-textura.jpg
END:VEVENT
BEGIN:VEVENT
DTSTART;TZID=America/Chicago:20240930T000000
DTEND;TZID=America/Chicago:20241029T173000
DTSTAMP:20260424T063743
CREATED:20240925T045047Z
LAST-MODIFIED:20260121T230234Z
UID:58570-1727654400-1730223000@coordinaciongenero.unam.mx
SUMMARY:Jornada de actividades: «Cuidar construye igualdad»
DESCRIPTION:30 de septiembre al 29 de octubre de 2024 \nJornada de actividades: «Cuidar construye igualdad» \nLa jornada de actividades del mes de los cuidados\, se llevará a cabo durante el mes de octubre. La jornada incluye talleres\, charlas\, conferencias\, exposiciones y un torneo de fútbol; son propuestas por la comunidad docente y se invita a especialistas en el tema. \nParticipante(s): Mtra. Nora Alicia Rodríguez Ávila (conferencia y exposición); Mtra. Ana Isabel Guzmán Moctezuma (exposición); Lic. Angy Paola Gil Reyes\, Lic. Martha Zacarías García\, Lic. Roberto Terrones Guerrero\, Lic. Víctor Iván Romero Delgado\, Departamento de apoyo psicopedagógico (taller); Yazmín Amanecer Campos Ponce (taller); Lic. Aldo Cristopher Aragón Aguilar (torneo de fútbol); Mtra. Viridiana Flores Nonato (taller y análisis de cortometraje); Mtro. Luis Mario Plaza Rosas (taller); Mtra. Lucía Guadalupe Velasco Monjarrez (conferencias); Mtra. Citlalli Nayelli Castillo Cadena (taller); Mtra. Lourdes Gabriela Villegas Arrollo (actividad física\, yoga); Mtra. Cecilia López Huerta (actividad física); Mtra. Diana Alcalá Mendizabal (exposición virtual); Mtra. Lourdes Rosado Castillo y Mtra. Daniela Franco Higareda (taller); Mtra. Fátima de la Luz Velazco Bucio (conferencia); Mtra. Judith Eugenia Barreiro Díaz (taller); Lorena Hernández Barragán\, invitada (taller) y Psic. Leslie Borja Lascuráin\, invitada (taller). \nDirigida a: Comunidad estudiantil de Iniciación Universitaria y Bachillerato\, así como a la comunidad docente. \nActividades híbridas. \nLugar: Instalaciones de la ENP\, plantel 2\, “Erasmo Castellanos Quinto”. Av. Río Churubusco 1418\, Carlos Zapata Vela\, Iztacalco\, 08040\, Ciudad de México. \nMás información: https://drive.google.com/drive/folders/1h–7UVR–Gp_kOzDAqfbExxEg7ThtIXn?usp=drive_link
URL:https://coordinaciongenero.unam.mx/evento/jornada-de-actividades-cuidar-construye-igualdad/
CATEGORIES:Cuidados,Mes de los Cuidados 2024
ATTACH;FMTTYPE=image/png:https://coordinaciongenero.unam.mx/wp-content/uploads/2024/09/cuidados24-paginaweb_03.png
END:VEVENT
BEGIN:VEVENT
DTSTART;VALUE=DATE:20241001
DTEND;VALUE=DATE:20241101
DTSTAMP:20260424T063743
CREATED:20240903T222610Z
LAST-MODIFIED:20240903T222610Z
UID:57964-1727740800-1730419199@coordinaciongenero.unam.mx
SUMMARY:Curso: «Educar con perspectiva de género»
DESCRIPTION:Inscripciones abiertas \nOrganizada por: División de Educación Continua de la Facultad de Filosofía y Letras. \nEl curso aborda debates actuales sobre diversidades sexogenéricas en el ámbito juvenil\, ofreciendo herramientas basadas en las expectativas de los participantes y alineadas con las políticas de género de la UNAM. Su objetivo es facilitar una comprensión actualizada y relevante de estos temas. El curso tiene una duración de 20 horas (10 sesiones)\, de 2 horas todos los martes y jueves\, del 01 al 31 de octubre de 2024. \nParticipante(s): Enrique Vega-Dávila. \nDirigida a: Comunidad de FFyL. \nInscripción: https://ec.filos.unam.mx/inscripcion/ \nMás información: https://ec.filos.unam.mx/educar-con-perspectiva-de-genero/  \n 
URL:https://coordinaciongenero.unam.mx/evento/curso-educar-con-perspectiva-de-genero/
CATEGORIES:Perspectiva de género
ATTACH;FMTTYPE=image/png:https://coordinaciongenero.unam.mx/wp-content/uploads/2024/05/unam-cigu-texturas-eventos-3.png
END:VEVENT
BEGIN:VEVENT
DTSTART;VALUE=DATE:20241001
DTEND;VALUE=DATE:20241101
DTSTAMP:20260424T063743
CREATED:20240925T043622Z
LAST-MODIFIED:20260121T230233Z
UID:58562-1727740800-1730419199@coordinaciongenero.unam.mx
SUMMARY:Campaña: «Las labores del hogar son trabajo»
DESCRIPTION:Todo el mes de octubre de 2024 \nOrganizada por: CInIG de la Facultad de Estudios Superiores (FES) Acatlán. \nSe difundirán por toda la Facultad carteles de lo que es el trabajo de cuidados\, su importancia y la reflexión de que es un trabajo que no sólo corresponde a las mujeres. \nParticipante(s): \nDirigida a: Comunidad de la FES Acatlán. \nActividad presencial. \nLugar: Facultad de Estudios Superiores (FES) Acatlán\, Av. Jardines de San Mateo s/n\, Sta Cruz Acatlan\, 53150 Naucalpan de Juárez\, Méx.
URL:https://coordinaciongenero.unam.mx/evento/campana-las-labores-del-hogar-son-trabajo/
CATEGORIES:Cuidados,Mes de los Cuidados 2024
ATTACH;FMTTYPE=image/png:https://coordinaciongenero.unam.mx/wp-content/uploads/2024/09/cuidados24-paginaweb_04.png
END:VEVENT
BEGIN:VEVENT
DTSTART;TZID=America/Chicago:20241003T110000
DTEND;TZID=America/Chicago:20241031T180000
DTSTAMP:20260424T063743
CREATED:20241002T214140Z
LAST-MODIFIED:20260121T230232Z
UID:58787-1727953200-1730397600@coordinaciongenero.unam.mx
SUMMARY:Seminario: «Sembrar pedagogías violeta: semillas\, riegos y cuidados con respons-habilidad»
DESCRIPTION:3\, 18\, 24 y 31 de octubre de 2024 | 11:00 a 13:00 h \n10 de octubre | 16:00 a 18:00 h \nOrganizada por: Centro de Investigaciones y Estudios de Género (CIEG). \nDirigida a: Público en general. \nActividad en línea.  \nInscripciones en: pedagogias@cieg.unam.mx \nMás información: https://bit.ly/3MP94Wq
URL:https://coordinaciongenero.unam.mx/evento/seminario-sembrar-pedagogias-violeta-semillas-riegos-y-cuidados-con-respons-habilidad/
CATEGORIES:Cuidados,Feminismos,Mes de los Cuidados 2024
ATTACH;FMTTYPE=image/png:https://coordinaciongenero.unam.mx/wp-content/uploads/2024/09/cuidados24-paginaweb-06.png
END:VEVENT
BEGIN:VEVENT
DTSTART;TZID=America/Chicago:20241003T120000
DTEND;TZID=America/Chicago:20241031T150000
DTSTAMP:20260424T063743
CREATED:20241016T050630Z
LAST-MODIFIED:20241106T154425Z
UID:59279-1727956800-1730386800@coordinaciongenero.unam.mx
SUMMARY:Ciclo de conferencias: «Ciudadanía\, derechos y violencias hacia las mujeres en México y América Latina» 
DESCRIPTION:03\, 17\, 25 y 31 de octubre de 2024 | 12:00 y 15:00 h \nCiclo de conferencias: «Ciudadanía\, derechos y violencias hacia las mujeres en México y América Latina»  \nOrganizada por: Museo de la Mujer. \nEn conmemoración de la obtención del sufragio femenino en México\, se realizan estas actividades totalmente virtuales y gratuitas. Se otorgará constancia con el 80% de asistencia en cada ciclo.  \n  \n03 de octubre de 2024 | 15:00 h \n«Violencia digital contra mujeres indígenas en la política: Desafíos y soluciones para una participación segura en México» \nParticipante(s): Dra. Lucia Becerra Hernández\, Universidad Autónoma de Sinaloa; Dra. Edilia Rivera Bahena\, FEMU. \n﻿\n17 de octubre de 2024 | 12:00 h  \n«La figura de la madre en los casos de las presidentas latinoamericanas Michelle Bachelet (Chile)\, Cristina Fernández (Argentina) y Dilma Rousseff (Brasil)» \nParticipante(s): Dra. Mariana Valenzuela Somogyi\, UAHC; Mtra. Alma Elena Sarayth de León Cardona\, FEMU. \n﻿\n25 de octubre de 2024 | 12:00 h (CDMX) Y 15:00 h (Argentina) \n«Violencia política contra las mujeres en América Latina. Expresiones de desigualdad de género» \nParticipante(s): Dra. Laura Albaine\, UBA/ CONICET; Mtra. Kenya Verónica Benítez Montero\, FEMU. \n﻿\n31 de octubre de 2024 | 12:00 h \n«Participación política de la mujer: desafíos de la democracia incluyente» \nParticipante(s): Mtra. Fan Jua Rivas Maldonado\, Coordinación Operativa en la Unidad Técnica de Fiscalización en el INE; Dra. María Patricia Lira Alonso\, FEMU. \n﻿\nDirigidas a: Público en general. \n 
URL:https://coordinaciongenero.unam.mx/evento/ciclo-de-conferencias-ciudadania-derechos-y-violencias-hacia-las-mujeres-en-mexico-y-america-latina/
LOCATION:online
CATEGORIES:Conferencia,Violencia de Género
ATTACH;FMTTYPE=image/png:https://coordinaciongenero.unam.mx/wp-content/uploads/2024/05/unam-cigu-texturas-eventos-3.png
END:VEVENT
BEGIN:VEVENT
DTSTART;TZID=America/Chicago:20241004T080000
DTEND;TZID=America/Chicago:20241018T170000
DTSTAMP:20260424T063743
CREATED:20240917T170848Z
LAST-MODIFIED:20260121T230231Z
UID:58299-1728028800-1729270800@coordinaciongenero.unam.mx
SUMMARY:Programa online desde la barra Género y Deporte
DESCRIPTION:«Programa online desde la barra Género y Deporte» \nOrganizada por: POC y Jefatura de Género y Deporte de la Dirección General del Deporte Universitario (DGDU). \n  \nViernes\, 4 de octubre | 19:00 h \n«Los mandatos sociales para las mujeres» \nPlática alrededor de las implicaciones de ser mujer a lo largo de la historia y cómo ello ha llevado a colocar ciertos mandatos sobre las mujeres.  \n  \n \n  \nViernes\, 11 de octubre | 19:00 h \n«Las políticas de cuidado en México» \nCharla desde los Derechos Humanos para recorrer cuáles son las políticas públicas que existen ante los cuidados en México y qué desafíos tenemos como sociedad ante estas políticas.  \n \nViernes\, 18 de octubre | 19:00 h \n«Si tú cuidas\, ¿quién te cuida a ti?» \nPlática desde experiencias de personas cuidadoras\, personas que han decidido no seguir con los mandatos sociales de ser mujer (como el ser madre)\, y lograr un diálogo en donde podamos colocar en la mesa las diferentes formas de ser mujer en la actualidad.  \n  \nDirigida a: Comunidad UNAM y público en general.
URL:https://coordinaciongenero.unam.mx/evento/programa-online-desde-la-barra-genero-y-deporte/
CATEGORIES:Cuidados,Género y deporte,Mes de los Cuidados 2024
ATTACH;FMTTYPE=image/png:https://coordinaciongenero.unam.mx/wp-content/uploads/2024/09/cuidados24-paginaweb_05.png
END:VEVENT
BEGIN:VEVENT
DTSTART;TZID=America/Chicago:20241006T110000
DTEND;TZID=America/Chicago:20241006T113000
DTSTAMP:20260424T063743
CREATED:20240930T200748Z
LAST-MODIFIED:20260121T235413Z
UID:58754-1728212400-1728214200@coordinaciongenero.unam.mx
SUMMARY:Violeta y oro: El país y la ciudad que deseamos
DESCRIPTION:En este episodio de #VioletayOro conversamos con Acoyani Adame Castillo y Pilar López Huidobro\, arquitectas y fundadoras de «Urbanismo Mujeres y Ciudad en Latinoamérica». Nos platicaron sobre su quehacer desde el desarrollo de proyectos urbano arquitectónicos\, para contribuir al desarrollo de ciudades más justas y más accesibles. Nos comentan que es urgente incorporar una justicia de género y una perspectiva de accesibilidad universal al diseño y planificación de ciudades y espacios públicos.\n\n\n\nOlivia pregunta ¿Qué son los cuidados y qué es la distribución social de los cuidados? En respuesta nos comentan que ellas están interesadas en estudiar\, desde el urbanismo feminista\, el diseño y la planificación de las ciudades para mantener el bienestar físico y emocional de las personas\, la vida no humana y el entorno.\n\n\n\n\nEn la sección «Chiques Violeta» se le pregunta a la comunidad universitaria acerca de su idea de una ciudad que les gustaría habitar. \n  \nPieza musical titulada «Feeling Good» a cargo de Nina Simone. \n  \n\n\n\n\n\nConduce: Olivia Zerón Tena (CIGU\, UNAM). \n\nESCUCHA AQUÍ
URL:https://coordinaciongenero.unam.mx/evento/violeta-y-oro-el-pais-y-la-ciudad-que-deseamos/
CATEGORIES:Cuidados,Perspectiva de género,Radio UNAM,violeta y oro
ATTACH;FMTTYPE=image/jpeg:https://coordinaciongenero.unam.mx/wp-content/uploads/2024/09/WEB-03.jpg
END:VEVENT
END:VCALENDAR