BEGIN:VCALENDAR
VERSION:2.0
PRODID:-//Coordinación para la Igualdad de Género UNAM - ECPv6.15.20//NONSGML v1.0//EN
CALSCALE:GREGORIAN
METHOD:PUBLISH
X-WR-CALNAME:Coordinación para la Igualdad de Género UNAM
X-ORIGINAL-URL:https://coordinaciongenero.unam.mx
X-WR-CALDESC:Eventos para Coordinación para la Igualdad de Género UNAM
REFRESH-INTERVAL;VALUE=DURATION:PT1H
X-Robots-Tag:noindex
X-PUBLISHED-TTL:PT1H
BEGIN:VTIMEZONE
TZID:UTC
BEGIN:STANDARD
TZOFFSETFROM:+0000
TZOFFSETTO:+0000
TZNAME:UTC
DTSTART:20230101T000000
END:STANDARD
END:VTIMEZONE
BEGIN:VTIMEZONE
TZID:America/Chicago
BEGIN:DAYLIGHT
TZOFFSETFROM:-0600
TZOFFSETTO:-0500
TZNAME:CDT
DTSTART:20230312T080000
END:DAYLIGHT
BEGIN:STANDARD
TZOFFSETFROM:-0500
TZOFFSETTO:-0600
TZNAME:CST
DTSTART:20231105T070000
END:STANDARD
BEGIN:DAYLIGHT
TZOFFSETFROM:-0600
TZOFFSETTO:-0500
TZNAME:CDT
DTSTART:20240310T080000
END:DAYLIGHT
BEGIN:STANDARD
TZOFFSETFROM:-0500
TZOFFSETTO:-0600
TZNAME:CST
DTSTART:20241103T070000
END:STANDARD
BEGIN:DAYLIGHT
TZOFFSETFROM:-0600
TZOFFSETTO:-0500
TZNAME:CDT
DTSTART:20250309T080000
END:DAYLIGHT
BEGIN:STANDARD
TZOFFSETFROM:-0500
TZOFFSETTO:-0600
TZNAME:CST
DTSTART:20251102T070000
END:STANDARD
END:VTIMEZONE
BEGIN:VEVENT
DTSTART;VALUE=DATE:20240822
DTEND;VALUE=DATE:20240927
DTSTAMP:20260425T201833
CREATED:20240820T053233Z
LAST-MODIFIED:20260121T223117Z
UID:55127-1724284800-1727395199@coordinaciongenero.unam.mx
SUMMARY:Cursos para personal académico de la UNAM (CIGU-PASD) agosto-septiembre 2024
DESCRIPTION:Cursos para personal académico de la UNAM (CIGU-PASD) 2024\nLa Coordinación para la Igualdad de Género y el Programa de Actualización y Superación Docente (DGAPA-PASD) invitan al personal académico de la UNAM a los cursos: \n  \n«Educar desde el Arcoíris. Docencia universitaria desde una perspectiva de la disidencia sexual de género»\nFacilita: Claudia Ivette Navarro Corona. \nID: 14253 \nFechas y horarios: del 22 de agosto al 19 de septiembre de 2024\, de 10:00 a 13:00 hrs \n \n  \n«Prácticas adultocéntricas en la educación: configuraciones teóricas y herramientas para su transformación»\nFacilita: Viridiana Becerril Fernández. \nID: 14257 \nFechas y horarios: del 03 al 19 de septiembre de 2024\, de 16:00 a 20:00 hrs \n \n  \n«Herramientas digitales para docentes con perspectiva de género»\nFacilita: Yareni Domínguez Delgado y Karla García Vega. \nID: 13903 \nFechas y horarios: del 10 al 26 de septiembre de 2024\, de 10:00 a 12:30 hrs \n \n  \nTe comentamos que los cursos del Programa de Actualización y Superación Docente contemplan únicamente al personal académico de la Universidad\, adscrito con número de trabajador(a/e) y que esté en la nómina. \nSin embargo\, existen otros casos que también se toman en cuenta y estos tienen sus propios requisitos: \nCASO 1: Persona académica en proceso de adscripción o docente en la UNAM\nSi existe una adscripción como Académico o Académica en proceso\, o bien\, que la persona postulante ha sido docente\, al menos en el semestre anterior inmediato en la Universidad. \nPara poder comprobar dicho proceso es necesario: \n\nContar con un documento oficial firmado y sellado por la autoridad competente (puede ser: copia de la hoja única de contratación\, credencial resellada\, talón de pago\, constancia de asignación de grupos vigente firmada y sellada por la entidad de adscripción). Esto aplicaría\, en todo caso\, para las\, los y les docentes o académicos que no se encuentren vigentes en nómina (pero que hayan tenido adscripción en el semestre inmediato anterior)\, los profesores cuya adscripción se encuentra en trámite y personas docentes jubiladas.\nPara efectuar este tipo de inscripción será necesario escribir a los correos electrónicos: actlic@dgapa.unam.mx y pasd@dgapa.unam.mx\, con la documentación anteriormente mencionada\, más los siguientes datos:\n\nel nombre del curso al que se desea inscribir\nnombre\nRFC\nCURP\ncorreo electrónico\nnúmero telefónico de contacto\n\n\n\nNota: Para que se les considere como personal académico de la UNAM\, la inscripción se llevará a cabo siempre y cuando la solicitud cumpla con lo antes descrito\, el curso tenga cupo y se realice dentro de los tiempos establecidos (a más tardar el día del inicio del curso). \nCASO 2: “Persona académica externa” adscrita o no a la UNAM\nEn el caso de que no se cuente con algún documento de esta índole\, debes registrarte bajo el procedimiento de “Persona académica externa”. Las personas docentes externas pueden ser académicas en otra institución adscrita a la UNAM (Medio Superior o Licenciatura)\, o bien\, de otra entidad educativa no adscrita a la Universidad. \nEn este caso\, los cursos tendrán costo. \n\nSi es por parte de una escuela incorporada el costo del curso es de 35 pesos por hora.\nPara escuelas no incorporadas el costo es de 50 por hora.\n\nImportante: El pago es único y no hay devolución. \nMayor información: \nCorreo de los cursos PASD: pasd@dgapa.unam.mx \n  \nINSCRIPCIONES Y PROGRAMAS AQUÍ\n  \nGuia de inscripción\n  \nPodría interesarte
URL:https://coordinaciongenero.unam.mx/evento/cursos-para-personal-academico-de-la-unam-cigu-pasd-agosto-septiembre-2024/
CATEGORIES:Curso,Educación para la igualdad,Prevención de la Violencia de Género,Violencia de Género
ATTACH;FMTTYPE=image/png:https://coordinaciongenero.unam.mx/wp-content/uploads/2022/04/cursosdocentes-imagenweb-04.png
END:VEVENT
BEGIN:VEVENT
DTSTART;TZID=America/Chicago:20240828T130000
DTEND;TZID=America/Chicago:20241113T150000
DTSTAMP:20260425T201833
CREATED:20240828T212500Z
LAST-MODIFIED:20240828T212500Z
UID:57747-1724850000-1731510000@coordinaciongenero.unam.mx
SUMMARY:Curso: «Repensando la Masculinidad dirigido a estudiantes hombres de la UNAM»
DESCRIPTION:28 de agosto \n04\, 11\, 18 y 25 de septiembre \n02\, 09\, 16\, 23 y 30 octubre \n06 y 13 de noviembre de 2024 | 13:00 a 15:00 h \nOrganizada por: La Comisión de Equidad de la Facultad de Ciencias. \nLas inscripciones estarán abiertas hasta iniciar el curso\, en cuanto el curso se llene el formulario mostrará un mensaje de “cupo lleno” mientras no muestre ese texto el cupo estará abierto. \nDirigida a: Estudiantes hombres de la UNAM. \nActividad presencial. \nLugar: Sala Sotero Prieto 3 del Conjunto Amoxcalli de la Facultad de Ciencias. \nRegistro previo:  https://forms.gle/KD6uxQqHf14Sqzzf8 \nMás información:  equidad@ciencias.unam.mx
URL:https://coordinaciongenero.unam.mx/evento/curso-repensando-la-masculinidad-dirigido-a-estudiantes-hombres-de-la-unam/
CATEGORIES:Masculinidades
ATTACH;FMTTYPE=image/png:https://coordinaciongenero.unam.mx/wp-content/uploads/2021/01/unam-cigu-personas-orientadoras-textura.png
END:VEVENT
BEGIN:VEVENT
DTSTART;TZID=America/Chicago:20240828T160000
DTEND;TZID=America/Chicago:20241113T170000
DTSTAMP:20260425T201833
CREATED:20240828T213308Z
LAST-MODIFIED:20240828T213308Z
UID:57760-1724860800-1731517200@coordinaciongenero.unam.mx
SUMMARY:Curso: «Repensando la Masculinidad dirigido a académicos y administrativos hombres de la UNAM»
DESCRIPTION:28 de agosto \n04\, 11\, 18 y 25 de septiembre \n02\, 09\, 16\, 23 y 30 octubre \n06 y 13 de noviembre de 2024 | 16:00 17:30 h \nOrganizada por: La Comisión de Equidad de la Facultad de Ciencias. \nLas inscripciones estarán abiertas hasta iniciar el curso\, en cuanto el curso se llene el formulario mostrará un mensaje de “cupo lleno” mientras no muestre ese texto el cupo estará abierto. \nDirigida a: Académicos y administrativos hombres de la UNAM. \nActividad presencial. \nLugar: Sala Sotero Prieto 3 del Conjunto Amoxcalli de la Facultad de Ciencias. \nRegistro previo:   https://forms.gle/cVTTvZiVjs1VXjbc7 \nMás información:  equidad@ciencias.unam.mx
URL:https://coordinaciongenero.unam.mx/evento/curso-repensando-la-masculinidad-dirigido-a-academicos-y-administrativos-hombres-de-la-unam/
CATEGORIES:Masculinidades
ATTACH;FMTTYPE=image/png:https://coordinaciongenero.unam.mx/wp-content/uploads/2021/01/unam-cigu-personas-orientadoras-textura.png
END:VEVENT
BEGIN:VEVENT
DTSTART;TZID=America/Chicago:20240830T110000
DTEND;TZID=America/Chicago:20240927T140000
DTSTAMP:20260425T201833
CREATED:20240903T222945Z
LAST-MODIFIED:20240903T222945Z
UID:57968-1725015600-1727445600@coordinaciongenero.unam.mx
SUMMARY:Curso: «(Auto)etnografías afectivas desde una ética del cuidado»
DESCRIPTION:Organizada por: Centro de Investigaciones Interdisciplinarias en Ciencias y Humanidades (CEIICH). \nEl Centro de Investigaciones Interdisciplinarias en Ciencias y Humanidades en el marco de su Programa de Investigación Feminista invita todos los viernes al curso “(Auto)etnografías afectivas desde una ética del cuidado”. Se otorgará constancia\, cupo máximo 15 personas. \nParticipante(s): Angélica Yasmín Dávila Landa y Teresa Ordorika Sacristán. \nDirigida a: Público en general. \nInscripción: teresaos@unam.mx  \nMás información: https://ceiich.unam.mx/actividades/autoetnografias-afectivas-desde-una-etica-del-cuidado/ 
URL:https://coordinaciongenero.unam.mx/evento/curso-autoetnografias-afectivas-desde-una-etica-del-cuidado/
CATEGORIES:Cuidados
ATTACH;FMTTYPE=image/png:https://coordinaciongenero.unam.mx/wp-content/uploads/2021/01/unam-cigu-personas-orientadoras-textura.png
END:VEVENT
BEGIN:VEVENT
DTSTART;VALUE=DATE:20240903
DTEND;VALUE=DATE:20240925
DTSTAMP:20260425T201833
CREATED:20240903T215307Z
LAST-MODIFIED:20260121T235508Z
UID:57926-1725321600-1727222399@coordinaciongenero.unam.mx
SUMMARY:Ciclo de conferencias: «Mujeres\, Independencia y Nación»
DESCRIPTION:3 y 24 de septiembre de 2024 | diversas horas \nOrganizada por: Museo de la Mujer. \nEn conmemoración del Día de la Independencia de México.  Se otorgará constancia con el 80% de asistencia. Conferencias transmitidas por Zoom. Es necesario registrarse previamente aquí: https://forms.gle/KDMPXHvoki4kayAa6  \n  \nMartes\, 3 de septiembre | 16:00 h \nLa matria. Mujeres en la Independencia de México \nParticipante(s): Mtra. Angélica Noemí Juárez Pérez (INEHRM) \n  \nMartes\, 24 de septiembre | 12:00 h \nLa heroicidad femenina y la representación de Leona Vicario en dos novelas contemporáneas \nParticipante(s): Dra. Elsa Leticia García Argüelles (UAZ) \n  \nDirigida a: Público en general. \nMás información: www.museodelamujer.org.mx  \n  \n﻿
URL:https://coordinaciongenero.unam.mx/evento/ciclo-de-conferencias-mujeres-independencia-y-nacion/
CATEGORIES:Perspectiva de género
ATTACH;FMTTYPE=image/jpeg:https://coordinaciongenero.unam.mx/wp-content/uploads/2021/03/TEXTURA-1AÑO_ytthumbnail.jpg
END:VEVENT
BEGIN:VEVENT
DTSTART;TZID=America/Chicago:20240906T120000
DTEND;TZID=America/Chicago:20241018T140000
DTSTAMP:20260425T201833
CREATED:20240828T212249Z
LAST-MODIFIED:20240828T212249Z
UID:57744-1725624000-1729260000@coordinaciongenero.unam.mx
SUMMARY:Taller: «¿Cómo socializar en las festividades de fin de año y no morir en el intento?»
DESCRIPTION:06\, 13\, 20 y 27 de septiembre \n04\, 11 y 18 de octubre de 2024 | 12:00 a 14:00 h \nOrganizada por: Unidad para la Igualdad de Género ENTS UNAM\, Espora Psicológica y Trabajo Social Escolar. \nActividad de desarrollo de habilidades sociales para el fomento de la cultura de la paz y la prevención de las violencias en la comunidad de la Escuela Nacional de Trabajo Social. \nParticipante(s): Alejandra Ramos Mendoza y Patricia Guerrero Prado. \nDirigida a: Comunidad de la ENTS. \nMás información: unigents@ents.unam.mx \nPre-inscripción: https://forms.gle/7QVVY156JMX2Jm588
URL:https://coordinaciongenero.unam.mx/evento/taller-como-socializar-en-las-festividades-de-fin-de-ano-y-no-morir-en-el-intento/
CATEGORIES:Prevención de la Violencia de Género
ATTACH;FMTTYPE=image/jpeg:https://coordinaciongenero.unam.mx/wp-content/uploads/2021/03/TEXTURA-1AÑO_ytthumbnail.jpg
END:VEVENT
BEGIN:VEVENT
DTSTART;TZID=America/Chicago:20240913T100000
DTEND;TZID=America/Chicago:20240913T120000
DTSTAMP:20260425T201833
CREATED:20240822T192422Z
LAST-MODIFIED:20240917T114511Z
UID:55311-1726221600-1726228800@coordinaciongenero.unam.mx
SUMMARY:Actividad: «Homenaje a la Dra. Ruth Leticia González Serratos»
DESCRIPTION:Organizada por: CInIG de la Facultad de Psicología. \nHomenaje a la Dra. Ruth Leticia González Serratos\, fundadora del Programa de Atención Integral a Víctimas y Sobrevivientes de Agresión Sexual (PAIVSAS) de la Facultad de Psicología\, UNAM. \nParticipante(s): Lic. Ana Lilia Guerrero Viloria\, Mtro. Claudio Arturo Tzompantzi Miguel y la Mtra. Hilda Elena Esquivel Guillén. \nDirigida a: Público en general. \nActividad híbrida. \nLugar: Auditorio Dr. Florente López\, PB edificio D\, Facultad de Psicología\, Circuito C.U.\, 04510\, CDMX. \n﻿
URL:https://coordinaciongenero.unam.mx/evento/actividad-homenaje-a-la-dra-ruth-leticia-gonzalez-serratos/
LOCATION:Auditorio Dr. Florente López\, PB edificio D\, Facultad de Psicología\, Circuito C.U.\, 04510\, CDMX.
CATEGORIES:Feminismos
ATTACH;FMTTYPE=image/jpeg:https://coordinaciongenero.unam.mx/wp-content/uploads/2021/03/TEXTURA-1AÑO_ytthumbnail.jpg
END:VEVENT
END:VCALENDAR