BEGIN:VCALENDAR
VERSION:2.0
PRODID:-//Coordinación para la Igualdad de Género UNAM - ECPv6.15.20//NONSGML v1.0//EN
CALSCALE:GREGORIAN
METHOD:PUBLISH
X-WR-CALNAME:Coordinación para la Igualdad de Género UNAM
X-ORIGINAL-URL:https://coordinaciongenero.unam.mx
X-WR-CALDESC:Eventos para Coordinación para la Igualdad de Género UNAM
REFRESH-INTERVAL;VALUE=DURATION:PT1H
X-Robots-Tag:noindex
X-PUBLISHED-TTL:PT1H
BEGIN:VTIMEZONE
TZID:America/Chicago
BEGIN:DAYLIGHT
TZOFFSETFROM:-0600
TZOFFSETTO:-0500
TZNAME:CDT
DTSTART:20230312T080000
END:DAYLIGHT
BEGIN:STANDARD
TZOFFSETFROM:-0500
TZOFFSETTO:-0600
TZNAME:CST
DTSTART:20231105T070000
END:STANDARD
BEGIN:DAYLIGHT
TZOFFSETFROM:-0600
TZOFFSETTO:-0500
TZNAME:CDT
DTSTART:20240310T080000
END:DAYLIGHT
BEGIN:STANDARD
TZOFFSETFROM:-0500
TZOFFSETTO:-0600
TZNAME:CST
DTSTART:20241103T070000
END:STANDARD
BEGIN:DAYLIGHT
TZOFFSETFROM:-0600
TZOFFSETTO:-0500
TZNAME:CDT
DTSTART:20250309T080000
END:DAYLIGHT
BEGIN:STANDARD
TZOFFSETFROM:-0500
TZOFFSETTO:-0600
TZNAME:CST
DTSTART:20251102T070000
END:STANDARD
END:VTIMEZONE
BEGIN:VTIMEZONE
TZID:UTC
BEGIN:STANDARD
TZOFFSETFROM:+0000
TZOFFSETTO:+0000
TZNAME:UTC
DTSTART:20230101T000000
END:STANDARD
END:VTIMEZONE
BEGIN:VEVENT
DTSTART;VALUE=DATE:20240806
DTEND;VALUE=DATE:20240830
DTSTAMP:20260425T100913
CREATED:20240807T164234Z
LAST-MODIFIED:20240902T034304Z
UID:54677-1722902400-1724975999@coordinaciongenero.unam.mx
SUMMARY:Ciclo de conferencias de agosto: «Mujeres indígenas: pasado y presente»
DESCRIPTION:Organizada por: Museo de la Mujer. \nConferencias virtuales y gratuitas con registro previo. Se otorgará constancia con el 80% de asistencia. \n  \n20 agosto | 12:00 h \n«Símbolos de poder entre las mujeres mayas de la élite. Un análisis iconográfico de los ornamentos femeninos» \nParticipante(s): Imparte\, Dra. Cristina Vidal Lorenzo (Universidad de Valencia España) y la Dra. Esther Parpal Cabanes (Universidad de Valencia España); Modera\, Dra. Oresta López (El Colegio de San Luis\, FEMU). \nDisponible aquí: https://www.youtube.com/live/yBaP25xpuAo?si=lNpoQy_kKA1R-k2u  \nJueves\, 22 de agosto | 12:00 h \n«Relevancia estratégica de las sacerdotisas mexicas e incas en economía\, política y religión en sus sociedades. Análisis feminista» \nParticipante(s): Dra. María Del Pilar Alberti Manzanares\, Colegio de Postgraduados y Mtra. María Fernanda Lavín Robles\, FEMU-FCPyS\, UNAM.  \nDisponible aquí: https://www.youtube.com/live/Hmei-YBdEoU?si=Hpj1auf6oAfTsudW  \nMartes\, 27 de agosto | 12:00 h \n«Mujeres me’phaa y nahuas ante los escenarios del despojo» \nParticipante(s): Érika Sebastián Aguilar\, nahua feminista comunitaria) y Lic. Tzazil Valencia Oseguera\, FEMU. \nDisponible aquí: https://www.youtube.com/live/rl3EpdZC8DI?si=tvIYaGvm3Lcm0e-I \nJueves\, 29 de agosto | 12:00 h \n«Construyendo el camino para tener y conocer nuestros derechos como mujeres indígenas» \nParticipante(s): Todos Los Santos Dolores (Tere) Villalobos Vigil y Dra. Marina Del Pilar Olmeda Garcia\, FEMU.  \nDisponible aquí: https://www.youtube.com/live/gEA4e_RlXro?si=85rv9q7j38phzUJB  \n  \nDirigidas a: Público en general. \nRegistro previo: https://forms.gle/6DmW4ujLdEyx7NCe9  \nMás información: www.museodelamujer.org.mx
URL:https://coordinaciongenero.unam.mx/evento/ciclo-de-conferencias-de-agosto-mujeres-indigenas-pasado-y-presente/
CATEGORIES:Mujeres indígenas
ATTACH;FMTTYPE=image/png:https://coordinaciongenero.unam.mx/wp-content/uploads/2024/05/unam-cigu-texturas-eventos-3.png
END:VEVENT
BEGIN:VEVENT
DTSTART;TZID=America/Chicago:20240810T163000
DTEND;TZID=America/Chicago:20240831T173000
DTSTAMP:20260425T100913
CREATED:20240730T185326Z
LAST-MODIFIED:20260121T203808Z
UID:54510-1723307400-1725125400@coordinaciongenero.unam.mx
SUMMARY:Ciclo de cine: «Amor sáfico»
DESCRIPTION:10 al 31 de agosto de 2024 | 16:30 h \nCiclo de cine: «Amor sáfico» \nOrganizada por: Pimienta Films y Casa del Lago Juan José Arreola\, UNAM. \nUna curaduría de Pimienta Films en colaboración con Casa del Lago UNAM que busca reivindicar el amor lésbico\, históricamente invisibilizado\, sexualizado y fetichizado. Las mujeres en México\, aún en la comunidad LGBTIQ+\, siguen enfrentando una doble marginalización: de género y de orientación sexual. Se busca hacer frente a esto a través de un ciclo que celebra la diversidad\, los afectos y el cuidado en las relaciones sáficas\, desafiando la normatividad del cis-hetero-patriarcado.  \n  \nPROGRAMA \nSábado\, 10 de agosto \nNudo Mixteco | Dir. Ángeles Cruz | México | 2021 | 92 min | Clasificación B | Con charla inaugural a cargo de Raquel Medina Hernández\, fundadora de la Marcha Lencha\, y Dani CyC\, co-gestora del cineclub Cinito Sáfico en Monterrey\, Nuevo León. \nSábado\, 17 de agosto \nLa daga en el corazón | Dir. Yann González | Francia-México | 2018 | 102 min | Clasificación C |  \nDólares de arena | Dir. Laura Amelia Guzmán\, Israel Cárdenas | República Dominicana – Argentina – México | 2014 | 85 min | Clasificación B | Sábado\, 24 de agosto. \nSábado\, 31 de agosto \nBenedetta | Dir. Paul Verhoeven | Francia – Países Bajos | 2021 | 126 min | Clasificación C |  \nLas funciones se llevarán a cabo cada sábado a las 16:30 hrs. Los boletos de acceso se entregan una hora antes de la función. \nParticipante(s): Raquel Medina Hernández\, fundadora de la Marcha Lencha\, y Dani CyC\, co-gestora del cineclub Cinito Sáfico en Monterrey\, Nuevo León. \nDirigida a: Comunidad lésbica\, LGBTIQ+\, público general (cupo limitado a 60 personas).  \nActividad presencial.  \nLugar: Sala Lumiére\, Casa del Lago\, en Bosque de Chapultepec\, Primera Sección S/N\, San Miguel Chapultepec\, 11850\, Ciudad de México. \nMás información aquí
URL:https://coordinaciongenero.unam.mx/evento/ciclo-de-cine-amor-safico/
LOCATION:Casa del Lago Juan José Arreola
CATEGORIES:Diversidades y disidencias
ATTACH;FMTTYPE=image/jpeg:https://coordinaciongenero.unam.mx/wp-content/uploads/2021/03/TEXTURA-1AÑO_ytthumbnail.jpg
END:VEVENT
BEGIN:VEVENT
DTSTART;VALUE=DATE:20240812
DTEND;VALUE=DATE:20240827
DTSTAMP:20260425T100913
CREATED:20240803T025453Z
LAST-MODIFIED:20260121T223117Z
UID:54596-1723420800-1724716799@coordinaciongenero.unam.mx
SUMMARY:Cursos para personal académico de la UNAM (CIGU-PASD) agosto 2024
DESCRIPTION:Cursos para personal académico de la UNAM (CIGU-PASD) 2024\nLa Coordinación para la Igualdad de Género y el Programa de Actualización y Superación Docente (DGAPA-PASD) invitan al personal académico de la UNAM a los cursos: \n  \n«Prevención y erradicación de la discriminación y la violencia por razones de género en espacios universitarios »\nFacilita: Lourdes Enríquez Rosas. \nID: 14106 \nFechas y horarios: del 12 al 26 de agosto de 2024\, lunes y miércoles\, de 15:00 a 19:00 hrs \n \nTe comentamos que los cursos del Programa de Actualización y Superación Docente contemplan únicamente al personal académico de la Universidad\, adscrito con número de trabajador(a/e) y que esté en la nómina. \nSin embargo\, existen otros casos que también se toman en cuenta y estos tienen sus propios requisitos: \nCASO 1: Persona académica en proceso de adscripción o docente en la UNAM\nSi existe una adscripción como Académico o Académica en proceso\, o bien\, que la persona postulante ha sido docente\, al menos en el semestre anterior inmediato en la Universidad. \nPara poder comprobar dicho proceso es necesario: \n\nContar con un documento oficial firmado y sellado por la autoridad competente (puede ser: copia de la hoja única de contratación\, credencial resellada\, talón de pago\, constancia de asignación de grupos vigente firmada y sellada por la entidad de adscripción). Esto aplicaría\, en todo caso\, para las\, los y les docentes o académicos que no se encuentren vigentes en nómina (pero que hayan tenido adscripción en el semestre inmediato anterior)\, los profesores cuya adscripción se encuentra en trámite y personas docentes jubiladas.\nPara efectuar este tipo de inscripción será necesario escribir a los correos electrónicos: actlic@dgapa.unam.mx y pasd@dgapa.unam.mx\, con la documentación anteriormente mencionada\, más los siguientes datos:\n\nel nombre del curso al que se desea inscribir\nnombre\nRFC\nCURP\ncorreo electrónico\nnúmero telefónico de contacto\n\n\n\nNota: Para que se les considere como personal académico de la UNAM\, la inscripción se llevará a cabo siempre y cuando la solicitud cumpla con lo antes descrito\, el curso tenga cupo y se realice dentro de los tiempos establecidos (a más tardar el día del inicio del curso). \nCASO 2: “Persona académica externa” adscrita o no a la UNAM\nEn el caso de que no se cuente con algún documento de esta índole\, debes registrarte bajo el procedimiento de “Persona académica externa”. Las personas docentes externas pueden ser académicas en otra institución adscrita a la UNAM (Medio Superior o Licenciatura)\, o bien\, de otra entidad educativa no adscrita a la Universidad. \nEn este caso\, los cursos tendrán costo. \n\nSi es por parte de una escuela incorporada el costo del curso es de 35 pesos por hora.\nPara escuelas no incorporadas el costo es de 50 por hora.\n\nImportante: El pago es único y no hay devolución. \nMayor información: \nCorreo de los cursos PASD: pasd@dgapa.unam.mx \n  \nINSCRIPCIONES Y PROGRAMAS AQUÍ\n  \nGuia de inscripción\n  \nPodría interesarte
URL:https://coordinaciongenero.unam.mx/evento/cursos-para-personal-academico-de-la-unam-cigu-pasd-agosto-2024/
CATEGORIES:Curso,Educación para la igualdad,Prevención de la Violencia de Género,Violencia de Género
ATTACH;FMTTYPE=image/png:https://coordinaciongenero.unam.mx/wp-content/uploads/2022/04/cursosdocentes-imagenweb-04.png
END:VEVENT
BEGIN:VEVENT
DTSTART;TZID=America/Chicago:20240821T130000
DTEND;TZID=America/Chicago:20240821T130000
DTSTAMP:20260425T100913
CREATED:20240828T214910Z
LAST-MODIFIED:20240828T214910Z
UID:57787-1724245200-1724245200@coordinaciongenero.unam.mx
SUMMARY:Conferencia: «Tendederos virtuales en contextos universitarios»
DESCRIPTION:Organizada por: CInIG del Instituto de Investigaciones en Matemáticas Aplicadas y en Sistemas y la Dirección de Gestión Comunitaria y Erradicación de las Violencias. \nParticipante(s): Karla Amozurrutia Nava. \nDirigida a: Público en general. \nActividad híbrida. \nLugar: Salón 13\, primer piso. Edificio C del IIMAS. \nDisponible aquí: https://www.youtube.com/watch?v=3XsenYChDhk \n 
URL:https://coordinaciongenero.unam.mx/evento/conferencia-tendederos-virtuales-en-contextos-universitarios-2/
CATEGORIES:Feminismos
ATTACH;FMTTYPE=image/png:https://coordinaciongenero.unam.mx/wp-content/uploads/2024/05/unam-cigu-texturas-eventos-3.png
END:VEVENT
BEGIN:VEVENT
DTSTART;TZID=America/Chicago:20240821T160000
DTEND;TZID=America/Chicago:20240821T170000
DTSTAMP:20260425T100913
CREATED:20240807T181149Z
LAST-MODIFIED:20240827T054908Z
UID:54701-1724256000-1724259600@coordinaciongenero.unam.mx
SUMMARY:Presentación editorial: «Ciclo “Viaje al interior de los libros” con la obra En esta honda oscuridad de Carmen Nozal»
DESCRIPTION:21 de agosto de 2024 | 16:00 h \nPresentación editorial: «Ciclo “Viaje al interior de los libros” con la obra En esta honda oscuridad de Carmen Nozal» \nOrganizada por: Museo de la Mujer. \nRegistro previo en recepcionmuseomujer@gmail.com (indicar la actividad\, nombre completo y teléfono). \nParticipante(s): Carmen Nozal y Gela Manzano\, FEMU. \nDirigida a: Público en general. \nDisponible aquí: https://www.youtube.com/live/0MlB2BHAGaw?si=NutLjAgjpOcZTWUn
URL:https://coordinaciongenero.unam.mx/evento/presentacion-editorial-ciclo-viaje-al-interior-de-los-libros-con-la-obra-en-esta-honda-oscuridad-de-carmen-nozal/
LOCATION:YouTube
CATEGORIES:Literatura
ATTACH;FMTTYPE=image/png:https://coordinaciongenero.unam.mx/wp-content/uploads/2024/05/unam-cigu-texturas-eventos-3.png
END:VEVENT
BEGIN:VEVENT
DTSTART;TZID=America/Chicago:20240821T190000
DTEND;TZID=America/Chicago:20240821T200000
DTSTAMP:20260425T100913
CREATED:20240820T201343Z
LAST-MODIFIED:20260121T234211Z
UID:55147-1724266800-1724270400@coordinaciongenero.unam.mx
SUMMARY:Miércoles para la igualdad: «Oculto a plena luz»
DESCRIPTION:Miércoles para la igualdad: «Oculto a plena luz. El acoso y el hostigamiento sexual en la cultura institucional universitaria»\n\n¿Sabías que el acoso y el hostigamiento sexual pueden estar presentes incluso en la cultura institucional universitaria? En el #MiércolesparalaIgualdad\, te invitamos a unirte a nuestra charla donde exploraremos este tema crucial para construir espacios más seguros e igualitarios en nuestra universidad.\n. \n\n\n\n\n\n\n\n\nParticipan:\n\nGabriela Castellanos Abundiz\, CInIG FES Acatlán \nSandra Barranco\, CIGU \n\n\n  \nMíralo aquí: \n﻿
URL:https://coordinaciongenero.unam.mx/evento/oculto-a-plena-luz/
LOCATION:Facebook
CATEGORIES:Género y salud,Miércoles para la igualdad,Seguridad digital,Violencia de Género
ATTACH;FMTTYPE=image/png:https://coordinaciongenero.unam.mx/wp-content/uploads/2024/08/oculto_web.png
END:VEVENT
END:VCALENDAR