BEGIN:VCALENDAR
VERSION:2.0
PRODID:-//Coordinación para la Igualdad de Género UNAM - ECPv6.15.20//NONSGML v1.0//EN
CALSCALE:GREGORIAN
METHOD:PUBLISH
X-WR-CALNAME:Coordinación para la Igualdad de Género UNAM
X-ORIGINAL-URL:https://coordinaciongenero.unam.mx
X-WR-CALDESC:Eventos para Coordinación para la Igualdad de Género UNAM
REFRESH-INTERVAL;VALUE=DURATION:PT1H
X-Robots-Tag:noindex
X-PUBLISHED-TTL:PT1H
BEGIN:VTIMEZONE
TZID:America/Chicago
BEGIN:DAYLIGHT
TZOFFSETFROM:-0600
TZOFFSETTO:-0500
TZNAME:CDT
DTSTART:20230312T080000
END:DAYLIGHT
BEGIN:STANDARD
TZOFFSETFROM:-0500
TZOFFSETTO:-0600
TZNAME:CST
DTSTART:20231105T070000
END:STANDARD
BEGIN:DAYLIGHT
TZOFFSETFROM:-0600
TZOFFSETTO:-0500
TZNAME:CDT
DTSTART:20240310T080000
END:DAYLIGHT
BEGIN:STANDARD
TZOFFSETFROM:-0500
TZOFFSETTO:-0600
TZNAME:CST
DTSTART:20241103T070000
END:STANDARD
BEGIN:DAYLIGHT
TZOFFSETFROM:-0600
TZOFFSETTO:-0500
TZNAME:CDT
DTSTART:20250309T080000
END:DAYLIGHT
BEGIN:STANDARD
TZOFFSETFROM:-0500
TZOFFSETTO:-0600
TZNAME:CST
DTSTART:20251102T070000
END:STANDARD
END:VTIMEZONE
BEGIN:VEVENT
DTSTART;TZID=America/Chicago:20240607T113000
DTEND;TZID=America/Chicago:20240818T180000
DTSTAMP:20260424T010919
CREATED:20240528T212828Z
LAST-MODIFIED:20260121T204135Z
UID:53108-1717759800-1724004000@coordinaciongenero.unam.mx
SUMMARY:Exposición: «Las noches del 9. Revisión de los archivos Armando Cristeto\, Henri Donnadieu\, y Mongo»
DESCRIPTION:Organizada por: Museo Universitario del Chopo. \nExposición de archivo sobre El Disco-Bar 9\, espacio de fiestas y propuestas culturales de cine\, teatro\, música y activismo a favor de la comunidad LGBTIQ+\, activo desde 1977 a 1989. Fotografías\, invitaciones y flyers sobre algunos eventos conforman en su mayoría el material reunido\, el cual busca dar un contexto general de la comunidad y ambiente efervescente que se congregaba en este sitio. \nDirigida a: Público en general. \nActividad presencial. \nLugar: Sala Underground\, Museo Universitario del Chopo\, en C. Dr. Enrique González Martínez 10-P. B\, Sta. María la Ribera\, Cuauhtémoc\, 06400\, Ciudad de México. \nMás información: https://www.chopo.unam.mx/01ESPECIAL/artesvisuales/fids2024.html 
URL:https://coordinaciongenero.unam.mx/evento/exposicion-las-noches-del-9-revision-de-los-archivos-armando-cristeto-henri-donnadieu-y-mongo/
LOCATION:Sala Underground\, Museo Universitario del Chopo\, ubicado en C. Dr. Enrique González Martínez 10-P. B\, Sta. María la Ribera\, Cuauhtémoc\, 06400\, Ciudad de México.
CATEGORIES:Diversidades y disidencias,Orgullo PUMA 2024
ATTACH;FMTTYPE=image/png:https://coordinaciongenero.unam.mx/wp-content/uploads/2021/06/unam-cigu-actividades-semana-del-orgullo-lgbtttiq-02.png
END:VEVENT
BEGIN:VEVENT
DTSTART;TZID=America/Chicago:20240625T080000
DTEND;TZID=America/Chicago:20240812T180000
DTSTAMP:20260424T010919
CREATED:20240625T183301Z
LAST-MODIFIED:20260121T222836Z
UID:54003-1719302400-1723485600@coordinaciongenero.unam.mx
SUMMARY:Diplomado en línea: «Literatura\, Feminismos y Géneros en Asia y África Contemporáneas»
DESCRIPTION:El Diplomado busca reflexionar y discutir cómo las obras literarias de estas regiones reflejan\, cuestionan y desafían las normas de género\, así como sus implicaciones culturales\, sociales y políticas\, visibilizando diferentes formas de expresiones escritas y orales de mujeres y diversidades sexogénericas en las representaciones y relaciones de género\, considerando múltiples contextos culturales\, históricos\, económicos\, religiosos y políticos presentes en estas regiones. \nDuración del diplomado: Todos los lunes de 15:00 a 19:00\, inicia 19 de agosto 2024 al 16 de junio 2025. \nParticipante(s): Coordinadoras de módulos: Adriana Franco\, Andrea Aviña\, Danaé Fonseca\, Alejandra Gutiérrez\, Shekoufeh Mohammadi\, Laura Carballido\, Fernanda Vázquez\, Pablo Ramírez\, Radina Dimitrova\, Indira Añorve\, Vania De la Vega Shiota\, Alejandra Tapia\, Nayelli López y Raquel Rivas. \nDirigida a: Comunidad universitaria y público en general. \nInscripciones: inscripciones.pueaa@unam.mx
URL:https://coordinaciongenero.unam.mx/evento/diplomado-en-linea-literatura-feminismos-y-generos-en-asia-y-africa-contemporaneas/
CATEGORIES:Literatura
ATTACH;FMTTYPE=image/jpeg:https://coordinaciongenero.unam.mx/wp-content/uploads/2021/03/TEXTURA-1AÑO_ytthumbnail.jpg
END:VEVENT
BEGIN:VEVENT
DTSTART;TZID=America/Chicago:20240721T000000
DTEND;TZID=America/Chicago:20240724T235900
DTSTAMP:20260424T010919
CREATED:20240531T004658Z
LAST-MODIFIED:20240531T004658Z
UID:53283-1721520000-1721865540@coordinaciongenero.unam.mx
SUMMARY:Convocatoria: «3er Concurso de Canción Feminista»
DESCRIPTION:Convocatoria: «3er Concurso de Canción Feminista»\nOrganizada por: Coordinación de Difusión Cultural\, Casa del Lago UNAM\, la Cátedra Rosario Castellanos de Literatura y Géneros\, la Cátedra Nelson Mandela en Derechos Humanos en las Artes\, Radio UNAM\, Música UNAM\, Libros UNAM\, Facultad de Música UNAM\, Sello Jueves y SIPAM.\n \n\nEstá dirigida a mujeres feministas y personas feministas con identidades sexo-género disidentes\, creadoras individuales o colectivas\, nacionales o extranjeras.\nSe recibirán propuestas hasta el 21 de julio de 2024\n\n“Quien canta su mal espanta”\, dice el dicho popular\, y de espantar males los feminismos han aprendido mucho a lo largo de años de resistencia organizada en busca de la no discriminación y el alto a la violencia de género\, problemas históricos que persisten en la actualidad en un país con altas tasas de feminicidios. \nEsta convocatoria surge como un homenaje a los primeros Concursos de Canción Feminista que se llevaron a cabo en los años ochenta\, como parte del entonces naciente movimiento feminista en México y a partir de la exposición ¡En la calle y en la historia! 40 años de lucha feminista mexicana\, que tuvo lugar en 2022 en este recinto universitario. \nSe trata de un proyecto busca convocar voces que\, en cualquier tipo de género musical que incluya sonido y letra\, impulsen\, presenten\, acompañen\, hagan eco\, dibujen o representen inquietudes\, problemas específicos\, temas relacionados con las diversas luchas feministas. Voces como las de las mexicanas María Lazfer\, originaria de Saltillo\, con la pieza “Que retiemble con fuerza” y Jimena de Santiago Alanís (Ximbo) con la canción “No me importa”\, quienes resultaron ganadoras de la primera y segunda edición\, respectivamente. \nLa canción a postular deberá ser inédita\, de una duración mínima de dos minutos y máxima de siete\, además de estar en formato MP3. \nLas tres cantantes ganadoras recibirán: \nPrimer lugar: $15\,000 pesos mexicanos (quince mil pesos 00/100 M.N.) y el lanzamiento del sencillo de la canción ganadora en el Sello Jueves. \nSegundo lugar: $7\,000 pesos mexicanos (siete mil pesos 00/100 M.N.). \nTercer lugar: $5\,000 pesos mexicanos (cinco mil pesos 00/100 M.N.). \nAdemás\, competirán en la final  con una presentación en el Foro Alicia Urreta de Casa del Lago UNAM el 19 de octubre y sus canciones serán retransmitidas por Radio UNAM y Violeta Radio. Las finalistas también podrán tomar el taller “Cómo preparar tu lanzamiento musical” impartido por Sello Jueves\, quienes harán el lanzamiento de la canción ganadora. \nDirigida a: mujeres feministas y personas feministas con identidades sexo-género disidentes\, creadoras individuales o colectivas\, nacionales o extranjeras. \nMás información aquí: casadellago.unam.mx \n 
URL:https://coordinaciongenero.unam.mx/evento/convocatoria-3er-concurso-de-cancion-feminista/
LOCATION:Coordinación de Difusión Cultural
CATEGORIES:Convocatorias
ATTACH;FMTTYPE=image/png:https://coordinaciongenero.unam.mx/wp-content/uploads/2024/05/unam-cigu-texturas-eventos-3.png
END:VEVENT
END:VCALENDAR