BEGIN:VCALENDAR
VERSION:2.0
PRODID:-//Coordinación para la Igualdad de Género UNAM - ECPv6.15.20//NONSGML v1.0//EN
CALSCALE:GREGORIAN
METHOD:PUBLISH
X-WR-CALNAME:Coordinación para la Igualdad de Género UNAM
X-ORIGINAL-URL:https://coordinaciongenero.unam.mx
X-WR-CALDESC:Eventos para Coordinación para la Igualdad de Género UNAM
REFRESH-INTERVAL;VALUE=DURATION:PT1H
X-Robots-Tag:noindex
X-PUBLISHED-TTL:PT1H
BEGIN:VTIMEZONE
TZID:America/Chicago
BEGIN:DAYLIGHT
TZOFFSETFROM:-0600
TZOFFSETTO:-0500
TZNAME:CDT
DTSTART:20230312T080000
END:DAYLIGHT
BEGIN:STANDARD
TZOFFSETFROM:-0500
TZOFFSETTO:-0600
TZNAME:CST
DTSTART:20231105T070000
END:STANDARD
BEGIN:DAYLIGHT
TZOFFSETFROM:-0600
TZOFFSETTO:-0500
TZNAME:CDT
DTSTART:20240310T080000
END:DAYLIGHT
BEGIN:STANDARD
TZOFFSETFROM:-0500
TZOFFSETTO:-0600
TZNAME:CST
DTSTART:20241103T070000
END:STANDARD
BEGIN:DAYLIGHT
TZOFFSETFROM:-0600
TZOFFSETTO:-0500
TZNAME:CDT
DTSTART:20250309T080000
END:DAYLIGHT
BEGIN:STANDARD
TZOFFSETFROM:-0500
TZOFFSETTO:-0600
TZNAME:CST
DTSTART:20251102T070000
END:STANDARD
END:VTIMEZONE
BEGIN:VTIMEZONE
TZID:UTC
BEGIN:STANDARD
TZOFFSETFROM:+0000
TZOFFSETTO:+0000
TZNAME:UTC
DTSTART:20230101T000000
END:STANDARD
END:VTIMEZONE
BEGIN:VEVENT
DTSTART;TZID=America/Chicago:20240228T120000
DTEND;TZID=America/Chicago:20240619T140000
DTSTAMP:20260423T155223
CREATED:20240301T004225Z
LAST-MODIFIED:20240524T171905Z
UID:49294-1709121600-1718805600@coordinaciongenero.unam.mx
SUMMARY:Seminario: «Cuidados para la Vida y el Bien Común. 5a edición»
DESCRIPTION:Organizada por: Centro de Ciencias de la Complejidad UNAM.\nEl Centro de Ciencias de la Complejidad te invita a participar en las diferentes conferencias sobre las reflexiones que se han hecho del cuidado a raíz de la pandemia. \n28 de febrero de 2024\n«Cuidados en pandemia: reflexiones desde la salud pública»\nParticipante(s): Mauricio Rodríguez Álvarez.\nMauricio Rodríguez Álvarez es profesor en el Departamento de Microbiología y Parasitología de la Facultad de Medicina de la UNAM. Vocero de la Comisión Universitaria para la Atención de la Emergencia del Coronavirus\, dedica su investigación a las enfermedades infecciosas\, la prevención mediante la vacunación\, las ciencias bioquímicas y la microbiología. Autor de varios artículos especializados\, así como reconocido profesional en la divulgación médica. \nDisponible aquí: https://www.youtube.com/watch?v=Y_6Fnnpg0IY \n20 de marzo de 2024\n«One Health como plataforma para el cuidado y bienestar animal»\nParticipante(s): Elizabeth Téllez Ballesteros.\nElizabeth Téllez Ballesteros es médica veterinaria zootecnista\, especialista en zooética y ecoética. Maestra en Ciencias de la Producción de la Salud Animal Patológica del departamento de Análisis Clínicos del Centro Nacional de Servicios de Diagnóstico en Salud Animal y doctora en Ciencias. Ha sido profesora en el Programa de Bioética de la UNAM y es autora de varios artículos especializados y textos de divulgación para el cuidado animal. \nDisponible aquí: https://www.youtube.com/watch?v=d5NmOZxhdB0 \n24 de abril de 2024\n«El cuidado del patrimonio biocultural en la era del mezcal»\nParticipante(s): Alfonso Valiente Banuet.\nAlfonso Valiente Banuet es biólogo y ecólogo especialista en la biodiversidad de las zonas áridas y semiáridas de México\, así como en los efectos del cambio climático y las actividades humanas en el colapso de los ecosistemas. Doctor\, profesor e investigador del Instituto de Ecología y del C3 de la UNAM\, ha coordinado importantes proyectos y redes nacionales e internacionales para la protección del Medio Ambiente. Además\, es autor de capítulos\, artículos y libros especializados en sus líneas de investigación. \nDisponible aquí: https://www.youtube.com/watch?v=b12_0iGtOdE \n21 de mayo de 2024\n«Las masculinidades y el cuidado de sí»\nParticipante(s): Mauricio Zabalgoitia Herrera.\nMauricio Zabalgoitia Herrera es profesor e investigador en el ISSUE de la UNAM\, especialista en masculinidades y educación\, así como en temas vinculados con la erradicación de la violencia en los campus universitarios y la población estudiantil. Doctor en filología es autor y coordinador de varios libros\, así como de diversos artículos y capítulos de publicaciones nacionales e internacionales. \nDisponible aquí: \nDisponible aquí: https://www.youtube.com/live/SSCJQQdPq4w?si=UblST8b7VYWF1u95  \n19 de junio de 2024\n«El cuidado de las personas con discapacidad: de la mirada individual a la social y de derechos»\nParticipante(s): Judith Pérez Castro.\nJudith Pérez Castro es profesora e investigadora en el ISSUE. Doctora en Sociología dedica su investigación a temas vinculados con las políticas educativas\, la atención a actores sociales vulnerables y la diversidad sociocultural en la educación. Es coordinadora y autora de varios libros\, lo mismo que autora de diversos artículos especializados en derechos\, educación y poblaciones indígenas y cuidados para personas con discapacidades. \nActividades híbridas. \nSigue la transmisión en: https://www.youtube.com/c/CentrodeCienciasdelaComplejidadC3 \nLugar: Auditorio del C3\, Ciudad Universitaria.
URL:https://coordinaciongenero.unam.mx/evento/seminario-cuidados-para-la-vida-y-el-bien-comun-5a-edicion/
LOCATION:Auditorio C3\, Centro de Ciencias de la Complejidad\, Circuito Centro Cultural S/N\, (frente a Universum)\, Cd. Universitaria\, Delegación Coyoacán\, Ciudad de México\, Distrito Federal\, 04510\, Mexico
CATEGORIES:Cuidados
ATTACH;FMTTYPE=image/png:https://coordinaciongenero.unam.mx/wp-content/uploads/2021/01/unam-cigu-personas-orientadoras-textura2-e1630595419981.png
END:VEVENT
BEGIN:VEVENT
DTSTART;TZID=UTC:20240417T100000
DTEND;TZID=UTC:20240630T170000
DTSTAMP:20260423T155223
CREATED:20240406T031600Z
LAST-MODIFIED:20240412T200722Z
UID:51330-1713348000-1719766800@coordinaciongenero.unam.mx
SUMMARY:Exposición: «Casi anónimas»
DESCRIPTION:Organizado por: Museo de las Constituciones. \nSerie biográfica compuesta por 20 carteles que presentan a 20 mujeres de distintas épocas\, latitudes\, con distintas experiencias e intereses\, algunas conocidas\, otras no tanto o nada\, que han dejado rastro en la política\, en las ciencias o las artes de su tiempo; mujeres subversivas que decidieron no ajustarse a los condicionamientos de su contexto social o político. \nDirigido a: Público en general. \nActividad presencial. \nLugar: Calle del Carmen esquina San Ildefonso\, Centro Histórico de la CDMX.
URL:https://coordinaciongenero.unam.mx/evento/exposicion-casi-anonimas/
LOCATION:Calle del Carmen esquina San Ildefonso\, Centro Histórico de la CDMX.
ATTACH;FMTTYPE=image/jpeg:https://coordinaciongenero.unam.mx/wp-content/uploads/2021/03/TEXTURA-1AÑO_ytthumbnail.jpg
END:VEVENT
BEGIN:VEVENT
DTSTART;VALUE=DATE:20240425
DTEND;VALUE=DATE:20240628
DTSTAMP:20260423T155223
CREATED:20240419T002039Z
LAST-MODIFIED:20240502T184412Z
UID:52015-1714003200-1719532799@coordinaciongenero.unam.mx
SUMMARY:Curso: «La teoría es un momento de la lucha. Revisión Crítica de algunas corrientes teóricas del feminismo»
DESCRIPTION:Inicia el 25 de abril y termina el 27 de junio de 2024 | 10:00 a 12:00 horas \nCurso: «La teoría es un momento de la lucha. Revisión Crítica de algunas corrientes teóricas del feminismo»\nOrganizado por: Centro de Investigaciones y Estudios de Género (CIEG). \nEn este curso en línea\, a cargo de la Dra. Carla Carpio\, se analizarán\, a través de la revisión y discusión de bibliografía especializada\, los cuestionamientos y argumentos que se han desarrollado para contrastar sus diferencias conceptuales y las tensiones que han existido en relación con sus contextos histórico-sociales y políticos. \nModalidad: 10 sesiones en línea.\nDirigido a: Comunidad estudiantil\, profesorado\, comunidad UNAM y público en general.\n \nConvocatoria aquí\n  \nInscripciones en formacion@cieg.unam.mx 
URL:https://coordinaciongenero.unam.mx/evento/curso-la-teoria-es-un-momento-de-la-lucha-revision-critica-de-algunas-corrientes-teoricas-del-feminismo/
LOCATION:Platafoma Zoom
CATEGORIES:Convocatorias
ATTACH;FMTTYPE=image/jpeg:https://coordinaciongenero.unam.mx/wp-content/uploads/2020/11/fodo-textura.jpg
END:VEVENT
BEGIN:VEVENT
DTSTART;VALUE=DATE:20240425
DTEND;VALUE=DATE:20240628
DTSTAMP:20260423T155223
CREATED:20240419T002824Z
LAST-MODIFIED:20240419T004454Z
UID:52018-1714003200-1719532799@coordinaciongenero.unam.mx
SUMMARY:Convocatoria: «IV Concurso de Ensayos de Investigación y Perspectiva de Género»
DESCRIPTION:Convocatoria: «IV Concurso de Ensayos de Investigación y Perspectiva de Género»\nConvoca: Cátedra UNESCO de Igualdad de Género en Instituciones de la Educación Superior y el Grupo de Investigación en Estudios de Género de la Pontificia Universidad Católica del Perú (PUCP).\n \nEl objetivo del concurso es visibilizar\, revalorizar y promover la inclusión de la perspectiva de género en las investigaciones académicas de estudiantes de pregrado y posgrado a nivel nacional e internacional\, en el área o disciplina de su desempeño. \nLa perspectiva de género es una herramienta de análisis que posibilita el estudio de las desigualdades\, discriminaciones y violencias que se producen en torno al género; ello incluye los estudios de las mujeres y población LGTBIQA+\, así como la discusión en torno a las masculinidades\, las desigualdades estructurales\ne interseccionales\, avances y retrocesos en materia de derechos humanos\, la división sexual del trabajo\, las tareas de cuidado y de gestión de la vida\, entre otros. No hay restricciones temáticas\, siempre y cuando la perspectiva de género sea transversal en la investigación. \nLa recepción de ensayos será del 01 de abril al 30 de junio de 2024. \nDirigida a: comunidad estudiantil de pregrado y posgrado de universidades peruanas y extranjeras. \nConvocatoria: https://shorturl.at/vzASV \nFormulario de inscripción y envío de ensayo: https://forms.gle/ciSxiqZiEypW5hHe8 \nMás información: catedraunesco@pucp.edu.pe \n  \n  \n 
URL:https://coordinaciongenero.unam.mx/evento/convocatoria-iv-concurso-de-ensayos-de-investigacion-y-perspectiva-de-genero/
LOCATION:online
CATEGORIES:Convocatorias
ATTACH;FMTTYPE=image/jpeg:https://coordinaciongenero.unam.mx/wp-content/uploads/2024/04/434741148_1036426624509573_6666711842206670720_n-1.jpg
END:VEVENT
BEGIN:VEVENT
DTSTART;VALUE=DATE:20240514
DTEND;VALUE=DATE:20240628
DTSTAMP:20260423T155223
CREATED:20240426T190443Z
LAST-MODIFIED:20240502T183558Z
UID:52190-1715644800-1719532799@coordinaciongenero.unam.mx
SUMMARY:Curso: «Bioética y género»
DESCRIPTION:14 de mayo a 27 de junio de 2024\nCurso: «Bioética y género»\nOrganizada por: Programa Universitario de Bioética.\nModalidad: sincrónico vía Zoom.\nDirigida a: Estudiantes y profesionistas de las áreas químico\, biológicas\, de la salud y humanidades con\ninterés en el estudio y profundización en temas de bioética\, género y diversidad. \nInscripciones e información aquí
URL:https://coordinaciongenero.unam.mx/evento/curso-bioetica-y-genero/
LOCATION:zom
CATEGORIES:Convocatorias
ATTACH;FMTTYPE=image/jpeg:https://coordinaciongenero.unam.mx/wp-content/uploads/2021/03/TEXTURA-1AÑO_ytthumbnail.jpg
END:VEVENT
BEGIN:VEVENT
DTSTART;VALUE=DATE:20240529
DTEND;VALUE=DATE:20240627
DTSTAMP:20260423T155223
CREATED:20240418T234630Z
LAST-MODIFIED:20240419T000224Z
UID:52011-1716940800-1719446399@coordinaciongenero.unam.mx
SUMMARY:Curso: «Biología\, cuerpo y género»
DESCRIPTION:Convocatoria para el Curso: «Biología\, cuerpo y género»\nConvoca: Centro de Investigaciones y Estudios de Género -UNAM. \nLa discusión acerca de qué describe nuestra biología ha cobrado especial relevancia hacia dentro de los Feminismos. Es fundamental la adquisición de herramientas básicas sobre este tópico\, a fin de poder desarrollar\npensamientos críticos respecto de qué hablamos cuando nos referimos a las categorías de sexo y género. \nEn el curso presencial “Biología\, cuerpo y género”\, Lu Ciccia Dra. en Estudios de Género por la Universidad de Buenos Aires discutirá acerca de cómo la descripción de nuestra biología ha cobrado especial relevancia hacia dentro de los feminismos. Constará de 5 sesiones que se llevarán a cabo los días miércoles\, del 29 de mayo al 26 de junio\, de 10 a 14 horas. \nDirigido a: comunidad estudiantil\, profesorado\, comunidad UNAM y público en general. \nInscripciones: formacion@cieg.unam.mx\n \nConvocatoria disponible aquí \n  \n  \n 
URL:https://coordinaciongenero.unam.mx/evento/curso-biologia-cuerpo-y-genero/
LOCATION:Centro de Investigaciones y Estudios de Género (CIEG)\, Torre II de Humanidades\, Circuito Interior Coyoacán Piso 7\, C.U.\, Coyoacán\, 04510\, Ciudad de México.\, Coyoacán\, Distrito Federal\, 04510\, Mexico
CATEGORIES:Convocatorias
ATTACH;FMTTYPE=image/png:https://coordinaciongenero.unam.mx/wp-content/uploads/2024/04/Captura-de-pantalla-2024-04-18-174426.png
END:VEVENT
BEGIN:VEVENT
DTSTART;TZID=America/Chicago:20240529T100000
DTEND;TZID=America/Chicago:20240626T140000
DTSTAMP:20260423T155223
CREATED:20240422T021520Z
LAST-MODIFIED:20240531T193646Z
UID:52056-1716976800-1719410400@coordinaciongenero.unam.mx
SUMMARY:Curso: «Biología\, cuerpo y género»
DESCRIPTION:Organizada por: Centro de Investigaciones y Estudios de Género del CIEG. \nSe busca discutir acerca de cómo la descripción de nuestra biología ha cobrado especial relevancia hacia dentro de los feminismos. \nParticipante(s): Dra. Lu Ciccia. \nDirigida a:  Estudiantes\, profesores\, comunidad UNAM y público en general. \nActividad presencial. \nMás información: https://cieg.unam.mx/img/seminarios/CEC_Convocatoria_Ciccia.pdf \nInscripciones: formacion@cieg.unam.mx
URL:https://coordinaciongenero.unam.mx/evento/curso-biologia-cuerpo-y-genero-2/
CATEGORIES:Feminismos,Orgullo PUMA 2024
ATTACH;FMTTYPE=image/png:https://coordinaciongenero.unam.mx/wp-content/uploads/2021/06/unam-cigu-actividades-semana-del-orgullo-lgbtttiq-06.png
END:VEVENT
BEGIN:VEVENT
DTSTART;TZID=America/Chicago:20240603T100000
DTEND;TZID=America/Chicago:20240622T200000
DTSTAMP:20260423T155223
CREATED:20240610T221337Z
LAST-MODIFIED:20260121T224000Z
UID:53544-1717408800-1719086400@coordinaciongenero.unam.mx
SUMMARY:Exhibición y taller: «Tarot LGBTIQAP+»
DESCRIPTION:Organizada por: Centro Cultural Universitario Tlatelolco (CCUT). \nDescubre el futuro y despeja tus dudas con las 5 cartas de los arcanos mayores que unen la simbología visual del tarot con la diversidad de la comunidad LGBTIQAP+.\nLa exhibición estará del 3 al 22 de junio\, el taller será el día sábado 15 de junio al mediodía. Entrada libre. Cupo limitado. \nParticipante(s): Édgar Avilés Flores\, Omged\, y David Alberto Díaz. \nDirigida a: Jóvenes. \nActividad presencial. \nLugar: Lobby de la Unidad de Vinculación Artística\, Av. Ricardo Flores Magón 1\, Tlatelolco\, Cuauhtémoc\, 06900\, Ciudad de México.
URL:https://coordinaciongenero.unam.mx/evento/exhibicion-y-taller-tarot-lgbtiqap/
CATEGORIES:Diversidades y disidencias,Orgullo PUMA 2024
ATTACH;FMTTYPE=image/png:https://coordinaciongenero.unam.mx/wp-content/uploads/2021/06/unam-cigu-actividades-semana-del-orgullo-lgbtttiq_01.png
END:VEVENT
BEGIN:VEVENT
DTSTART;TZID=America/Chicago:20240605T180000
DTEND;TZID=America/Chicago:20240626T180000
DTSTAMP:20260423T155223
CREATED:20240610T221618Z
LAST-MODIFIED:20260121T223959Z
UID:53546-1717610400-1719424800@coordinaciongenero.unam.mx
SUMMARY:Ciclo de cine: «Fresa y chocolate\,  En el paraíso no existe el dolor\, Quebranto y Carmín tropical»
DESCRIPTION:Organizada por: Casa Universitaria del Libro (CASUL). \nLa película Fresa y chocolate (Tomás Gutiérrez Alea y Juan Carlos Tabío\, 1993)\, inaugura el ciclo de cine dedicado a presentar películas que abordan historias relacionadas con la comunidad LGBTQ+. Además\, el ciclo incluye: En el paraíso no existe el dolor (Dir. Víctor Saca\, 1995)\, Quebranto (Dir. Roberto Fiesco\, 2013) y Carmín tropical (Dir. Rigoberto Perezcano\, 2014). Las funciones se llevarán a cabo cada miércoles del mes a las 18:00 hrs\, la entrada es gratuita hasta completar el aforo.  \nDirigida a: Público en general. \nActividad presencial. \nLugar: CASUL\, en Orizaba 24\, Colonia Roma Norte\, Alcaldía Cuauhtémoc\, CDMX. \nMás información: www.casul.unam.mx \n 
URL:https://coordinaciongenero.unam.mx/evento/ciclo-de-cine-fresa-y-chocolate-en-el-paraiso-no-existe-el-dolor-quebranto-y-carmin-tropical/
CATEGORIES:Diversidades y disidencias,Orgullo PUMA 2024
ATTACH;FMTTYPE=image/png:https://coordinaciongenero.unam.mx/wp-content/uploads/2021/06/unam-cigu-actividades-semana-del-orgullo-lgbtttiq-03.png
END:VEVENT
BEGIN:VEVENT
DTSTART;TZID=America/Chicago:20240607T113000
DTEND;TZID=America/Chicago:20240630T180000
DTSTAMP:20260423T155223
CREATED:20240528T212056Z
LAST-MODIFIED:20260121T202255Z
UID:53101-1717759800-1719770400@coordinaciongenero.unam.mx
SUMMARY:Exposición: «La inocencia de las bestias\, de Fabián Chairez»
DESCRIPTION:Organizada por: Festival Internacional por la Diversidad Sexual (FIDS) y el Museo Universitario del Chopo. \nEn el marco del XXXVII Festival Internacional por la Diversidad Sexual\, se presenta la exposición 𝑳𝒂 𝒊𝒏𝒐𝒄𝒆𝒏𝒄𝒊𝒂 𝒅𝒆 𝒍𝒂𝒔 𝒃𝒆𝒔𝒕𝒊𝒂𝒔\, de Fabián Chairez. La muestra\, integrada por piezas en pintura e instalación\, aborda el fútbol como metáfora del patriarcado. \nParticipante(s): Fabián Chairez. \nDirigida a: Público en general. La entrada de menores a esta exposición queda a consideración de los adultos que les acompañan. \nActividad presencial. \nLugar: Sala Arnold Belkin\, Museo Universitario del Chopo\, ubicada en C. Dr. Enrique González Martínez 10-P. B\, Sta. María la Ribera\, Cuauhtémoc\, 06400\, Ciudad de México. \nMás información: https://www.chopo.unam.mx/
URL:https://coordinaciongenero.unam.mx/evento/exposicion-la-inocencia-de-las-bestias/
LOCATION:Sala Arnold Belkin\, Museo Universitario del Chopo\, ubicada en C. Dr. Enrique González Martínez 10-P. B\, Sta. María la Ribera\, Cuauhtémoc\, 06400\, Ciudad de México.
CATEGORIES:Arte y género,Orgullo PUMA 2024
ATTACH;FMTTYPE=image/png:https://coordinaciongenero.unam.mx/wp-content/uploads/2021/06/unam-cigu-actividades-semana-del-orgullo-lgbtttiq_01.png
END:VEVENT
BEGIN:VEVENT
DTSTART;TZID=America/Chicago:20240607T113000
DTEND;TZID=America/Chicago:20240818T180000
DTSTAMP:20260423T155223
CREATED:20240528T212828Z
LAST-MODIFIED:20260121T204135Z
UID:53108-1717759800-1724004000@coordinaciongenero.unam.mx
SUMMARY:Exposición: «Las noches del 9. Revisión de los archivos Armando Cristeto\, Henri Donnadieu\, y Mongo»
DESCRIPTION:Organizada por: Museo Universitario del Chopo. \nExposición de archivo sobre El Disco-Bar 9\, espacio de fiestas y propuestas culturales de cine\, teatro\, música y activismo a favor de la comunidad LGBTIQ+\, activo desde 1977 a 1989. Fotografías\, invitaciones y flyers sobre algunos eventos conforman en su mayoría el material reunido\, el cual busca dar un contexto general de la comunidad y ambiente efervescente que se congregaba en este sitio. \nDirigida a: Público en general. \nActividad presencial. \nLugar: Sala Underground\, Museo Universitario del Chopo\, en C. Dr. Enrique González Martínez 10-P. B\, Sta. María la Ribera\, Cuauhtémoc\, 06400\, Ciudad de México. \nMás información: https://www.chopo.unam.mx/01ESPECIAL/artesvisuales/fids2024.html 
URL:https://coordinaciongenero.unam.mx/evento/exposicion-las-noches-del-9-revision-de-los-archivos-armando-cristeto-henri-donnadieu-y-mongo/
LOCATION:Sala Underground\, Museo Universitario del Chopo\, ubicado en C. Dr. Enrique González Martínez 10-P. B\, Sta. María la Ribera\, Cuauhtémoc\, 06400\, Ciudad de México.
CATEGORIES:Diversidades y disidencias,Orgullo PUMA 2024
ATTACH;FMTTYPE=image/png:https://coordinaciongenero.unam.mx/wp-content/uploads/2021/06/unam-cigu-actividades-semana-del-orgullo-lgbtttiq-02.png
END:VEVENT
BEGIN:VEVENT
DTSTART;VALUE=DATE:20240610
DTEND;VALUE=DATE:20240627
DTSTAMP:20260423T155223
CREATED:20240615T022335Z
LAST-MODIFIED:20260121T223119Z
UID:53776-1717977600-1719446399@coordinaciongenero.unam.mx
SUMMARY:Cursos para personal académico de la UNAM (CIGU-PASD) junio 2024 - Genealogía feminista
DESCRIPTION:Cursos para personal académico de la UNAM (CIGU-PASD) 2024\nLa Coordinación para la Igualdad de Género y el Programa de Actualización y Superación Docente (DGAPA-PASD) invitan al personal académico de la UNAM a los cursos: \n  \n«Genealogía de los feminismos: historia y reflexiones críticas en torno a las olas feministas»\nFacilita: Laura Rosales Ponce de León. \nID: 14083 \nFechas y horarios: del 17 al 21 de junio de 2024\, 16:00 a 20:00 hrs \n \nTe comentamos que los cursos del Programa de Actualización y Superación Docente contemplan únicamente al personal académico de la Universidad\, adscrito con número de trabajador(a/e) y que esté en la nómina. \nSin embargo\, existen otros casos que también se toman en cuenta y estos tienen sus propios requisitos: \nCASO 1: Persona académica en proceso de adscripción o docente en la UNAM\nSi existe una adscripción como Académico o Académica en proceso\, o bien\, que la persona postulante ha sido docente\, al menos en el semestre anterior inmediato en la Universidad. \nPara poder comprobar dicho proceso es necesario: \n\nContar con un documento oficial firmado y sellado por la autoridad competente (puede ser: copia de la hoja única de contratación\, credencial resellada\, talón de pago\, constancia de asignación de grupos vigente firmada y sellada por la entidad de adscripción). Esto aplicaría\, en todo caso\, para las\, los y les docentes o académicos que no se encuentren vigentes en nómina (pero que hayan tenido adscripción en el semestre inmediato anterior)\, los profesores cuya adscripción se encuentra en trámite y personas docentes jubiladas.\nPara efectuar este tipo de inscripción será necesario escribir a los correos electrónicos: actlic@dgapa.unam.mx y pasd@dgapa.unam.mx\, con la documentación anteriormente mencionada\, más los siguientes datos:\n\nel nombre del curso al que se desea inscribir\nnombre\nRFC\nCURP\ncorreo electrónico\nnúmero telefónico de contacto\n\n\n\nNota: Para que se les considere como personal académico de la UNAM\, la inscripción se llevará a cabo siempre y cuando la solicitud cumpla con lo antes descrito\, el curso tenga cupo y se realice dentro de los tiempos establecidos (a más tardar el día del inicio del curso). \nCASO 2: “Persona académica externa” adscrita o no a la UNAM\nEn el caso de que no se cuente con algún documento de esta índole\, debes registrarte bajo el procedimiento de “Persona académica externa”. Las personas docentes externas pueden ser académicas en otra institución adscrita a la UNAM (Medio Superior o Licenciatura)\, o bien\, de otra entidad educativa no adscrita a la Universidad. \nEn este caso\, los cursos tendrán costo. \n\nSi es por parte de una escuela incorporada el costo del curso es de 35 pesos por hora.\nPara escuelas no incorporadas el costo es de 50 por hora.\n\nImportante: El pago es único y no hay devolución. \nMayor información: \nCorreo de los cursos PASD: pasd@dgapa.unam.mx \n  \nINSCRIPCIONES Y PROGRAMAS AQUÍ\n  \nGuia de inscripción\n  \nPodría interesarte
URL:https://coordinaciongenero.unam.mx/evento/cursos-para-personal-academico-de-la-unam-cigu-pasd-junio-2024-genealogia/
CATEGORIES:Curso,Educación para la igualdad,Masculinidades,Violencia de Género
ATTACH;FMTTYPE=image/png:https://coordinaciongenero.unam.mx/wp-content/uploads/2022/04/cursosdocentes-imagenweb-04.png
END:VEVENT
BEGIN:VEVENT
DTSTART;TZID=America/Chicago:20240614T120000
DTEND;TZID=America/Chicago:20240617T140000
DTSTAMP:20260423T155223
CREATED:20240506T204926Z
LAST-MODIFIED:20240506T210534Z
UID:52421-1718366400-1718632800@coordinaciongenero.unam.mx
SUMMARY:Taller: «Tu identidad\, tu derecho»
DESCRIPTION:Taller: «Tu identidad\, tu derecho»\nOrganizada por: Dirección General de Divulgación de las Humanidades \nImparte: Maximiliano Ortiz Rodríguez \nEste taller busca brindar un espacio de reflexión y aprendizaje donde las y los adolescentes puedan explorar su propia identidad\, comprender la diversidad presente en su entorno y desarrollar habilidades para respetar y valorar las diferencias individuales\, promoviendo así un ambiente de inclusión\, tolerancia y convivencia positiva en su comunidad. \nDirigida a: las adolescencias de preparatoria\, CCH\, Bachilleres y sistema incorporado UNAM \nLugar: Casa de las Humanidades. Presidente Carranza 162\, casi esquina con Tres cruces\, Santa Catarina\, Coyoacán\, 04000\, CDMX \nInformes e inscripciones: https://forms.gle/Ld1gWxMdXWurUcWh8  \n  \n 
URL:https://coordinaciongenero.unam.mx/evento/taller-tu-identidad-tu-derecho/
LOCATION:Casa de las Humanidades UNAM\, Calle Pdte. Carranza 162\, Santa Catarina\, Coyoacán\, Ciudad de México\, Ciudad de México\, 04000\, Mexico
CATEGORIES:Convocatorias
ATTACH;FMTTYPE=image/jpeg:https://coordinaciongenero.unam.mx/wp-content/uploads/2020/11/fodo-textura.jpg
END:VEVENT
BEGIN:VEVENT
DTSTART;TZID=America/Chicago:20240615T173000
DTEND;TZID=America/Chicago:20240626T183000
DTSTAMP:20260423T155223
CREATED:20240610T223414Z
LAST-MODIFIED:20260121T203809Z
UID:53562-1718472600-1719426600@coordinaciongenero.unam.mx
SUMMARY:Proyección de película y lectura de poesía: «Cuerpos e identidades»
DESCRIPTION:Organizada por: Museo de las Constituciones. \nPelículas latinoamericanas que visibilizan prejuicios\, estigmas o situaciones que enfrentan las personas cuya orientación sexual o de género no corresponde a los estándares de una sociedad heteronormativa. Cada proyección será precedida de una lectura poética de lo diverso. \nPrograma:  \n15 de junio 17:30 h\, Fresa y chocolate  \n22 de junio 17:30 h\, Una mujer fantástica  \n26 de junio 18:30 h\, El lugar sin límites.  \nDirigida a: Personas mayores de 18 años. \nActividad presencial. \nLugar: Museo de las Constituciones\, Calle del Carmen esq. San Ildefonso\, Centro Histórico\, CDMX.
URL:https://coordinaciongenero.unam.mx/evento/proyeccion-de-pelicula-y-lectura-de-poesia-cuerpos-e-identidades/
CATEGORIES:Diversidades y disidencias,Orgullo PUMA 2024
ATTACH;FMTTYPE=image/png:https://coordinaciongenero.unam.mx/wp-content/uploads/2021/06/unam-cigu-actividades-semana-del-orgullo-lgbtttiq-08.png
END:VEVENT
END:VCALENDAR