BEGIN:VCALENDAR
VERSION:2.0
PRODID:-//Coordinación para la Igualdad de Género UNAM - ECPv6.15.20//NONSGML v1.0//EN
CALSCALE:GREGORIAN
METHOD:PUBLISH
X-WR-CALNAME:Coordinación para la Igualdad de Género UNAM
X-ORIGINAL-URL:https://coordinaciongenero.unam.mx
X-WR-CALDESC:Eventos para Coordinación para la Igualdad de Género UNAM
REFRESH-INTERVAL;VALUE=DURATION:PT1H
X-Robots-Tag:noindex
X-PUBLISHED-TTL:PT1H
BEGIN:VTIMEZONE
TZID:America/Chicago
BEGIN:DAYLIGHT
TZOFFSETFROM:-0600
TZOFFSETTO:-0500
TZNAME:CDT
DTSTART:20230312T080000
END:DAYLIGHT
BEGIN:STANDARD
TZOFFSETFROM:-0500
TZOFFSETTO:-0600
TZNAME:CST
DTSTART:20231105T070000
END:STANDARD
BEGIN:DAYLIGHT
TZOFFSETFROM:-0600
TZOFFSETTO:-0500
TZNAME:CDT
DTSTART:20240310T080000
END:DAYLIGHT
BEGIN:STANDARD
TZOFFSETFROM:-0500
TZOFFSETTO:-0600
TZNAME:CST
DTSTART:20241103T070000
END:STANDARD
BEGIN:DAYLIGHT
TZOFFSETFROM:-0600
TZOFFSETTO:-0500
TZNAME:CDT
DTSTART:20250309T080000
END:DAYLIGHT
BEGIN:STANDARD
TZOFFSETFROM:-0500
TZOFFSETTO:-0600
TZNAME:CST
DTSTART:20251102T070000
END:STANDARD
END:VTIMEZONE
BEGIN:VTIMEZONE
TZID:UTC
BEGIN:STANDARD
TZOFFSETFROM:+0000
TZOFFSETTO:+0000
TZNAME:UTC
DTSTART:20230101T000000
END:STANDARD
END:VTIMEZONE
BEGIN:VEVENT
DTSTART;TZID=America/Chicago:20240228T120000
DTEND;TZID=America/Chicago:20240619T140000
DTSTAMP:20260424T220445
CREATED:20240301T004225Z
LAST-MODIFIED:20240524T171905Z
UID:49294-1709121600-1718805600@coordinaciongenero.unam.mx
SUMMARY:Seminario: «Cuidados para la Vida y el Bien Común. 5a edición»
DESCRIPTION:Organizada por: Centro de Ciencias de la Complejidad UNAM.\nEl Centro de Ciencias de la Complejidad te invita a participar en las diferentes conferencias sobre las reflexiones que se han hecho del cuidado a raíz de la pandemia. \n28 de febrero de 2024\n«Cuidados en pandemia: reflexiones desde la salud pública»\nParticipante(s): Mauricio Rodríguez Álvarez.\nMauricio Rodríguez Álvarez es profesor en el Departamento de Microbiología y Parasitología de la Facultad de Medicina de la UNAM. Vocero de la Comisión Universitaria para la Atención de la Emergencia del Coronavirus\, dedica su investigación a las enfermedades infecciosas\, la prevención mediante la vacunación\, las ciencias bioquímicas y la microbiología. Autor de varios artículos especializados\, así como reconocido profesional en la divulgación médica. \nDisponible aquí: https://www.youtube.com/watch?v=Y_6Fnnpg0IY \n20 de marzo de 2024\n«One Health como plataforma para el cuidado y bienestar animal»\nParticipante(s): Elizabeth Téllez Ballesteros.\nElizabeth Téllez Ballesteros es médica veterinaria zootecnista\, especialista en zooética y ecoética. Maestra en Ciencias de la Producción de la Salud Animal Patológica del departamento de Análisis Clínicos del Centro Nacional de Servicios de Diagnóstico en Salud Animal y doctora en Ciencias. Ha sido profesora en el Programa de Bioética de la UNAM y es autora de varios artículos especializados y textos de divulgación para el cuidado animal. \nDisponible aquí: https://www.youtube.com/watch?v=d5NmOZxhdB0 \n24 de abril de 2024\n«El cuidado del patrimonio biocultural en la era del mezcal»\nParticipante(s): Alfonso Valiente Banuet.\nAlfonso Valiente Banuet es biólogo y ecólogo especialista en la biodiversidad de las zonas áridas y semiáridas de México\, así como en los efectos del cambio climático y las actividades humanas en el colapso de los ecosistemas. Doctor\, profesor e investigador del Instituto de Ecología y del C3 de la UNAM\, ha coordinado importantes proyectos y redes nacionales e internacionales para la protección del Medio Ambiente. Además\, es autor de capítulos\, artículos y libros especializados en sus líneas de investigación. \nDisponible aquí: https://www.youtube.com/watch?v=b12_0iGtOdE \n21 de mayo de 2024\n«Las masculinidades y el cuidado de sí»\nParticipante(s): Mauricio Zabalgoitia Herrera.\nMauricio Zabalgoitia Herrera es profesor e investigador en el ISSUE de la UNAM\, especialista en masculinidades y educación\, así como en temas vinculados con la erradicación de la violencia en los campus universitarios y la población estudiantil. Doctor en filología es autor y coordinador de varios libros\, así como de diversos artículos y capítulos de publicaciones nacionales e internacionales. \nDisponible aquí: \nDisponible aquí: https://www.youtube.com/live/SSCJQQdPq4w?si=UblST8b7VYWF1u95  \n19 de junio de 2024\n«El cuidado de las personas con discapacidad: de la mirada individual a la social y de derechos»\nParticipante(s): Judith Pérez Castro.\nJudith Pérez Castro es profesora e investigadora en el ISSUE. Doctora en Sociología dedica su investigación a temas vinculados con las políticas educativas\, la atención a actores sociales vulnerables y la diversidad sociocultural en la educación. Es coordinadora y autora de varios libros\, lo mismo que autora de diversos artículos especializados en derechos\, educación y poblaciones indígenas y cuidados para personas con discapacidades. \nActividades híbridas. \nSigue la transmisión en: https://www.youtube.com/c/CentrodeCienciasdelaComplejidadC3 \nLugar: Auditorio del C3\, Ciudad Universitaria.
URL:https://coordinaciongenero.unam.mx/evento/seminario-cuidados-para-la-vida-y-el-bien-comun-5a-edicion/
LOCATION:Auditorio C3\, Centro de Ciencias de la Complejidad\, Circuito Centro Cultural S/N\, (frente a Universum)\, Cd. Universitaria\, Delegación Coyoacán\, Ciudad de México\, Distrito Federal\, 04510\, Mexico
CATEGORIES:Cuidados
ATTACH;FMTTYPE=image/png:https://coordinaciongenero.unam.mx/wp-content/uploads/2021/01/unam-cigu-personas-orientadoras-textura2-e1630595419981.png
END:VEVENT
BEGIN:VEVENT
DTSTART;VALUE=DATE:20240415
DTEND;VALUE=DATE:20240609
DTSTAMP:20260424T220445
CREATED:20240410T231246Z
LAST-MODIFIED:20260121T223122Z
UID:51602-1713139200-1717891199@coordinaciongenero.unam.mx
SUMMARY:Cursos para personal académico de la UNAM (CIGU-PASD) mayo-junio 2024
DESCRIPTION:Cursos para personal académico de la UNAM (CIGU-PASD) 2024\nLa Coordinación para la Igualdad de Género y el Programa de Actualización y Superación Docente (DGAPA-PASD Licenciatura) invitan al personal académico de la UNAM a los cursos: \n  \n«Otras masculinidades son posibles. Creando vínculos libres de violencia de género en el contexto escolar»\nFacilita: Mtro. Marco Antonio Osorio Orozco. \nID: 13929 \nFechas y horarios: Lunes\, miércoles y viernes del 15 de abril al 3 de mayo de 2024\, 16:00 a 18:30 hrs \nModalidad: Sesiones sincrónicas en línea. \n \n\n«Prevención de la violencia por razones de género en la UNAM. Construcción de comunidades seguras»\nFacilita: Mtra. Tania Jimena Hernández Crespo. \nID: 13930 \nFechas y horarios: Lunes\, miércoles y viernes del 15 de abril al 03 de mayo de 2024\, 10:00 a 12:30 hrs \nModalidad: Sesiones sincrónicas en línea. \n \n\n«Docencia y perspectiva de género»\nFacilita: Viridiana Becerril. \nID: 13932 \nFechas y horarios: Del 07 al 30 de mayo de 2024\, 10:00 a 12:30 hrs \nModalidad: Sesiones sincrónicas en línea. \n \n  \n«Prevención de la violencia por razones de género en la UNAM. Construcción de comunidades seguras»\nFacilita: Tania Rocha Jimena \nID: 13931 \nFechas y horarios: Del 4 de mayo al 1 de junio de 2024\, 9:00 a 13:00 hrs \nModalidad: Sesiones sincrónicas en línea. \n \n  \nNOTA SOBRE INSCRIPCIONES:\nTe comentamos que los cursos del Programa de Actualización y Superación Docente contemplan únicamente al personal académico de la Universidad\, adscrito con número de trabajador(a/e) y que esté en la nómina. \nSin embargo\, existen otros casos que también se toman en cuenta y estos tienen sus propios requisitos: \nCASO 1: Persona académica en proceso de adscripción o docente en la UNAM\nSi existe una adscripción como Académico o Académica en proceso\, o bien\, que la persona postulante ha sido docente\, al menos en el semestre anterior inmediato en la Universidad. \nPara poder comprobar dicho proceso es necesario: \n\nContar con un documento oficial firmado y sellado por la autoridad competente (puede ser: copia de la hoja única de contratación\, credencial resellada\, talón de pago\, constancia de asignación de grupos vigente firmada y sellada por la entidad de adscripción). Esto aplicaría\, en todo caso\, para las\, los y les docentes o académicos que no se encuentren vigentes en nómina (pero que hayan tenido adscripción en el semestre inmediato anterior)\, los profesores cuya adscripción se encuentra en trámite y personas docentes jubiladas.\nPara efectuar este tipo de inscripción será necesario escribir a los correos electrónicos: actlic@dgapa.unam.mx y pasd@dgapa.unam.mx\, con la documentación anteriormente mencionada\, más los siguientes datos:\n\nel nombre del curso al que se desea inscribir\nnombre\nRFC\nCURP\ncorreo electrónico\nnúmero telefónico de contacto\n\n\n\nNota: Para que se les considere como personal académico de la UNAM\, la inscripción se llevará a cabo siempre y cuando la solicitud cumpla con lo antes descrito\, el curso tenga cupo y se realice dentro de los tiempos establecidos (a más tardar el día del inicio del curso). \nCASO 2: “Persona académica externa” adscrita o no a la UNAM\nEn el caso de que no se cuente con algún documento de esta índole\, debes registrarte bajo el procedimiento de “Persona académica externa”. Las personas docentes externas pueden ser académicas en otra institución adscrita a la UNAM (Medio Superior o Licenciatura)\, o bien\, de otra entidad educativa no adscrita a la Universidad. \nEn este caso\, los cursos tendrán costo. \n\nSi es por parte de una escuela incorporada el costo del curso es de 35 pesos por hora.\nPara escuelas no incorporadas el costo es de 50 por hora.\n\nImportante: El pago es único y no hay devolución. \nMayor información: \nCorreo de los cursos PASD: pasd@dgapa.unam.mx \n  \nINSCRIPCIONES Y PROGRAMAS AQUÍ\n  \nGuia de inscripción\n  \nPodría interesarte
URL:https://coordinaciongenero.unam.mx/evento/cursos-para-personal-academico-de-la-unam-cigu-pasd-mayo-junio-2024/
CATEGORIES:Curso,Educación para la igualdad,Masculinidades,Violencia de Género
ATTACH;FMTTYPE=image/png:https://coordinaciongenero.unam.mx/wp-content/uploads/2022/04/cursosdocentes-imagenweb-04.png
END:VEVENT
BEGIN:VEVENT
DTSTART;VALUE=DATE:20240610
DTEND;VALUE=DATE:20240627
DTSTAMP:20260424T220445
CREATED:20240605T230658Z
LAST-MODIFIED:20260121T223120Z
UID:53415-1717977600-1719446399@coordinaciongenero.unam.mx
SUMMARY:Cursos para personal académico de la UNAM (CIGU-PASD) junio 2024
DESCRIPTION:Cursos para personal académico de la UNAM (CIGU-PASD) 2024\nLa Coordinación para la Igualdad de Género y el Programa de Actualización y Superación Docente (DGAPA-PASD) invitan al personal académico de la UNAM a los cursos: \n  \n«Otras masculinidades son posibles. Creando vínculos libres de violencia de género en el contexto escolar»\nFacilita: Mtro. Marco Antonio Osorio Orozco. \nID: 14084 \nFechas y horarios: Lunes\, miércoles y viernes del 10 al 26 de junio de 2024\, 16:00 a 18:30 hrs \nModalidad: Sesiones sincrónicas en línea\, por Zoom. \n \n\n«Herramientas para transformar: reimaginar la práctica docente con perspectiva feminista»\nFacilita: Mtra. Tania Jimena Hernández Crespo. \nID: 14085 \nFechas y horarios: Del 13 al 26 de junio de 2024\, 10:00 a 12:o0 hrs \nModalidad: Sesiones sincrónicas en línea\, por Zoom. \n \n  \nNOTA SOBRE INSCRIPCIONES:\nTe comentamos que los cursos del Programa de Actualización y Superación Docente contemplan únicamente al personal académico de la Universidad\, adscrito con número de trabajador(a/e) y que esté en la nómina. \nSin embargo\, existen otros casos que también se toman en cuenta y estos tienen sus propios requisitos: \nCASO 1: Persona académica en proceso de adscripción o docente en la UNAM\nSi existe una adscripción como Académico o Académica en proceso\, o bien\, que la persona postulante ha sido docente\, al menos en el semestre anterior inmediato en la Universidad. \nPara poder comprobar dicho proceso es necesario: \n\nContar con un documento oficial firmado y sellado por la autoridad competente (puede ser: copia de la hoja única de contratación\, credencial resellada\, talón de pago\, constancia de asignación de grupos vigente firmada y sellada por la entidad de adscripción). Esto aplicaría\, en todo caso\, para las\, los y les docentes o académicos que no se encuentren vigentes en nómina (pero que hayan tenido adscripción en el semestre inmediato anterior)\, los profesores cuya adscripción se encuentra en trámite y personas docentes jubiladas.\nPara efectuar este tipo de inscripción será necesario escribir a los correos electrónicos: actlic@dgapa.unam.mx y pasd@dgapa.unam.mx\, con la documentación anteriormente mencionada\, más los siguientes datos:\n\nel nombre del curso al que se desea inscribir\nnombre\nRFC\nCURP\ncorreo electrónico\nnúmero telefónico de contacto\n\n\n\nNota: Para que se les considere como personal académico de la UNAM\, la inscripción se llevará a cabo siempre y cuando la solicitud cumpla con lo antes descrito\, el curso tenga cupo y se realice dentro de los tiempos establecidos (a más tardar el día del inicio del curso). \nCASO 2: “Persona académica externa” adscrita o no a la UNAM\nEn el caso de que no se cuente con algún documento de esta índole\, debes registrarte bajo el procedimiento de “Persona académica externa”. Las personas docentes externas pueden ser académicas en otra institución adscrita a la UNAM (Medio Superior o Licenciatura)\, o bien\, de otra entidad educativa no adscrita a la Universidad. \nEn este caso\, los cursos tendrán costo. \n\nSi es por parte de una escuela incorporada el costo del curso es de 35 pesos por hora.\nPara escuelas no incorporadas el costo es de 50 por hora.\n\nImportante: El pago es único y no hay devolución. \nMayor información: \nCorreo de los cursos PASD: pasd@dgapa.unam.mx \n  \nINSCRIPCIONES Y PROGRAMAS AQUÍ\n  \nGuia de inscripción\n  \nPodría interesarte
URL:https://coordinaciongenero.unam.mx/evento/cursos-para-personal-academico-de-la-unam-cigu-pasd-junio-2024/
CATEGORIES:Curso,Educación para la igualdad,Masculinidades,Violencia de Género
ATTACH;FMTTYPE=image/png:https://coordinaciongenero.unam.mx/wp-content/uploads/2022/04/cursosdocentes-imagenweb-04.png
END:VEVENT
BEGIN:VEVENT
DTSTART;VALUE=DATE:20240416
DTEND;VALUE=DATE:20240511
DTSTAMP:20260424T220445
CREATED:20240522T193250Z
LAST-MODIFIED:20260122T232235Z
UID:52920-1713225600-1715385599@coordinaciongenero.unam.mx
SUMMARY:Primer Congreso Internacional «Feminismo\, mujeres y economía en América Latina y el Caribe»
DESCRIPTION:Organizada por Instituto de Investigaciones Económicas UNAM en coordinación con la American University. \nLes invitamos a participar del Primer Congreso Internacional de Economía Feminista en América Latina y el Caribe “Feminismo\, mujeres y economía en América Latina y el Caribe”. \n El evento se realizará de manera presencial pero será aceptada la presentación de ponencias online. \nFechas importantes\nPublicación de la convocatoria: 15 de abril de 2024. \nRecepción de resúmenes: Del 16 de abril al 10 de mayo de 2024. \nConfirmación de ponencias aceptadas: 15 de mayo de 2024. \nPublicación del programa: 19 de julio de 2024. \nRecepción de ponencias completas: 2 de agosto de 2024. \nRealización del Congreso: 8 y 9 de agosto de 2024. \nRecepción de trabajos para publicación: 9 de septiembre de 2024 \nDirigida a: Comunidad académica.  \nInformes: segecon@iiec.unam.mx \nInscripciones y recepción de ponencias aquí \n 
URL:https://coordinaciongenero.unam.mx/evento/primer-congreso-internacional-feminismo-mujeres-y-economia-en-america-latina-y-el-caribe/
LOCATION:Instituto de Investigaciones Económicas (IIEc)
CATEGORIES:Convocatorias,Economía feminista,Feminismos
ATTACH;FMTTYPE=image/png:https://coordinaciongenero.unam.mx/wp-content/uploads/2024/05/unam-cigu-texturas-eventos-3.png
END:VEVENT
BEGIN:VEVENT
DTSTART;TZID=UTC:20240417T100000
DTEND;TZID=UTC:20240630T170000
DTSTAMP:20260424T220445
CREATED:20240406T031600Z
LAST-MODIFIED:20240412T200722Z
UID:51330-1713348000-1719766800@coordinaciongenero.unam.mx
SUMMARY:Exposición: «Casi anónimas»
DESCRIPTION:Organizado por: Museo de las Constituciones. \nSerie biográfica compuesta por 20 carteles que presentan a 20 mujeres de distintas épocas\, latitudes\, con distintas experiencias e intereses\, algunas conocidas\, otras no tanto o nada\, que han dejado rastro en la política\, en las ciencias o las artes de su tiempo; mujeres subversivas que decidieron no ajustarse a los condicionamientos de su contexto social o político. \nDirigido a: Público en general. \nActividad presencial. \nLugar: Calle del Carmen esquina San Ildefonso\, Centro Histórico de la CDMX.
URL:https://coordinaciongenero.unam.mx/evento/exposicion-casi-anonimas/
LOCATION:Calle del Carmen esquina San Ildefonso\, Centro Histórico de la CDMX.
ATTACH;FMTTYPE=image/jpeg:https://coordinaciongenero.unam.mx/wp-content/uploads/2021/03/TEXTURA-1AÑO_ytthumbnail.jpg
END:VEVENT
BEGIN:VEVENT
DTSTART;TZID=America/Chicago:20240417T160000
DTEND;TZID=America/Chicago:20240522T170000
DTSTAMP:20260424T220445
CREATED:20240416T205255Z
LAST-MODIFIED:20240417T003851Z
UID:51854-1713369600-1716397200@coordinaciongenero.unam.mx
SUMMARY:Taller virtual: «Jugando sin etiquetas»
DESCRIPTION:Organizada por: Facultad de Psicología y  la Coordinación de Centros de Formación y Servicios Psicológicos. \nCuatro sesiones en línea\, cada miércoles. \nParticipante(s): Amy Gómez\, Angela Martínez\, Valentina Morfín\, Andrea Porras y Fernanda Trejo; Supervisa la Dra. Laura Amada Hernández Trejo. \nDirigida a: Niños\, niñas y niñes de 6 a 8 años y sus padres o cuidadores primarios. \nRegistro capturando el código QR. \nMás información: https://www.facebook.com/story.php?story_fbid=451088550644260&id=100072293566660&post_id=100072293566660_451088550644260&mibextid=xfxF2i&rdid=RIATECzlLtVVUaj1
URL:https://coordinaciongenero.unam.mx/evento/taller-virtual-jugando-sin-etiquetas/
CATEGORIES:Niñeces
ATTACH;FMTTYPE=image/jpeg:https://coordinaciongenero.unam.mx/wp-content/uploads/2020/11/fodo-textura.jpg
END:VEVENT
BEGIN:VEVENT
DTSTART;VALUE=DATE:20240425
DTEND;VALUE=DATE:20240628
DTSTAMP:20260424T220445
CREATED:20240419T002039Z
LAST-MODIFIED:20240502T184412Z
UID:52015-1714003200-1719532799@coordinaciongenero.unam.mx
SUMMARY:Curso: «La teoría es un momento de la lucha. Revisión Crítica de algunas corrientes teóricas del feminismo»
DESCRIPTION:Inicia el 25 de abril y termina el 27 de junio de 2024 | 10:00 a 12:00 horas \nCurso: «La teoría es un momento de la lucha. Revisión Crítica de algunas corrientes teóricas del feminismo»\nOrganizado por: Centro de Investigaciones y Estudios de Género (CIEG). \nEn este curso en línea\, a cargo de la Dra. Carla Carpio\, se analizarán\, a través de la revisión y discusión de bibliografía especializada\, los cuestionamientos y argumentos que se han desarrollado para contrastar sus diferencias conceptuales y las tensiones que han existido en relación con sus contextos histórico-sociales y políticos. \nModalidad: 10 sesiones en línea.\nDirigido a: Comunidad estudiantil\, profesorado\, comunidad UNAM y público en general.\n \nConvocatoria aquí\n  \nInscripciones en formacion@cieg.unam.mx 
URL:https://coordinaciongenero.unam.mx/evento/curso-la-teoria-es-un-momento-de-la-lucha-revision-critica-de-algunas-corrientes-teoricas-del-feminismo/
LOCATION:Platafoma Zoom
CATEGORIES:Convocatorias
ATTACH;FMTTYPE=image/jpeg:https://coordinaciongenero.unam.mx/wp-content/uploads/2020/11/fodo-textura.jpg
END:VEVENT
BEGIN:VEVENT
DTSTART;VALUE=DATE:20240425
DTEND;VALUE=DATE:20240628
DTSTAMP:20260424T220445
CREATED:20240419T002824Z
LAST-MODIFIED:20240419T004454Z
UID:52018-1714003200-1719532799@coordinaciongenero.unam.mx
SUMMARY:Convocatoria: «IV Concurso de Ensayos de Investigación y Perspectiva de Género»
DESCRIPTION:Convocatoria: «IV Concurso de Ensayos de Investigación y Perspectiva de Género»\nConvoca: Cátedra UNESCO de Igualdad de Género en Instituciones de la Educación Superior y el Grupo de Investigación en Estudios de Género de la Pontificia Universidad Católica del Perú (PUCP).\n \nEl objetivo del concurso es visibilizar\, revalorizar y promover la inclusión de la perspectiva de género en las investigaciones académicas de estudiantes de pregrado y posgrado a nivel nacional e internacional\, en el área o disciplina de su desempeño. \nLa perspectiva de género es una herramienta de análisis que posibilita el estudio de las desigualdades\, discriminaciones y violencias que se producen en torno al género; ello incluye los estudios de las mujeres y población LGTBIQA+\, así como la discusión en torno a las masculinidades\, las desigualdades estructurales\ne interseccionales\, avances y retrocesos en materia de derechos humanos\, la división sexual del trabajo\, las tareas de cuidado y de gestión de la vida\, entre otros. No hay restricciones temáticas\, siempre y cuando la perspectiva de género sea transversal en la investigación. \nLa recepción de ensayos será del 01 de abril al 30 de junio de 2024. \nDirigida a: comunidad estudiantil de pregrado y posgrado de universidades peruanas y extranjeras. \nConvocatoria: https://shorturl.at/vzASV \nFormulario de inscripción y envío de ensayo: https://forms.gle/ciSxiqZiEypW5hHe8 \nMás información: catedraunesco@pucp.edu.pe \n  \n  \n 
URL:https://coordinaciongenero.unam.mx/evento/convocatoria-iv-concurso-de-ensayos-de-investigacion-y-perspectiva-de-genero/
LOCATION:online
CATEGORIES:Convocatorias
ATTACH;FMTTYPE=image/jpeg:https://coordinaciongenero.unam.mx/wp-content/uploads/2024/04/434741148_1036426624509573_6666711842206670720_n-1.jpg
END:VEVENT
BEGIN:VEVENT
DTSTART;TZID=America/Chicago:20240502T150000
DTEND;TZID=America/Chicago:20240523T190000
DTSTAMP:20260424T220445
CREATED:20240416T210507Z
LAST-MODIFIED:20240429T222616Z
UID:51857-1714662000-1716490800@coordinaciongenero.unam.mx
SUMMARY:Curso de actualización: «Capitalismo gore\, transfeminismos y política post-mortem»
DESCRIPTION:Organizada por: Facultad de Ciencias Políticas y Sociales y el Centro de Investigación sobre América Latina y el Caribe\, Proyecto PAPIIT No. IG300223. \nEn este curso de actualización\, la reconocida filósofa y poeta mexicana Sayak Valencia (Tijuana\, 1980) aborda los conceptos que ha creado para entender la situación actual no sólo latinoamericana sino global en que la violencia se ha vuelto espectáculo. Valencia parte de un análisis transfeminista para entender lo que define como el capitalismo gore que\, alimentado por la depredación y el asesinato\, se establece como una extensión de la colonialidad en la época contemporánea. \nParticipante(s): Sayak Valencia. \nDirigida a: Comunidad estudiantil y docente. \nLugar: Facultad de Ciencias Políticas y Sociales. \nInscripción en Sistema de Gestión Electrónica GeDGAPA. \n 
URL:https://coordinaciongenero.unam.mx/evento/curso-capitalismo-gore-transfeminismos-y-politica-post-mortem/
LOCATION:Facultad de Ciencias Políticas y Sociales.
CATEGORIES:Feminismos
ATTACH;FMTTYPE=image/jpeg:https://coordinaciongenero.unam.mx/wp-content/uploads/2021/03/TEXTURA-1AÑO_ytthumbnail.jpg
END:VEVENT
BEGIN:VEVENT
DTSTART;VALUE=DATE:20240505
DTEND;VALUE=DATE:20240506
DTSTAMP:20260424T220445
CREATED:20240424T211906Z
LAST-MODIFIED:20240510T074731Z
UID:52140-1714867200-1714953599@coordinaciongenero.unam.mx
SUMMARY:Ciclo de conferencias de mayo: «La maternidad será voluntaria o no será»
DESCRIPTION:05 de mayo de 2024 | 12:00 h \nCiclo de conferencias de mayo: «La maternidad será voluntaria o no será» \nOrganizada por: Museo de la Mujer. \nDurante todo el mes de mayo se realizará el ciclo de conferencias\, en conmemoración del Día de la Maternidad Libre y Voluntaria. \nDirigida a: Público en general. \n  \nConsulta la cartelera aquí\n  \n  \n﻿
URL:https://coordinaciongenero.unam.mx/evento/ciclo-de-conferencias-de-mayo-la-maternidad-sera-voluntaria-o-no-sera/
LOCATION:YouTube
CATEGORIES:Maternidades
ATTACH;FMTTYPE=image/jpeg:https://coordinaciongenero.unam.mx/wp-content/uploads/2021/03/TEXTURA-1AÑO_ytthumbnail.jpg
END:VEVENT
BEGIN:VEVENT
DTSTART;TZID=America/Chicago:20240505T103000
DTEND;TZID=America/Chicago:20240505T120000
DTSTAMP:20260424T220445
CREATED:20240424T224800Z
LAST-MODIFIED:20260121T215139Z
UID:52156-1714905000-1714910400@coordinaciongenero.unam.mx
SUMMARY:Taller: «Danzaterapia»
DESCRIPTION:05 de mayo de 2024 | 10:30 a 12:00 h \nTaller: «Danzaterapia» \nOrganizada por: Museo de la Mujer. \nRegístrate en recepcionmuseomujer@gmail.com (indicar la actividad\, nombre completo y teléfono). Costo por sesión: $60. \nParticipante(s): Mtra. Rebeca Caballero Álvarez\, FEMU-FFyL UNAM. \nDirigida a: Mujeres. \nActividad presencial. \nLugar: Museo de la Mujer\, ubicado en calle República de Bolivia 17\, Colonia Centro\, Ciudad de México. \nMás información aquí\n 
URL:https://coordinaciongenero.unam.mx/evento/taller-danzaterapia-2/
LOCATION:Museo de la Mujer.\, C. República de Bolivia 17\, Centro Histórico de la Cdad. de México\, Centro\, Cuauhtémoc\, 06020 Ciudad de México\, CDMX\, Cuauhtémoc\, Distrito Federal\, 06020\, Mexico
CATEGORIES:Arte y género
ATTACH;FMTTYPE=image/jpeg:https://coordinaciongenero.unam.mx/wp-content/uploads/2021/03/TEXTURA-1AÑO_ytthumbnail.jpg
END:VEVENT
BEGIN:VEVENT
DTSTART;TZID=America/Chicago:20240505T110000
DTEND;TZID=America/Chicago:20240505T120000
DTSTAMP:20260424T220445
CREATED:20240513T224336Z
LAST-MODIFIED:20240517T231242Z
UID:52671-1714906800-1714910400@coordinaciongenero.unam.mx
SUMMARY:Violeta y oro: Igualdad de género para la esperanza
DESCRIPTION:En este episodio de Violeta y Oro conversamos con Sandra Barranco\, directora de Transversalización de Políticas Universitarias en la CIGU UNAM\, quien nos platicó qué significa transversalizar las políticas universitarias en favor de toda la comunidad\, con un enfoque de género en todas las funciones y áreas (docencia\, investigación\, prácticas culturales). La UNAM cuenta con más de 170 entidades y dependencias\, por lo que para Sandra Barranco la participación de las comisiones internas para la igualdad de género (CInIG) es fundamental para conseguir una capacitación y resolución efectiva\, así como una participación comunitaria en todos los niveles. \n¿De qué manera las CInIG han ayudado a la erradicación de la violencia de género en la UNAM? \nSandra Barranco nos contó que es impresionante como cada entidad retoma las estrategias en favor de la igualdad y crea actividades de acuerdo a su disciplina. De esta forma las CInIG ofrecen una variedad de iniciativas. Asimismo\, cada entidad tiene una agenda de acciones para la igualdad y eso ha permitido una sensibilización efectiva y constante acerca de las problemáticas de género. En 2023 se registraron 1035 acciones en favor de la paz. Por último\, Sandra Barranco platicó sobre la experiencia de crianza en esta época llena de politización y movimientos feministas. \n  \nPieza musical titulada «Louisiana» interpretada por Las Gemelas Beaujean \n  \n\n\n\n\n\n\nCápsula informativa sobre las Comisiones Internas para la Igualdad de Género (CInIG) de la Coordinación para la Igualdad de Género en la UNAM (CIGU)\, órganos auxiliares de las entidades y dependencias de la UNAM\, que colaboran para impulsar la implementación de la política institucional en materia de igualdad de género de la Universidad. \nConduce:Sandra Lorenzano (CIGU UNAM). \n  \n\n\nESCUCHA EL EPISODIO AQUÍ
URL:https://coordinaciongenero.unam.mx/evento/violeta-y-oro-igualdad-genero-para-esperanza/
CATEGORIES:violeta y oro
ATTACH;FMTTYPE=image/jpeg:https://coordinaciongenero.unam.mx/wp-content/uploads/2024/05/2fcac3a9-6568-40dc-9f57-ad24e85ac5d1.jpg
END:VEVENT
END:VCALENDAR