BEGIN:VCALENDAR
VERSION:2.0
PRODID:-//Coordinación para la Igualdad de Género UNAM - ECPv6.15.20//NONSGML v1.0//EN
CALSCALE:GREGORIAN
METHOD:PUBLISH
X-WR-CALNAME:Coordinación para la Igualdad de Género UNAM
X-ORIGINAL-URL:https://coordinaciongenero.unam.mx
X-WR-CALDESC:Eventos para Coordinación para la Igualdad de Género UNAM
REFRESH-INTERVAL;VALUE=DURATION:PT1H
X-Robots-Tag:noindex
X-PUBLISHED-TTL:PT1H
BEGIN:VTIMEZONE
TZID:America/Chicago
BEGIN:DAYLIGHT
TZOFFSETFROM:-0600
TZOFFSETTO:-0500
TZNAME:CDT
DTSTART:20220313T080000
END:DAYLIGHT
BEGIN:STANDARD
TZOFFSETFROM:-0500
TZOFFSETTO:-0600
TZNAME:CST
DTSTART:20221106T070000
END:STANDARD
BEGIN:DAYLIGHT
TZOFFSETFROM:-0600
TZOFFSETTO:-0500
TZNAME:CDT
DTSTART:20230312T080000
END:DAYLIGHT
BEGIN:STANDARD
TZOFFSETFROM:-0500
TZOFFSETTO:-0600
TZNAME:CST
DTSTART:20231105T070000
END:STANDARD
BEGIN:DAYLIGHT
TZOFFSETFROM:-0600
TZOFFSETTO:-0500
TZNAME:CDT
DTSTART:20240310T080000
END:DAYLIGHT
BEGIN:STANDARD
TZOFFSETFROM:-0500
TZOFFSETTO:-0600
TZNAME:CST
DTSTART:20241103T070000
END:STANDARD
BEGIN:DAYLIGHT
TZOFFSETFROM:-0600
TZOFFSETTO:-0500
TZNAME:CDT
DTSTART:20250309T080000
END:DAYLIGHT
BEGIN:STANDARD
TZOFFSETFROM:-0500
TZOFFSETTO:-0600
TZNAME:CST
DTSTART:20251102T070000
END:STANDARD
END:VTIMEZONE
BEGIN:VTIMEZONE
TZID:UTC
BEGIN:STANDARD
TZOFFSETFROM:+0000
TZOFFSETTO:+0000
TZNAME:UTC
DTSTART:20230101T000000
END:STANDARD
END:VTIMEZONE
BEGIN:VEVENT
DTSTART;TZID=America/Chicago:20230801T080000
DTEND;TZID=America/Chicago:20240501T170000
DTSTAMP:20260425T074803
CREATED:20230523T181215Z
LAST-MODIFIED:20260121T224721Z
UID:42355-1690876800-1714582800@coordinaciongenero.unam.mx
SUMMARY:Seminario de investigación: Teorías Queers y comunitarias
DESCRIPTION:Modalidad a distancia. \nSesiones mensuales Agosto 2023- Mayo 2024 \nMiércoles de 17:00h a 19:00h \nCoordinación académica: \n\nDr. César Torres\nLic. Darío Martínez\n\nInformes: rudymarz@gmail.com \nConvocatoria completa aquí
URL:https://coordinaciongenero.unam.mx/evento/seminario-de-investigacion-teorias-queers-y-comunitarias/
CATEGORIES:Convocatorias,Diversidades y disidencias,Seminario
ATTACH;FMTTYPE=image/jpeg:https://coordinaciongenero.unam.mx/wp-content/uploads/2023/05/UNAM-CIGU-seminario-de-investigacion-teorias-queers-y-comunitarias-.jpeg
END:VEVENT
BEGIN:VEVENT
DTSTART;TZID=America/Chicago:20230818T090000
DTEND;TZID=America/Chicago:20240430T090000
DTSTAMP:20260425T074803
CREATED:20230914T200637Z
LAST-MODIFIED:20240507T223521Z
UID:44401-1692349200-1714467600@coordinaciongenero.unam.mx
SUMMARY:«Seminario sobre Investigación e intervención con niñeces\, adolescencias y juventudes migrantes»
DESCRIPTION:Organizada por: Coordinación para la Igualdad de Género de la UNAM (CIGU)\, Centro de Estudios Mexicanos UNAM-Boston\, Universidad Autónoma de Baja California y Universidad de Sevilla. \nCada tercer viernes de mes\, a partir del 18 de agosto\, se llevará a cabo el «Seminario sobre Investigación e intervención con niñeces\, adolescentes y juventudes migrantes» en su IV edición. El evento tendrá un cupo de 100 personas y será gratuito con el requisito de la redacción de una carta de motivos.  \nParticipante(s): Red Internacional sobre Niñez\, adolescencia y Juventud Migrante en las Américas (REDINAJMA). \nSe otorgará constancia si se cumple el 80% de asistencia.  \nEvento Vía Zoom\, transmitido por: https://www.facebook.com/FacultadPedagogiaUABC  \nDirigido a: Público en general. \nInformes e inscripciones: redinaj.migrante@gmail.com
URL:https://coordinaciongenero.unam.mx/evento/seminario-sobre-investigacion-e-intervencion-con-nineces-adolescencias-y-juventudes-migrantes/
CATEGORIES:Seminario
ATTACH;FMTTYPE=image/png:https://coordinaciongenero.unam.mx/wp-content/uploads/2022/11/fondo-25n-pagina.png
END:VEVENT
BEGIN:VEVENT
DTSTART;TZID=America/Chicago:20231031T113000
DTEND;TZID=America/Chicago:20240407T180000
DTSTAMP:20260425T074803
CREATED:20231101T000858Z
LAST-MODIFIED:20231101T000858Z
UID:45817-1698751800-1712512800@coordinaciongenero.unam.mx
SUMMARY:Exposición colectiva: «Lumbre. Ilustradoras en México»
DESCRIPTION:Organizada por: Cultura UNAM y Museo Universitario del Chopo.  \nLumbre es una exposición colectiva que reúne el trabajo de 35 mujeres ilustradoras en México. El conjunto de piezas presenta una serie de posicionamientos personales y sociales\, en algunos casos la aceptación del cuerpo\, la conexión con lo cotidiano y el entorno doméstico; también trata temas de resistencia\, como desaparición forzada\, derechos reproductivos y desigualdades sociales. El lenguaje visual construido por sus autoras encuentra su plataforma en redes sociales\, murales y tatuajes\, mostrándose como un medio de comunicación autosuficiente y contestatario ante las normas patriarcales. \nDirigida a: Todo público.  \nActividad presencial. \nLugar: Museo Universitario del Chopo\, Galería Arnold Belkin (Dr. Enrique González Martínez 10\, Col. Sta María la Ribera\, Del. Cuauhtémoc\, Ciudad de México). \nCostos: General $40.00\, Estudiantes $20.00\, Miércoles Entrada libre. \nMás información \n 
URL:https://coordinaciongenero.unam.mx/evento/exposicion-colectiva-lumbre-ilustradoras-en-mexico/
LOCATION:Museo Universitario del Chopo.\, C. Dr. Enrique González Martínez 10\, Sta María la Ribera\, Cuauhtémoc\, Ciudad de México\, 06400\, Mexico
CATEGORIES:Arte y género
ATTACH;FMTTYPE=image/jpeg:https://coordinaciongenero.unam.mx/wp-content/uploads/2021/03/TEXTURA-1AÑO_ytthumbnail.jpg
END:VEVENT
BEGIN:VEVENT
DTSTART;TZID=America/Chicago:20240228T120000
DTEND;TZID=America/Chicago:20240619T140000
DTSTAMP:20260425T074803
CREATED:20240301T004225Z
LAST-MODIFIED:20240524T171905Z
UID:49294-1709121600-1718805600@coordinaciongenero.unam.mx
SUMMARY:Seminario: «Cuidados para la Vida y el Bien Común. 5a edición»
DESCRIPTION:Organizada por: Centro de Ciencias de la Complejidad UNAM.\nEl Centro de Ciencias de la Complejidad te invita a participar en las diferentes conferencias sobre las reflexiones que se han hecho del cuidado a raíz de la pandemia. \n28 de febrero de 2024\n«Cuidados en pandemia: reflexiones desde la salud pública»\nParticipante(s): Mauricio Rodríguez Álvarez.\nMauricio Rodríguez Álvarez es profesor en el Departamento de Microbiología y Parasitología de la Facultad de Medicina de la UNAM. Vocero de la Comisión Universitaria para la Atención de la Emergencia del Coronavirus\, dedica su investigación a las enfermedades infecciosas\, la prevención mediante la vacunación\, las ciencias bioquímicas y la microbiología. Autor de varios artículos especializados\, así como reconocido profesional en la divulgación médica. \nDisponible aquí: https://www.youtube.com/watch?v=Y_6Fnnpg0IY \n20 de marzo de 2024\n«One Health como plataforma para el cuidado y bienestar animal»\nParticipante(s): Elizabeth Téllez Ballesteros.\nElizabeth Téllez Ballesteros es médica veterinaria zootecnista\, especialista en zooética y ecoética. Maestra en Ciencias de la Producción de la Salud Animal Patológica del departamento de Análisis Clínicos del Centro Nacional de Servicios de Diagnóstico en Salud Animal y doctora en Ciencias. Ha sido profesora en el Programa de Bioética de la UNAM y es autora de varios artículos especializados y textos de divulgación para el cuidado animal. \nDisponible aquí: https://www.youtube.com/watch?v=d5NmOZxhdB0 \n24 de abril de 2024\n«El cuidado del patrimonio biocultural en la era del mezcal»\nParticipante(s): Alfonso Valiente Banuet.\nAlfonso Valiente Banuet es biólogo y ecólogo especialista en la biodiversidad de las zonas áridas y semiáridas de México\, así como en los efectos del cambio climático y las actividades humanas en el colapso de los ecosistemas. Doctor\, profesor e investigador del Instituto de Ecología y del C3 de la UNAM\, ha coordinado importantes proyectos y redes nacionales e internacionales para la protección del Medio Ambiente. Además\, es autor de capítulos\, artículos y libros especializados en sus líneas de investigación. \nDisponible aquí: https://www.youtube.com/watch?v=b12_0iGtOdE \n21 de mayo de 2024\n«Las masculinidades y el cuidado de sí»\nParticipante(s): Mauricio Zabalgoitia Herrera.\nMauricio Zabalgoitia Herrera es profesor e investigador en el ISSUE de la UNAM\, especialista en masculinidades y educación\, así como en temas vinculados con la erradicación de la violencia en los campus universitarios y la población estudiantil. Doctor en filología es autor y coordinador de varios libros\, así como de diversos artículos y capítulos de publicaciones nacionales e internacionales. \nDisponible aquí: \nDisponible aquí: https://www.youtube.com/live/SSCJQQdPq4w?si=UblST8b7VYWF1u95  \n19 de junio de 2024\n«El cuidado de las personas con discapacidad: de la mirada individual a la social y de derechos»\nParticipante(s): Judith Pérez Castro.\nJudith Pérez Castro es profesora e investigadora en el ISSUE. Doctora en Sociología dedica su investigación a temas vinculados con las políticas educativas\, la atención a actores sociales vulnerables y la diversidad sociocultural en la educación. Es coordinadora y autora de varios libros\, lo mismo que autora de diversos artículos especializados en derechos\, educación y poblaciones indígenas y cuidados para personas con discapacidades. \nActividades híbridas. \nSigue la transmisión en: https://www.youtube.com/c/CentrodeCienciasdelaComplejidadC3 \nLugar: Auditorio del C3\, Ciudad Universitaria.
URL:https://coordinaciongenero.unam.mx/evento/seminario-cuidados-para-la-vida-y-el-bien-comun-5a-edicion/
LOCATION:Auditorio C3\, Centro de Ciencias de la Complejidad\, Circuito Centro Cultural S/N\, (frente a Universum)\, Cd. Universitaria\, Delegación Coyoacán\, Ciudad de México\, Distrito Federal\, 04510\, Mexico
CATEGORIES:Cuidados
ATTACH;FMTTYPE=image/png:https://coordinaciongenero.unam.mx/wp-content/uploads/2021/01/unam-cigu-personas-orientadoras-textura2-e1630595419981.png
END:VEVENT
BEGIN:VEVENT
DTSTART;VALUE=DATE:20240301
DTEND;VALUE=DATE:20240405
DTSTAMP:20260425T074803
CREATED:20240221T210038Z
LAST-MODIFIED:20240223T181545Z
UID:48971-1709251200-1712275199@coordinaciongenero.unam.mx
SUMMARY:Convocatoria: «Muestra de cortometrajes: Nos sembraron miedo\, nos crecieron alas»
DESCRIPTION:Convocatoria: «Muestra de cortometrajes: Nos sembraron miedo\, nos crecieron alas»\nConvoca: Secretaría de Asuntos Académicos a través del Departamento de Atención a la Comunidad Estudiantil de la FES Acatlán. \nPostúlate para la muestra de cortometrajes con perspectiva de género. \nDirigida a: Comunidad estudiantil inscrita en el semestre 2024-II. \nRevisa la convocatoria aquí\n \nRegistro en: https://docs.google.com/forms/d/e/1FAIpQLSdEGAor2WrvSiV9xNZuo4UrCrh0jbxA3EQI5nHtjqe03mbMxg/viewform 
URL:https://coordinaciongenero.unam.mx/evento/convocatoria-muestra-de-cortometrajes-nos-sembraron-miedo-nos-crecieron-alas/
CATEGORIES:8M 2024,Convocatorias
ATTACH;FMTTYPE=image/jpeg:https://coordinaciongenero.unam.mx/wp-content/uploads/2024/02/EVENTOS-WEB-BAJA_Mesa-de-trabajo-1.jpg
END:VEVENT
BEGIN:VEVENT
DTSTART;VALUE=DATE:20240302
DTEND;VALUE=DATE:20240418
DTSTAMP:20260425T074803
CREATED:20240228T232625Z
LAST-MODIFIED:20260121T223219Z
UID:49266-1709337600-1713398399@coordinaciongenero.unam.mx
SUMMARY:Cursos para docentes de Licenciaturas de la UNAM (CIGU-DGAPA-PASD) 2024
DESCRIPTION:Cursos para docentes de Licenciaturas de la UNAM (CIGU-DGAPA-PASD) 2024\nLa Coordinación para la Igualdad de Género y el Programa de Actualización y Superación Docente (DGAPA-PASD Licenciatura) invitan al personal académico de la UNAM a los cursos: \n  \n«Diversidad Sexual\, Igualdad y Derechos Humanos: Una apuesta por la inclusión»\nFacilita: Dra. Tania Esmeralda Rocha Sánchez. \nID: 13705 \nFechas y horarios: Sábados\, del 02 al 30 de marzo de 2024. Con un horario de 9:00 a 13:00 hrs \nModalidad: Sesiones sincrónicas en línea. \n \n\n«Docencia y perspectiva de género»\nFacilita: Dra. Viridiana Becerril Fernández. \nID: 13706 \nFechas y horarios: Martes y jueves\, del 05 al 23 de marzo de 2024. Con un horario de 10:00 a 12:30 hrs. \nModalidad: Sesiones sincrónicas en línea. \n \n\n«Feminismo (s)\, sexo-género y violencia: relaciones con la docencia y la producción de conocimiento»\nFacilita: Mtra. Laura Rosales Ponce de León. \nID: 13707 \nFechas y horarios: Lunes a viernes\, del 11 al 15 de marzo de 2024. Con un horario de 16:00 a 20:00 hrs. \nModalidad: Sesiones sincrónicas en línea. \n \n  \n«Ciencia Inclusiva: Descubriendo el papel del género en la investigación»\nFacilita: Mtra. Nicté Yasmín Luna Medina. \nID: 13708 \nFechas y horarios: Miércoles\, del 13 al 17 de abril de 2024. Con un horario de 16:00 a 20:00 hrs. \nModalidad: Sesiones sincrónicas en línea. \n \n  \nNOTA SOBRE INSCRIPCIONES:\nTe comentamos que los cursos del Programa de Actualización y Superación Docente contemplan únicamente al personal académico de la Universidad\, adscrito con número de trabajador(a/e) y que esté en la nómina. \nSin embargo\, existen otros casos que también se toman en cuenta y estos tienen sus propios requisitos: \nCASO 1: Persona académica en proceso de adscripción o docente en la UNAM\nSi existe una adscripción como Académico o Académica en proceso\, o bien\, que la persona postulante ha sido docente\, al menos en el semestre anterior inmediato en la Universidad. \nPara poder comprobar dicho proceso es necesario: \n\nContar con un documento oficial firmado y sellado por la autoridad competente (puede ser: copia de la hoja única de contratación\, credencial resellada\, talón de pago\, constancia de asignación de grupos vigente firmada y sellada por la entidad de adscripción). Esto aplicaría\, en todo caso\, para las\, los y les docentes o académicos que no se encuentren vigentes en nómina (pero que hayan tenido adscripción en el semestre inmediato anterior)\, los profesores cuya adscripción se encuentra en trámite y personas docentes jubiladas.\nPara efectuar este tipo de inscripción será necesario escribir a los correos electrónicos: actlic@dgapa.unam.mx y pasd@dgapa.unam.mx\, con la documentación anteriormente mencionada\, más los siguientes datos:\n\nel nombre del curso al que se desea inscribir\nnombre\nRFC\nCURP\ncorreo electrónico\nnúmero telefónico de contacto\n\n\n\nNota: Para que se les considere como personal académico de la UNAM\, la inscripción se llevará a cabo siempre y cuando la solicitud cumpla con lo antes descrito\, el curso tenga cupo y se realice dentro de los tiempos establecidos (a más tardar el día del inicio del curso). \nCASO 2: “Persona académica externa” adscrita o no a la UNAM\nEn el caso de que no se cuente con algún documento de esta índole\, debes registrarte bajo el procedimiento de “Persona académica externa”. Las personas docentes externas pueden ser académicas en otra institución adscrita a la UNAM (Medio Superior o Licenciatura)\, o bien\, de otra entidad educativa no adscrita a la Universidad. \nEn este caso\, los cursos tendrán costo. \n\nSi es por parte de una escuela incorporada el costo del curso es de 35 pesos por hora.\nPara escuelas no incorporadas el costo es de 50 por hora.\n\nImportante: El pago es único y no hay devolución. \nMayor información: \nCorreo de los cursos PASD: pasd@dgapa.unam.mx \n  \nINSCRIPCIONES Y PROGRAAS AQUÍ\n  \nGuia de inscripción\n  \nPodría interesarte
URL:https://coordinaciongenero.unam.mx/evento/pasd-marzo-2024/
CATEGORIES:Curso,Educación para la igualdad,Masculinidades,Violencia de Género
ATTACH;FMTTYPE=image/png:https://coordinaciongenero.unam.mx/wp-content/uploads/2022/04/cursosdocentes-imagenweb-04.png
END:VEVENT
BEGIN:VEVENT
DTSTART;VALUE=DATE:20240408
DTEND;VALUE=DATE:20240504
DTSTAMP:20260425T074803
CREATED:20240403T213710Z
LAST-MODIFIED:20260121T223123Z
UID:51237-1712534400-1714780799@coordinaciongenero.unam.mx
SUMMARY:Cursos para personal académico de la UNAM (CIGU-PASD) 2024
DESCRIPTION:Cursos para personal académico de la UNAM (CIGU-PASD) 2024\nLa Coordinación para la Igualdad de Género y el Programa de Actualización y Superación Docente (DGAPA-PASD Licenciatura) invitan al personal académico de la UNAM a los cursos: \n  \n«Otras masculinidades son posibles. Creando vínculos libres de violencia de género en el contexto escolar»\nFacilita: Mtro. Marco Antonio Osorio Orozco. \nID: 13929 \nFechas y horarios: Lunes\, miércoles y viernes del 08 al 24 de abril de 2024\, 16:00 a 18:30 hrs \nModalidad: Sesiones sincrónicas en línea. \n \n\n«Prevención de la violencia por razones de género en la UNAM. Construcción de comunidades seguras»\nFacilita: Mtra. Tania Jimena Hernández Crespo. \nID: 13930 \nFechas y horarios: Lunes\, miércoles y viernes del 15 de abril al 03 de mayo de 2024\, 10:00 a 12:30 hrs \nModalidad: Sesiones sincrónicas en línea. \n \n  \nNOTA SOBRE INSCRIPCIONES:\nTe comentamos que los cursos del Programa de Actualización y Superación Docente contemplan únicamente al personal académico de la Universidad\, adscrito con número de trabajador(a/e) y que esté en la nómina. \nSin embargo\, existen otros casos que también se toman en cuenta y estos tienen sus propios requisitos: \nCASO 1: Persona académica en proceso de adscripción o docente en la UNAM\nSi existe una adscripción como Académico o Académica en proceso\, o bien\, que la persona postulante ha sido docente\, al menos en el semestre anterior inmediato en la Universidad. \nPara poder comprobar dicho proceso es necesario: \n\nContar con un documento oficial firmado y sellado por la autoridad competente (puede ser: copia de la hoja única de contratación\, credencial resellada\, talón de pago\, constancia de asignación de grupos vigente firmada y sellada por la entidad de adscripción). Esto aplicaría\, en todo caso\, para las\, los y les docentes o académicos que no se encuentren vigentes en nómina (pero que hayan tenido adscripción en el semestre inmediato anterior)\, los profesores cuya adscripción se encuentra en trámite y personas docentes jubiladas.\nPara efectuar este tipo de inscripción será necesario escribir a los correos electrónicos: actlic@dgapa.unam.mx y pasd@dgapa.unam.mx\, con la documentación anteriormente mencionada\, más los siguientes datos:\n\nel nombre del curso al que se desea inscribir\nnombre\nRFC\nCURP\ncorreo electrónico\nnúmero telefónico de contacto\n\n\n\nNota: Para que se les considere como personal académico de la UNAM\, la inscripción se llevará a cabo siempre y cuando la solicitud cumpla con lo antes descrito\, el curso tenga cupo y se realice dentro de los tiempos establecidos (a más tardar el día del inicio del curso). \nCASO 2: “Persona académica externa” adscrita o no a la UNAM\nEn el caso de que no se cuente con algún documento de esta índole\, debes registrarte bajo el procedimiento de “Persona académica externa”. Las personas docentes externas pueden ser académicas en otra institución adscrita a la UNAM (Medio Superior o Licenciatura)\, o bien\, de otra entidad educativa no adscrita a la Universidad. \nEn este caso\, los cursos tendrán costo. \n\nSi es por parte de una escuela incorporada el costo del curso es de 35 pesos por hora.\nPara escuelas no incorporadas el costo es de 50 por hora.\n\nImportante: El pago es único y no hay devolución. \nMayor información: \nCorreo de los cursos PASD: pasd@dgapa.unam.mx \n  \nINSCRIPCIONES Y PROGRAMAS AQUÍ\n  \nGuia de inscripción\n  \nPodría interesarte
URL:https://coordinaciongenero.unam.mx/evento/cursos-para-personal-academico-de-la-unam-cigu-pasd-2024/
CATEGORIES:Curso,Educación para la igualdad,Masculinidades,Violencia de Género
ATTACH;FMTTYPE=image/png:https://coordinaciongenero.unam.mx/wp-content/uploads/2022/04/cursosdocentes-imagenweb-04.png
END:VEVENT
BEGIN:VEVENT
DTSTART;VALUE=DATE:20240404
DTEND;VALUE=DATE:20240405
DTSTAMP:20260425T074803
CREATED:20240406T025555Z
LAST-MODIFIED:20240412T195311Z
UID:51324-1712188800-1712275199@coordinaciongenero.unam.mx
SUMMARY:Publicación de infografía: «Día Internacional contra la Explotación Sexual Infantil»
DESCRIPTION:Organizado por: CInIG del Instituto de Ingeniería. \nSe publica por redes sociales y por Cuenta de Avisos institucional material preparado para difundir la importancia de conocer las formas de violencia sexual contra las infancias para poder detectarlas\, denunciarlas\, prevenirlas y erradicarlas. \nDirigido a: Público en general. \nConsulta el material aquí: https://www.facebook.com/photo/?fbid=453135383736927&set=a.279706947746439
URL:https://coordinaciongenero.unam.mx/evento/publicacion-de-infografia-dia-internacional-contra-la-explotacion-sexual-infantil/
CATEGORIES:Niñeces
ATTACH;FMTTYPE=image/jpeg:https://coordinaciongenero.unam.mx/wp-content/uploads/2021/03/TEXTURA-1AÑO_ytthumbnail.jpg
END:VEVENT
BEGIN:VEVENT
DTSTART;VALUE=DATE:20240404
DTEND;VALUE=DATE:20240405
DTSTAMP:20260425T074803
CREATED:20240605T030329Z
LAST-MODIFIED:20240724T021837Z
UID:53349-1712188800-1712275199@coordinaciongenero.unam.mx
SUMMARY:«El cuidado del patrimonio biocultural en la era del mezcal»
DESCRIPTION:«El cuidado del patrimonio biocultural en la era del mezcal»\nParticipante(s): Alfonso Valiente Banuet. \nAlfonso Valiente Banuet es biólogo y ecólogo especialista en la biodiversidad de las zonas áridas y semiáridas de México\, así como en los efectos del cambio climático y las actividades humanas en el colapso de los ecosistemas. Doctor\, profesor e investigador del Instituto de Ecología y del C3 de la UNAM\, ha coordinado importantes proyectos y redes nacionales e internacionales para la protección del Medio Ambiente. Además\, es autor de capítulos\, artículos y libros especializados en sus líneas de investigación. \nDisponible aquí: https://www.youtube.com/watch?v=b12_0iGtOdE
URL:https://coordinaciongenero.unam.mx/evento/el-cuidado-del-patrimonio-biocultural-en-la-era-del-mezcal-2/
LOCATION:Instituto de Investigaciones Filológicas\, Instituto de Investigaciones Filológicas\, Circuito Mario de la Cueva s/n\, C.U.\, Coyoacán\, 04510\, Ciudad de México.\, Ciudad de México\, Distrito Federal\, 04510\, Mexico
CATEGORIES:Cuidados
ATTACH;FMTTYPE=image/png:https://coordinaciongenero.unam.mx/wp-content/uploads/2024/05/unam-cigu-texturas-eventos-3.png
END:VEVENT
END:VCALENDAR